BEGIN:VCALENDAR
VERSION:2.0
PRODID:-//ArabishWay - ECPv6.15.20//NONSGML v1.0//EN
CALSCALE:GREGORIAN
METHOD:PUBLISH
X-WR-CALNAME:ArabishWay
X-ORIGINAL-URL:https://arabishway.com
X-WR-CALDESC:Events for ArabishWay
REFRESH-INTERVAL;VALUE=DURATION:PT1H
X-Robots-Tag:noindex
X-PUBLISHED-TTL:PT1H
BEGIN:VTIMEZONE
TZID:America/Los_Angeles
BEGIN:DAYLIGHT
TZOFFSETFROM:-0800
TZOFFSETTO:-0700
TZNAME:PDT
DTSTART:20230312T100000
END:DAYLIGHT
BEGIN:STANDARD
TZOFFSETFROM:-0700
TZOFFSETTO:-0800
TZNAME:PST
DTSTART:20231105T090000
END:STANDARD
BEGIN:DAYLIGHT
TZOFFSETFROM:-0800
TZOFFSETTO:-0700
TZNAME:PDT
DTSTART:20240310T100000
END:DAYLIGHT
BEGIN:STANDARD
TZOFFSETFROM:-0700
TZOFFSETTO:-0800
TZNAME:PST
DTSTART:20241103T090000
END:STANDARD
BEGIN:DAYLIGHT
TZOFFSETFROM:-0800
TZOFFSETTO:-0700
TZNAME:PDT
DTSTART:20250309T100000
END:DAYLIGHT
BEGIN:STANDARD
TZOFFSETFROM:-0700
TZOFFSETTO:-0800
TZNAME:PST
DTSTART:20251102T090000
END:STANDARD
END:VTIMEZONE
BEGIN:VEVENT
DTSTART;TZID=America/Los_Angeles:20240803T130000
DTEND;TZID=America/Los_Angeles:20240803T150000
DTSTAMP:20260424T085155
CREATED:20240801T200158Z
LAST-MODIFIED:20240801T200158Z
UID:10002587-1722690000-1722697200@arabishway.com
SUMMARY:300+ Days of Genocide:  Rally at Westlake Park
DESCRIPTION:This week will mark 300 days since the beginning of Israel’s genocidal onslaught on Gaza. Throughout these 300 days\, a projected 186\,000+ Palestinians have been murdered by the Zionist entity\, the bombardment of the Gaza Strip has led to its complete destruction\, and thousands of Palestinians have been imprisoned or disappeared – in addition to the thousands already held in the illegitimate occupation jails. \nThe US government has shown that its commitment is to supporting Israel carry out a genocide. We the people must come out and show that our commitment is to the Palestinian struggle and is only getting stronger\, and that our fight for a free Palestine will never waver. Bring friends\, comrades\, signs\, love for our martyrs\, and above all – bring your readiness to keep fighting and carry our struggle forward. \nNone of us are free until we are all free. This genocide must come to an end\, and Palestine must be liberated!
URL:https://arabishway.com/event/300-days-of-genocide-rally-at-westlake-park/
LOCATION:Westlake Park\, 401 Pine St.\, Seattle\, WA\, 98101
CATEGORIES:Gathering,Social Justice
ATTACH;FMTTYPE=image/png:https://arabishway.com/wp-content/uploads/2024/08/Screenshot-2024-08-01-at-12.58.15 PM.png
END:VEVENT
BEGIN:VEVENT
DTSTART;TZID=America/Los_Angeles:20240511T140000
DTEND;TZID=America/Los_Angeles:20240511T160000
DTSTAMP:20260424T085155
CREATED:20240428T234517Z
LAST-MODIFIED:20240428T235039Z
UID:10002391-1715436000-1715443200@arabishway.com
SUMMARY:Nakba 76: Day of Palestinian Struggle
DESCRIPTION:Westlake Park\, Downtown Seattle | Sat\, May 11 | 2pm\nJoin us in the streets as we honor the Palestinian day of struggle and fight against 7 months and 76 years of genocide\, military occupation\, and settler colonialism at the hands of the Zionist regime in Palestine.\nMore than ever\, we must show out in force to demonstrate the power of the Palestinian struggle for liberation. Join us and help uplift 76 years of unified and steadfast resistance towards a free Palestine\, from the river to the sea!\nhttps://www.instagram.com/p/C6RdUAnxGLa/\nhttps://fb.me/e/2bUOhyMB7
URL:https://arabishway.com/event/nakba-76-day-of-palestinian-struggle/
LOCATION:Westlake Park\, 401 Pine St.\, Seattle\, WA\, 98101
CATEGORIES:Social Justice
ATTACH;FMTTYPE=image/png:https://arabishway.com/wp-content/uploads/2024/04/Screenshot-2024-04-28-at-4.47.04-PM.png
END:VEVENT
END:VCALENDAR