BEGIN:VCALENDAR
VERSION:2.0
PRODID:-//ArabishWay - ECPv6.15.20//NONSGML v1.0//EN
CALSCALE:GREGORIAN
METHOD:PUBLISH
X-WR-CALNAME:ArabishWay
X-ORIGINAL-URL:https://arabishway.com
X-WR-CALDESC:Events for ArabishWay
REFRESH-INTERVAL;VALUE=DURATION:PT1H
X-Robots-Tag:noindex
X-PUBLISHED-TTL:PT1H
BEGIN:VTIMEZONE
TZID:America/Los_Angeles
BEGIN:DAYLIGHT
TZOFFSETFROM:-0800
TZOFFSETTO:-0700
TZNAME:PDT
DTSTART:20260308T100000
END:DAYLIGHT
BEGIN:STANDARD
TZOFFSETFROM:-0700
TZOFFSETTO:-0800
TZNAME:PST
DTSTART:20261101T090000
END:STANDARD
BEGIN:DAYLIGHT
TZOFFSETFROM:-0800
TZOFFSETTO:-0700
TZNAME:PDT
DTSTART:20270314T100000
END:DAYLIGHT
BEGIN:STANDARD
TZOFFSETFROM:-0700
TZOFFSETTO:-0800
TZNAME:PST
DTSTART:20271107T090000
END:STANDARD
BEGIN:DAYLIGHT
TZOFFSETFROM:-0800
TZOFFSETTO:-0700
TZNAME:PDT
DTSTART:20280312T100000
END:DAYLIGHT
BEGIN:STANDARD
TZOFFSETFROM:-0700
TZOFFSETTO:-0800
TZNAME:PST
DTSTART:20281105T090000
END:STANDARD
END:VTIMEZONE
BEGIN:VEVENT
DTSTART;TZID=America/Los_Angeles:20270917T110000
DTEND;TZID=America/Los_Angeles:20270917T113000
DTSTAMP:20260424T120521
CREATED:20260131T063006Z
LAST-MODIFIED:20260131T063408Z
UID:10005229-1821178800-1821180600@arabishway.com
SUMMARY:Rainbow Story Time (online) w/ Lindz Amer
DESCRIPTION:Join Lindz Amer\, the award-winning LGBTQ+ activist\, author and co-host of the beloved indie web series\, Queer Kid Stuff\, for songs and stories that celebrate the LGBTQ+ community all-year-round. \nAll ages welcome with adult.  \nPlease register: \nhttps://kcls.zoom.us/meeting/register/tZEvdOuqpzssGtC5XlvnFdvIAD2bwlBzP-RA \n\n\n\n 
URL:https://arabishway.com/event/rainbow-story-time-online-w-lindz-amer-2026/2027-09-17/
LOCATION:Virtual
CATEGORIES:Story Time
ATTACH;FMTTYPE=image/png:https://arabishway.com/wp-content/uploads/2024/05/Lindz-Amer-RainbowStoryTimes.png
END:VEVENT
BEGIN:VEVENT
DTSTART;TZID=America/Los_Angeles:20270918T090000
DTEND;TZID=America/Los_Angeles:20270918T110000
DTSTAMP:20260424T120521
CREATED:20251129T174747Z
LAST-MODIFIED:20251228T182031Z
UID:10004371-1821258000-1821265200@arabishway.com
SUMMARY:Virtual Movie Screenings: Every Saturday with Palestine Museum US
DESCRIPTION:Check website: https://www.palestinemuseum.us/events for current showings and for registration links! \nOften the screening ends with a Q&A with the director! \n 
URL:https://arabishway.com/event/virtual-movie-screenings-every-saturday-with-palestine-museum-us-2026/2027-09-18/
LOCATION:Virtual
CATEGORIES:Movie
ATTACH;FMTTYPE=image/jpeg:https://arabishway.com/wp-content/uploads/2020/11/palestine-museum.jpg
END:VEVENT
BEGIN:VEVENT
DTSTART;TZID=America/Los_Angeles:20270923T170000
DTEND;TZID=America/Los_Angeles:20270923T173000
DTSTAMP:20260424T120521
CREATED:20250929T022459Z
LAST-MODIFIED:20251228T233645Z
UID:10004662-1821718800-1821720600@arabishway.com
SUMMARY:وقت القصة باللغة العربية / Arabic Story Time - KCLS
DESCRIPTION:Enjoy stories\, music\, movement and rhymes in Arabic that develop your child’s early literacy skills\, then stay to play\, have fun and make new friends. \nAll ages welcome. \n\n\nوقت القصة باللغة العربية \n!انضموا إلينا في وقت القصة باللغة العربية عبر الإنترنت، كل يوم خميس من الساعة 5:00 مساءً حتى 5:30 مساءً \n.تمتعوا بالقصص العربية، والحركات المفعمة بالحيوية، والأناشيد التي تهدف إلى تنمية مهارات القراءة والكتابة… \n\n\nRegistration requiredRegister for event
URL:https://arabishway.com/event/arabic-story-time-kcls-online/2027-09-23/
LOCATION:Virtual
CATEGORIES:Story Time
ATTACH;FMTTYPE=image/jpeg:https://arabishway.com/wp-content/uploads/2023/10/KCLS-story-time-e1711492509450.jpeg
END:VEVENT
BEGIN:VEVENT
DTSTART;TZID=America/Los_Angeles:20270924T110000
DTEND;TZID=America/Los_Angeles:20270924T113000
DTSTAMP:20260424T120521
CREATED:20260131T063006Z
LAST-MODIFIED:20260131T063408Z
UID:10005230-1821783600-1821785400@arabishway.com
SUMMARY:Rainbow Story Time (online) w/ Lindz Amer
DESCRIPTION:Join Lindz Amer\, the award-winning LGBTQ+ activist\, author and co-host of the beloved indie web series\, Queer Kid Stuff\, for songs and stories that celebrate the LGBTQ+ community all-year-round. \nAll ages welcome with adult.  \nPlease register: \nhttps://kcls.zoom.us/meeting/register/tZEvdOuqpzssGtC5XlvnFdvIAD2bwlBzP-RA \n\n\n\n 
URL:https://arabishway.com/event/rainbow-story-time-online-w-lindz-amer-2026/2027-09-24/
LOCATION:Virtual
CATEGORIES:Story Time
ATTACH;FMTTYPE=image/png:https://arabishway.com/wp-content/uploads/2024/05/Lindz-Amer-RainbowStoryTimes.png
END:VEVENT
BEGIN:VEVENT
DTSTART;TZID=America/Los_Angeles:20270925T090000
DTEND;TZID=America/Los_Angeles:20270925T110000
DTSTAMP:20260424T120521
CREATED:20251129T174747Z
LAST-MODIFIED:20251228T182031Z
UID:10004372-1821862800-1821870000@arabishway.com
SUMMARY:Virtual Movie Screenings: Every Saturday with Palestine Museum US
DESCRIPTION:Check website: https://www.palestinemuseum.us/events for current showings and for registration links! \nOften the screening ends with a Q&A with the director! \n 
URL:https://arabishway.com/event/virtual-movie-screenings-every-saturday-with-palestine-museum-us-2026/2027-09-25/
LOCATION:Virtual
CATEGORIES:Movie
ATTACH;FMTTYPE=image/jpeg:https://arabishway.com/wp-content/uploads/2020/11/palestine-museum.jpg
END:VEVENT
BEGIN:VEVENT
DTSTART;TZID=America/Los_Angeles:20270930T170000
DTEND;TZID=America/Los_Angeles:20270930T173000
DTSTAMP:20260424T120521
CREATED:20250929T022459Z
LAST-MODIFIED:20251228T233645Z
UID:10004663-1822323600-1822325400@arabishway.com
SUMMARY:وقت القصة باللغة العربية / Arabic Story Time - KCLS
DESCRIPTION:Enjoy stories\, music\, movement and rhymes in Arabic that develop your child’s early literacy skills\, then stay to play\, have fun and make new friends. \nAll ages welcome. \n\n\nوقت القصة باللغة العربية \n!انضموا إلينا في وقت القصة باللغة العربية عبر الإنترنت، كل يوم خميس من الساعة 5:00 مساءً حتى 5:30 مساءً \n.تمتعوا بالقصص العربية، والحركات المفعمة بالحيوية، والأناشيد التي تهدف إلى تنمية مهارات القراءة والكتابة… \n\n\nRegistration requiredRegister for event
URL:https://arabishway.com/event/arabic-story-time-kcls-online/2027-09-30/
LOCATION:Virtual
CATEGORIES:Story Time
ATTACH;FMTTYPE=image/jpeg:https://arabishway.com/wp-content/uploads/2023/10/KCLS-story-time-e1711492509450.jpeg
END:VEVENT
BEGIN:VEVENT
DTSTART;TZID=America/Los_Angeles:20271001T110000
DTEND;TZID=America/Los_Angeles:20271001T113000
DTSTAMP:20260424T120521
CREATED:20260131T063006Z
LAST-MODIFIED:20260131T063408Z
UID:10005231-1822388400-1822390200@arabishway.com
SUMMARY:Rainbow Story Time (online) w/ Lindz Amer
DESCRIPTION:Join Lindz Amer\, the award-winning LGBTQ+ activist\, author and co-host of the beloved indie web series\, Queer Kid Stuff\, for songs and stories that celebrate the LGBTQ+ community all-year-round. \nAll ages welcome with adult.  \nPlease register: \nhttps://kcls.zoom.us/meeting/register/tZEvdOuqpzssGtC5XlvnFdvIAD2bwlBzP-RA \n\n\n\n 
URL:https://arabishway.com/event/rainbow-story-time-online-w-lindz-amer-2026/2027-10-01/
LOCATION:Virtual
CATEGORIES:Story Time
ATTACH;FMTTYPE=image/png:https://arabishway.com/wp-content/uploads/2024/05/Lindz-Amer-RainbowStoryTimes.png
END:VEVENT
BEGIN:VEVENT
DTSTART;TZID=America/Los_Angeles:20271002T090000
DTEND;TZID=America/Los_Angeles:20271002T110000
DTSTAMP:20260424T120521
CREATED:20251129T174747Z
LAST-MODIFIED:20251228T182031Z
UID:10004373-1822467600-1822474800@arabishway.com
SUMMARY:Virtual Movie Screenings: Every Saturday with Palestine Museum US
DESCRIPTION:Check website: https://www.palestinemuseum.us/events for current showings and for registration links! \nOften the screening ends with a Q&A with the director! \n 
URL:https://arabishway.com/event/virtual-movie-screenings-every-saturday-with-palestine-museum-us-2026/2027-10-02/
LOCATION:Virtual
CATEGORIES:Movie
ATTACH;FMTTYPE=image/jpeg:https://arabishway.com/wp-content/uploads/2020/11/palestine-museum.jpg
END:VEVENT
BEGIN:VEVENT
DTSTART;TZID=America/Los_Angeles:20271007T170000
DTEND;TZID=America/Los_Angeles:20271007T173000
DTSTAMP:20260424T120521
CREATED:20250929T022459Z
LAST-MODIFIED:20251228T233645Z
UID:10004664-1822928400-1822930200@arabishway.com
SUMMARY:وقت القصة باللغة العربية / Arabic Story Time - KCLS
DESCRIPTION:Enjoy stories\, music\, movement and rhymes in Arabic that develop your child’s early literacy skills\, then stay to play\, have fun and make new friends. \nAll ages welcome. \n\n\nوقت القصة باللغة العربية \n!انضموا إلينا في وقت القصة باللغة العربية عبر الإنترنت، كل يوم خميس من الساعة 5:00 مساءً حتى 5:30 مساءً \n.تمتعوا بالقصص العربية، والحركات المفعمة بالحيوية، والأناشيد التي تهدف إلى تنمية مهارات القراءة والكتابة… \n\n\nRegistration requiredRegister for event
URL:https://arabishway.com/event/arabic-story-time-kcls-online/2027-10-07/
LOCATION:Virtual
CATEGORIES:Story Time
ATTACH;FMTTYPE=image/jpeg:https://arabishway.com/wp-content/uploads/2023/10/KCLS-story-time-e1711492509450.jpeg
END:VEVENT
BEGIN:VEVENT
DTSTART;TZID=America/Los_Angeles:20271008T110000
DTEND;TZID=America/Los_Angeles:20271008T113000
DTSTAMP:20260424T120521
CREATED:20260131T063006Z
LAST-MODIFIED:20260131T063408Z
UID:10005232-1822993200-1822995000@arabishway.com
SUMMARY:Rainbow Story Time (online) w/ Lindz Amer
DESCRIPTION:Join Lindz Amer\, the award-winning LGBTQ+ activist\, author and co-host of the beloved indie web series\, Queer Kid Stuff\, for songs and stories that celebrate the LGBTQ+ community all-year-round. \nAll ages welcome with adult.  \nPlease register: \nhttps://kcls.zoom.us/meeting/register/tZEvdOuqpzssGtC5XlvnFdvIAD2bwlBzP-RA \n\n\n\n 
URL:https://arabishway.com/event/rainbow-story-time-online-w-lindz-amer-2026/2027-10-08/
LOCATION:Virtual
CATEGORIES:Story Time
ATTACH;FMTTYPE=image/png:https://arabishway.com/wp-content/uploads/2024/05/Lindz-Amer-RainbowStoryTimes.png
END:VEVENT
BEGIN:VEVENT
DTSTART;TZID=America/Los_Angeles:20271009T090000
DTEND;TZID=America/Los_Angeles:20271009T110000
DTSTAMP:20260424T120521
CREATED:20251129T174747Z
LAST-MODIFIED:20251228T182031Z
UID:10004374-1823072400-1823079600@arabishway.com
SUMMARY:Virtual Movie Screenings: Every Saturday with Palestine Museum US
DESCRIPTION:Check website: https://www.palestinemuseum.us/events for current showings and for registration links! \nOften the screening ends with a Q&A with the director! \n 
URL:https://arabishway.com/event/virtual-movie-screenings-every-saturday-with-palestine-museum-us-2026/2027-10-09/
LOCATION:Virtual
CATEGORIES:Movie
ATTACH;FMTTYPE=image/jpeg:https://arabishway.com/wp-content/uploads/2020/11/palestine-museum.jpg
END:VEVENT
BEGIN:VEVENT
DTSTART;TZID=America/Los_Angeles:20271014T170000
DTEND;TZID=America/Los_Angeles:20271014T173000
DTSTAMP:20260424T120521
CREATED:20250929T022459Z
LAST-MODIFIED:20251228T233645Z
UID:10004665-1823533200-1823535000@arabishway.com
SUMMARY:وقت القصة باللغة العربية / Arabic Story Time - KCLS
DESCRIPTION:Enjoy stories\, music\, movement and rhymes in Arabic that develop your child’s early literacy skills\, then stay to play\, have fun and make new friends. \nAll ages welcome. \n\n\nوقت القصة باللغة العربية \n!انضموا إلينا في وقت القصة باللغة العربية عبر الإنترنت، كل يوم خميس من الساعة 5:00 مساءً حتى 5:30 مساءً \n.تمتعوا بالقصص العربية، والحركات المفعمة بالحيوية، والأناشيد التي تهدف إلى تنمية مهارات القراءة والكتابة… \n\n\nRegistration requiredRegister for event
URL:https://arabishway.com/event/arabic-story-time-kcls-online/2027-10-14/
LOCATION:Virtual
CATEGORIES:Story Time
ATTACH;FMTTYPE=image/jpeg:https://arabishway.com/wp-content/uploads/2023/10/KCLS-story-time-e1711492509450.jpeg
END:VEVENT
BEGIN:VEVENT
DTSTART;TZID=America/Los_Angeles:20271015T110000
DTEND;TZID=America/Los_Angeles:20271015T113000
DTSTAMP:20260424T120521
CREATED:20260131T063006Z
LAST-MODIFIED:20260131T063408Z
UID:10005233-1823598000-1823599800@arabishway.com
SUMMARY:Rainbow Story Time (online) w/ Lindz Amer
DESCRIPTION:Join Lindz Amer\, the award-winning LGBTQ+ activist\, author and co-host of the beloved indie web series\, Queer Kid Stuff\, for songs and stories that celebrate the LGBTQ+ community all-year-round. \nAll ages welcome with adult.  \nPlease register: \nhttps://kcls.zoom.us/meeting/register/tZEvdOuqpzssGtC5XlvnFdvIAD2bwlBzP-RA \n\n\n\n 
URL:https://arabishway.com/event/rainbow-story-time-online-w-lindz-amer-2026/2027-10-15/
LOCATION:Virtual
CATEGORIES:Story Time
ATTACH;FMTTYPE=image/png:https://arabishway.com/wp-content/uploads/2024/05/Lindz-Amer-RainbowStoryTimes.png
END:VEVENT
BEGIN:VEVENT
DTSTART;TZID=America/Los_Angeles:20271016T090000
DTEND;TZID=America/Los_Angeles:20271016T110000
DTSTAMP:20260424T120521
CREATED:20251129T174747Z
LAST-MODIFIED:20251228T182031Z
UID:10004375-1823677200-1823684400@arabishway.com
SUMMARY:Virtual Movie Screenings: Every Saturday with Palestine Museum US
DESCRIPTION:Check website: https://www.palestinemuseum.us/events for current showings and for registration links! \nOften the screening ends with a Q&A with the director! \n 
URL:https://arabishway.com/event/virtual-movie-screenings-every-saturday-with-palestine-museum-us-2026/2027-10-16/
LOCATION:Virtual
CATEGORIES:Movie
ATTACH;FMTTYPE=image/jpeg:https://arabishway.com/wp-content/uploads/2020/11/palestine-museum.jpg
END:VEVENT
BEGIN:VEVENT
DTSTART;TZID=America/Los_Angeles:20271021T170000
DTEND;TZID=America/Los_Angeles:20271021T173000
DTSTAMP:20260424T120521
CREATED:20250929T022459Z
LAST-MODIFIED:20251228T233645Z
UID:10004666-1824138000-1824139800@arabishway.com
SUMMARY:وقت القصة باللغة العربية / Arabic Story Time - KCLS
DESCRIPTION:Enjoy stories\, music\, movement and rhymes in Arabic that develop your child’s early literacy skills\, then stay to play\, have fun and make new friends. \nAll ages welcome. \n\n\nوقت القصة باللغة العربية \n!انضموا إلينا في وقت القصة باللغة العربية عبر الإنترنت، كل يوم خميس من الساعة 5:00 مساءً حتى 5:30 مساءً \n.تمتعوا بالقصص العربية، والحركات المفعمة بالحيوية، والأناشيد التي تهدف إلى تنمية مهارات القراءة والكتابة… \n\n\nRegistration requiredRegister for event
URL:https://arabishway.com/event/arabic-story-time-kcls-online/2027-10-21/
LOCATION:Virtual
CATEGORIES:Story Time
ATTACH;FMTTYPE=image/jpeg:https://arabishway.com/wp-content/uploads/2023/10/KCLS-story-time-e1711492509450.jpeg
END:VEVENT
BEGIN:VEVENT
DTSTART;TZID=America/Los_Angeles:20271022T110000
DTEND;TZID=America/Los_Angeles:20271022T113000
DTSTAMP:20260424T120521
CREATED:20260131T063006Z
LAST-MODIFIED:20260131T063408Z
UID:10005234-1824202800-1824204600@arabishway.com
SUMMARY:Rainbow Story Time (online) w/ Lindz Amer
DESCRIPTION:Join Lindz Amer\, the award-winning LGBTQ+ activist\, author and co-host of the beloved indie web series\, Queer Kid Stuff\, for songs and stories that celebrate the LGBTQ+ community all-year-round. \nAll ages welcome with adult.  \nPlease register: \nhttps://kcls.zoom.us/meeting/register/tZEvdOuqpzssGtC5XlvnFdvIAD2bwlBzP-RA \n\n\n\n 
URL:https://arabishway.com/event/rainbow-story-time-online-w-lindz-amer-2026/2027-10-22/
LOCATION:Virtual
CATEGORIES:Story Time
ATTACH;FMTTYPE=image/png:https://arabishway.com/wp-content/uploads/2024/05/Lindz-Amer-RainbowStoryTimes.png
END:VEVENT
BEGIN:VEVENT
DTSTART;TZID=America/Los_Angeles:20271023T090000
DTEND;TZID=America/Los_Angeles:20271023T110000
DTSTAMP:20260424T120521
CREATED:20251129T174747Z
LAST-MODIFIED:20251228T182031Z
UID:10004376-1824282000-1824289200@arabishway.com
SUMMARY:Virtual Movie Screenings: Every Saturday with Palestine Museum US
DESCRIPTION:Check website: https://www.palestinemuseum.us/events for current showings and for registration links! \nOften the screening ends with a Q&A with the director! \n 
URL:https://arabishway.com/event/virtual-movie-screenings-every-saturday-with-palestine-museum-us-2026/2027-10-23/
LOCATION:Virtual
CATEGORIES:Movie
ATTACH;FMTTYPE=image/jpeg:https://arabishway.com/wp-content/uploads/2020/11/palestine-museum.jpg
END:VEVENT
BEGIN:VEVENT
DTSTART;TZID=America/Los_Angeles:20271028T170000
DTEND;TZID=America/Los_Angeles:20271028T173000
DTSTAMP:20260424T120521
CREATED:20250929T022459Z
LAST-MODIFIED:20251228T233645Z
UID:10004667-1824742800-1824744600@arabishway.com
SUMMARY:وقت القصة باللغة العربية / Arabic Story Time - KCLS
DESCRIPTION:Enjoy stories\, music\, movement and rhymes in Arabic that develop your child’s early literacy skills\, then stay to play\, have fun and make new friends. \nAll ages welcome. \n\n\nوقت القصة باللغة العربية \n!انضموا إلينا في وقت القصة باللغة العربية عبر الإنترنت، كل يوم خميس من الساعة 5:00 مساءً حتى 5:30 مساءً \n.تمتعوا بالقصص العربية، والحركات المفعمة بالحيوية، والأناشيد التي تهدف إلى تنمية مهارات القراءة والكتابة… \n\n\nRegistration requiredRegister for event
URL:https://arabishway.com/event/arabic-story-time-kcls-online/2027-10-28/
LOCATION:Virtual
CATEGORIES:Story Time
ATTACH;FMTTYPE=image/jpeg:https://arabishway.com/wp-content/uploads/2023/10/KCLS-story-time-e1711492509450.jpeg
END:VEVENT
BEGIN:VEVENT
DTSTART;TZID=America/Los_Angeles:20271029T110000
DTEND;TZID=America/Los_Angeles:20271029T113000
DTSTAMP:20260424T120521
CREATED:20260131T063006Z
LAST-MODIFIED:20260131T063408Z
UID:10005235-1824807600-1824809400@arabishway.com
SUMMARY:Rainbow Story Time (online) w/ Lindz Amer
DESCRIPTION:Join Lindz Amer\, the award-winning LGBTQ+ activist\, author and co-host of the beloved indie web series\, Queer Kid Stuff\, for songs and stories that celebrate the LGBTQ+ community all-year-round. \nAll ages welcome with adult.  \nPlease register: \nhttps://kcls.zoom.us/meeting/register/tZEvdOuqpzssGtC5XlvnFdvIAD2bwlBzP-RA \n\n\n\n 
URL:https://arabishway.com/event/rainbow-story-time-online-w-lindz-amer-2026/2027-10-29/
LOCATION:Virtual
CATEGORIES:Story Time
ATTACH;FMTTYPE=image/png:https://arabishway.com/wp-content/uploads/2024/05/Lindz-Amer-RainbowStoryTimes.png
END:VEVENT
BEGIN:VEVENT
DTSTART;TZID=America/Los_Angeles:20271030T090000
DTEND;TZID=America/Los_Angeles:20271030T110000
DTSTAMP:20260424T120521
CREATED:20251129T174747Z
LAST-MODIFIED:20251228T182031Z
UID:10004377-1824886800-1824894000@arabishway.com
SUMMARY:Virtual Movie Screenings: Every Saturday with Palestine Museum US
DESCRIPTION:Check website: https://www.palestinemuseum.us/events for current showings and for registration links! \nOften the screening ends with a Q&A with the director! \n 
URL:https://arabishway.com/event/virtual-movie-screenings-every-saturday-with-palestine-museum-us-2026/2027-10-30/
LOCATION:Virtual
CATEGORIES:Movie
ATTACH;FMTTYPE=image/jpeg:https://arabishway.com/wp-content/uploads/2020/11/palestine-museum.jpg
END:VEVENT
BEGIN:VEVENT
DTSTART;TZID=America/Los_Angeles:20271104T170000
DTEND;TZID=America/Los_Angeles:20271104T173000
DTSTAMP:20260424T120521
CREATED:20250929T022459Z
LAST-MODIFIED:20251228T233645Z
UID:10004668-1825347600-1825349400@arabishway.com
SUMMARY:وقت القصة باللغة العربية / Arabic Story Time - KCLS
DESCRIPTION:Enjoy stories\, music\, movement and rhymes in Arabic that develop your child’s early literacy skills\, then stay to play\, have fun and make new friends. \nAll ages welcome. \n\n\nوقت القصة باللغة العربية \n!انضموا إلينا في وقت القصة باللغة العربية عبر الإنترنت، كل يوم خميس من الساعة 5:00 مساءً حتى 5:30 مساءً \n.تمتعوا بالقصص العربية، والحركات المفعمة بالحيوية، والأناشيد التي تهدف إلى تنمية مهارات القراءة والكتابة… \n\n\nRegistration requiredRegister for event
URL:https://arabishway.com/event/arabic-story-time-kcls-online/2027-11-04/
LOCATION:Virtual
CATEGORIES:Story Time
ATTACH;FMTTYPE=image/jpeg:https://arabishway.com/wp-content/uploads/2023/10/KCLS-story-time-e1711492509450.jpeg
END:VEVENT
BEGIN:VEVENT
DTSTART;TZID=America/Los_Angeles:20271105T110000
DTEND;TZID=America/Los_Angeles:20271105T113000
DTSTAMP:20260424T120521
CREATED:20260131T063006Z
LAST-MODIFIED:20260131T063408Z
UID:10005236-1825412400-1825414200@arabishway.com
SUMMARY:Rainbow Story Time (online) w/ Lindz Amer
DESCRIPTION:Join Lindz Amer\, the award-winning LGBTQ+ activist\, author and co-host of the beloved indie web series\, Queer Kid Stuff\, for songs and stories that celebrate the LGBTQ+ community all-year-round. \nAll ages welcome with adult.  \nPlease register: \nhttps://kcls.zoom.us/meeting/register/tZEvdOuqpzssGtC5XlvnFdvIAD2bwlBzP-RA \n\n\n\n 
URL:https://arabishway.com/event/rainbow-story-time-online-w-lindz-amer-2026/2027-11-05/
LOCATION:Virtual
CATEGORIES:Story Time
ATTACH;FMTTYPE=image/png:https://arabishway.com/wp-content/uploads/2024/05/Lindz-Amer-RainbowStoryTimes.png
END:VEVENT
BEGIN:VEVENT
DTSTART;TZID=America/Los_Angeles:20271106T090000
DTEND;TZID=America/Los_Angeles:20271106T110000
DTSTAMP:20260424T120521
CREATED:20251129T174747Z
LAST-MODIFIED:20251228T182031Z
UID:10004378-1825491600-1825498800@arabishway.com
SUMMARY:Virtual Movie Screenings: Every Saturday with Palestine Museum US
DESCRIPTION:Check website: https://www.palestinemuseum.us/events for current showings and for registration links! \nOften the screening ends with a Q&A with the director! \n 
URL:https://arabishway.com/event/virtual-movie-screenings-every-saturday-with-palestine-museum-us-2026/2027-11-06/
LOCATION:Virtual
CATEGORIES:Movie
ATTACH;FMTTYPE=image/jpeg:https://arabishway.com/wp-content/uploads/2020/11/palestine-museum.jpg
END:VEVENT
BEGIN:VEVENT
DTSTART;TZID=America/Los_Angeles:20271111T170000
DTEND;TZID=America/Los_Angeles:20271111T173000
DTSTAMP:20260424T120521
CREATED:20250929T022459Z
LAST-MODIFIED:20251228T233645Z
UID:10004669-1825952400-1825954200@arabishway.com
SUMMARY:وقت القصة باللغة العربية / Arabic Story Time - KCLS
DESCRIPTION:Enjoy stories\, music\, movement and rhymes in Arabic that develop your child’s early literacy skills\, then stay to play\, have fun and make new friends. \nAll ages welcome. \n\n\nوقت القصة باللغة العربية \n!انضموا إلينا في وقت القصة باللغة العربية عبر الإنترنت، كل يوم خميس من الساعة 5:00 مساءً حتى 5:30 مساءً \n.تمتعوا بالقصص العربية، والحركات المفعمة بالحيوية، والأناشيد التي تهدف إلى تنمية مهارات القراءة والكتابة… \n\n\nRegistration requiredRegister for event
URL:https://arabishway.com/event/arabic-story-time-kcls-online/2027-11-11/
LOCATION:Virtual
CATEGORIES:Story Time
ATTACH;FMTTYPE=image/jpeg:https://arabishway.com/wp-content/uploads/2023/10/KCLS-story-time-e1711492509450.jpeg
END:VEVENT
BEGIN:VEVENT
DTSTART;TZID=America/Los_Angeles:20271112T110000
DTEND;TZID=America/Los_Angeles:20271112T113000
DTSTAMP:20260424T120521
CREATED:20260131T063006Z
LAST-MODIFIED:20260131T063408Z
UID:10005237-1826017200-1826019000@arabishway.com
SUMMARY:Rainbow Story Time (online) w/ Lindz Amer
DESCRIPTION:Join Lindz Amer\, the award-winning LGBTQ+ activist\, author and co-host of the beloved indie web series\, Queer Kid Stuff\, for songs and stories that celebrate the LGBTQ+ community all-year-round. \nAll ages welcome with adult.  \nPlease register: \nhttps://kcls.zoom.us/meeting/register/tZEvdOuqpzssGtC5XlvnFdvIAD2bwlBzP-RA \n\n\n\n 
URL:https://arabishway.com/event/rainbow-story-time-online-w-lindz-amer-2026/2027-11-12/
LOCATION:Virtual
CATEGORIES:Story Time
ATTACH;FMTTYPE=image/png:https://arabishway.com/wp-content/uploads/2024/05/Lindz-Amer-RainbowStoryTimes.png
END:VEVENT
BEGIN:VEVENT
DTSTART;TZID=America/Los_Angeles:20271113T090000
DTEND;TZID=America/Los_Angeles:20271113T110000
DTSTAMP:20260424T120521
CREATED:20251129T174747Z
LAST-MODIFIED:20251228T182031Z
UID:10004379-1826096400-1826103600@arabishway.com
SUMMARY:Virtual Movie Screenings: Every Saturday with Palestine Museum US
DESCRIPTION:Check website: https://www.palestinemuseum.us/events for current showings and for registration links! \nOften the screening ends with a Q&A with the director! \n 
URL:https://arabishway.com/event/virtual-movie-screenings-every-saturday-with-palestine-museum-us-2026/2027-11-13/
LOCATION:Virtual
CATEGORIES:Movie
ATTACH;FMTTYPE=image/jpeg:https://arabishway.com/wp-content/uploads/2020/11/palestine-museum.jpg
END:VEVENT
BEGIN:VEVENT
DTSTART;TZID=America/Los_Angeles:20271118T170000
DTEND;TZID=America/Los_Angeles:20271118T173000
DTSTAMP:20260424T120521
CREATED:20250929T022459Z
LAST-MODIFIED:20251228T233645Z
UID:10004670-1826557200-1826559000@arabishway.com
SUMMARY:وقت القصة باللغة العربية / Arabic Story Time - KCLS
DESCRIPTION:Enjoy stories\, music\, movement and rhymes in Arabic that develop your child’s early literacy skills\, then stay to play\, have fun and make new friends. \nAll ages welcome. \n\n\nوقت القصة باللغة العربية \n!انضموا إلينا في وقت القصة باللغة العربية عبر الإنترنت، كل يوم خميس من الساعة 5:00 مساءً حتى 5:30 مساءً \n.تمتعوا بالقصص العربية، والحركات المفعمة بالحيوية، والأناشيد التي تهدف إلى تنمية مهارات القراءة والكتابة… \n\n\nRegistration requiredRegister for event
URL:https://arabishway.com/event/arabic-story-time-kcls-online/2027-11-18/
LOCATION:Virtual
CATEGORIES:Story Time
ATTACH;FMTTYPE=image/jpeg:https://arabishway.com/wp-content/uploads/2023/10/KCLS-story-time-e1711492509450.jpeg
END:VEVENT
BEGIN:VEVENT
DTSTART;TZID=America/Los_Angeles:20271119T110000
DTEND;TZID=America/Los_Angeles:20271119T113000
DTSTAMP:20260424T120521
CREATED:20260131T063006Z
LAST-MODIFIED:20260131T063408Z
UID:10005238-1826622000-1826623800@arabishway.com
SUMMARY:Rainbow Story Time (online) w/ Lindz Amer
DESCRIPTION:Join Lindz Amer\, the award-winning LGBTQ+ activist\, author and co-host of the beloved indie web series\, Queer Kid Stuff\, for songs and stories that celebrate the LGBTQ+ community all-year-round. \nAll ages welcome with adult.  \nPlease register: \nhttps://kcls.zoom.us/meeting/register/tZEvdOuqpzssGtC5XlvnFdvIAD2bwlBzP-RA \n\n\n\n 
URL:https://arabishway.com/event/rainbow-story-time-online-w-lindz-amer-2026/2027-11-19/
LOCATION:Virtual
CATEGORIES:Story Time
ATTACH;FMTTYPE=image/png:https://arabishway.com/wp-content/uploads/2024/05/Lindz-Amer-RainbowStoryTimes.png
END:VEVENT
BEGIN:VEVENT
DTSTART;TZID=America/Los_Angeles:20271120T090000
DTEND;TZID=America/Los_Angeles:20271120T110000
DTSTAMP:20260424T120521
CREATED:20251129T174747Z
LAST-MODIFIED:20251228T182031Z
UID:10004380-1826701200-1826708400@arabishway.com
SUMMARY:Virtual Movie Screenings: Every Saturday with Palestine Museum US
DESCRIPTION:Check website: https://www.palestinemuseum.us/events for current showings and for registration links! \nOften the screening ends with a Q&A with the director! \n 
URL:https://arabishway.com/event/virtual-movie-screenings-every-saturday-with-palestine-museum-us-2026/2027-11-20/
LOCATION:Virtual
CATEGORIES:Movie
ATTACH;FMTTYPE=image/jpeg:https://arabishway.com/wp-content/uploads/2020/11/palestine-museum.jpg
END:VEVENT
BEGIN:VEVENT
DTSTART;TZID=America/Los_Angeles:20271125T170000
DTEND;TZID=America/Los_Angeles:20271125T173000
DTSTAMP:20260424T120521
CREATED:20250929T022459Z
LAST-MODIFIED:20251228T233645Z
UID:10004671-1827162000-1827163800@arabishway.com
SUMMARY:وقت القصة باللغة العربية / Arabic Story Time - KCLS
DESCRIPTION:Enjoy stories\, music\, movement and rhymes in Arabic that develop your child’s early literacy skills\, then stay to play\, have fun and make new friends. \nAll ages welcome. \n\n\nوقت القصة باللغة العربية \n!انضموا إلينا في وقت القصة باللغة العربية عبر الإنترنت، كل يوم خميس من الساعة 5:00 مساءً حتى 5:30 مساءً \n.تمتعوا بالقصص العربية، والحركات المفعمة بالحيوية، والأناشيد التي تهدف إلى تنمية مهارات القراءة والكتابة… \n\n\nRegistration requiredRegister for event
URL:https://arabishway.com/event/arabic-story-time-kcls-online/2027-11-25/
LOCATION:Virtual
CATEGORIES:Story Time
ATTACH;FMTTYPE=image/jpeg:https://arabishway.com/wp-content/uploads/2023/10/KCLS-story-time-e1711492509450.jpeg
END:VEVENT
END:VCALENDAR