BEGIN:VCALENDAR
VERSION:2.0
PRODID:-//ArabishWay - ECPv6.15.20//NONSGML v1.0//EN
CALSCALE:GREGORIAN
METHOD:PUBLISH
X-ORIGINAL-URL:https://arabishway.com
X-WR-CALDESC:Events for ArabishWay
REFRESH-INTERVAL;VALUE=DURATION:PT1H
X-Robots-Tag:noindex
X-PUBLISHED-TTL:PT1H
BEGIN:VTIMEZONE
TZID:America/Los_Angeles
BEGIN:DAYLIGHT
TZOFFSETFROM:-0800
TZOFFSETTO:-0700
TZNAME:PDT
DTSTART:20260308T100000
END:DAYLIGHT
BEGIN:STANDARD
TZOFFSETFROM:-0700
TZOFFSETTO:-0800
TZNAME:PST
DTSTART:20261101T090000
END:STANDARD
BEGIN:DAYLIGHT
TZOFFSETFROM:-0800
TZOFFSETTO:-0700
TZNAME:PDT
DTSTART:20270314T100000
END:DAYLIGHT
BEGIN:STANDARD
TZOFFSETFROM:-0700
TZOFFSETTO:-0800
TZNAME:PST
DTSTART:20271107T090000
END:STANDARD
BEGIN:DAYLIGHT
TZOFFSETFROM:-0800
TZOFFSETTO:-0700
TZNAME:PDT
DTSTART:20280312T100000
END:DAYLIGHT
BEGIN:STANDARD
TZOFFSETFROM:-0700
TZOFFSETTO:-0800
TZNAME:PST
DTSTART:20281105T090000
END:STANDARD
END:VTIMEZONE
BEGIN:VEVENT
DTSTART;TZID=America/Los_Angeles:20270402T110000
DTEND;TZID=America/Los_Angeles:20270402T113000
DTSTAMP:20260423T005709
CREATED:20260131T063006Z
LAST-MODIFIED:20260131T063408Z
UID:10005205-1806663600-1806665400@arabishway.com
SUMMARY:Rainbow Story Time (online) w/ Lindz Amer
DESCRIPTION:Join Lindz Amer\, the award-winning LGBTQ+ activist\, author and co-host of the beloved indie web series\, Queer Kid Stuff\, for songs and stories that celebrate the LGBTQ+ community all-year-round. \nAll ages welcome with adult.  \nPlease register: \nhttps://kcls.zoom.us/meeting/register/tZEvdOuqpzssGtC5XlvnFdvIAD2bwlBzP-RA \n\n\n\n 
URL:https://arabishway.com/event/rainbow-story-time-online-w-lindz-amer-2026/2027-04-02/
LOCATION:Virtual
CATEGORIES:Story Time
ATTACH;FMTTYPE=image/png:https://arabishway.com/wp-content/uploads/2024/05/Lindz-Amer-RainbowStoryTimes.png
END:VEVENT
BEGIN:VEVENT
DTSTART;TZID=America/Los_Angeles:20270403T090000
DTEND;TZID=America/Los_Angeles:20270403T110000
DTSTAMP:20260423T005709
CREATED:20251129T174747Z
LAST-MODIFIED:20251228T182031Z
UID:10004347-1806742800-1806750000@arabishway.com
SUMMARY:Virtual Movie Screenings: Every Saturday with Palestine Museum US
DESCRIPTION:Check website: https://www.palestinemuseum.us/events for current showings and for registration links! \nOften the screening ends with a Q&A with the director! \n 
URL:https://arabishway.com/event/virtual-movie-screenings-every-saturday-with-palestine-museum-us-2026/2027-04-03/
LOCATION:Virtual
CATEGORIES:Movie
ATTACH;FMTTYPE=image/jpeg:https://arabishway.com/wp-content/uploads/2020/11/palestine-museum.jpg
END:VEVENT
BEGIN:VEVENT
DTSTART;TZID=America/Los_Angeles:20270408T170000
DTEND;TZID=America/Los_Angeles:20270408T173000
DTSTAMP:20260423T005709
CREATED:20250929T022459Z
LAST-MODIFIED:20251228T233645Z
UID:10004638-1807203600-1807205400@arabishway.com
SUMMARY:وقت القصة باللغة العربية / Arabic Story Time - KCLS
DESCRIPTION:Enjoy stories\, music\, movement and rhymes in Arabic that develop your child’s early literacy skills\, then stay to play\, have fun and make new friends. \nAll ages welcome. \n\n\nوقت القصة باللغة العربية \n!انضموا إلينا في وقت القصة باللغة العربية عبر الإنترنت، كل يوم خميس من الساعة 5:00 مساءً حتى 5:30 مساءً \n.تمتعوا بالقصص العربية، والحركات المفعمة بالحيوية، والأناشيد التي تهدف إلى تنمية مهارات القراءة والكتابة… \n\n\nRegistration requiredRegister for event
URL:https://arabishway.com/event/arabic-story-time-kcls-online/2027-04-08/
LOCATION:Virtual
CATEGORIES:Story Time
ATTACH;FMTTYPE=image/jpeg:https://arabishway.com/wp-content/uploads/2023/10/KCLS-story-time-e1711492509450.jpeg
END:VEVENT
BEGIN:VEVENT
DTSTART;TZID=America/Los_Angeles:20270409T110000
DTEND;TZID=America/Los_Angeles:20270409T113000
DTSTAMP:20260423T005709
CREATED:20260131T063006Z
LAST-MODIFIED:20260131T063408Z
UID:10005206-1807268400-1807270200@arabishway.com
SUMMARY:Rainbow Story Time (online) w/ Lindz Amer
DESCRIPTION:Join Lindz Amer\, the award-winning LGBTQ+ activist\, author and co-host of the beloved indie web series\, Queer Kid Stuff\, for songs and stories that celebrate the LGBTQ+ community all-year-round. \nAll ages welcome with adult.  \nPlease register: \nhttps://kcls.zoom.us/meeting/register/tZEvdOuqpzssGtC5XlvnFdvIAD2bwlBzP-RA \n\n\n\n 
URL:https://arabishway.com/event/rainbow-story-time-online-w-lindz-amer-2026/2027-04-09/
LOCATION:Virtual
CATEGORIES:Story Time
ATTACH;FMTTYPE=image/png:https://arabishway.com/wp-content/uploads/2024/05/Lindz-Amer-RainbowStoryTimes.png
END:VEVENT
BEGIN:VEVENT
DTSTART;TZID=America/Los_Angeles:20270410T090000
DTEND;TZID=America/Los_Angeles:20270410T110000
DTSTAMP:20260423T005709
CREATED:20251129T174747Z
LAST-MODIFIED:20251228T182031Z
UID:10004348-1807347600-1807354800@arabishway.com
SUMMARY:Virtual Movie Screenings: Every Saturday with Palestine Museum US
DESCRIPTION:Check website: https://www.palestinemuseum.us/events for current showings and for registration links! \nOften the screening ends with a Q&A with the director! \n 
URL:https://arabishway.com/event/virtual-movie-screenings-every-saturday-with-palestine-museum-us-2026/2027-04-10/
LOCATION:Virtual
CATEGORIES:Movie
ATTACH;FMTTYPE=image/jpeg:https://arabishway.com/wp-content/uploads/2020/11/palestine-museum.jpg
END:VEVENT
BEGIN:VEVENT
DTSTART;TZID=America/Los_Angeles:20270415T170000
DTEND;TZID=America/Los_Angeles:20270415T173000
DTSTAMP:20260423T005709
CREATED:20250929T022459Z
LAST-MODIFIED:20251228T233645Z
UID:10004639-1807808400-1807810200@arabishway.com
SUMMARY:وقت القصة باللغة العربية / Arabic Story Time - KCLS
DESCRIPTION:Enjoy stories\, music\, movement and rhymes in Arabic that develop your child’s early literacy skills\, then stay to play\, have fun and make new friends. \nAll ages welcome. \n\n\nوقت القصة باللغة العربية \n!انضموا إلينا في وقت القصة باللغة العربية عبر الإنترنت، كل يوم خميس من الساعة 5:00 مساءً حتى 5:30 مساءً \n.تمتعوا بالقصص العربية، والحركات المفعمة بالحيوية، والأناشيد التي تهدف إلى تنمية مهارات القراءة والكتابة… \n\n\nRegistration requiredRegister for event
URL:https://arabishway.com/event/arabic-story-time-kcls-online/2027-04-15/
LOCATION:Virtual
CATEGORIES:Story Time
ATTACH;FMTTYPE=image/jpeg:https://arabishway.com/wp-content/uploads/2023/10/KCLS-story-time-e1711492509450.jpeg
END:VEVENT
BEGIN:VEVENT
DTSTART;TZID=America/Los_Angeles:20270416T110000
DTEND;TZID=America/Los_Angeles:20270416T113000
DTSTAMP:20260423T005710
CREATED:20260131T063006Z
LAST-MODIFIED:20260131T063408Z
UID:10005207-1807873200-1807875000@arabishway.com
SUMMARY:Rainbow Story Time (online) w/ Lindz Amer
DESCRIPTION:Join Lindz Amer\, the award-winning LGBTQ+ activist\, author and co-host of the beloved indie web series\, Queer Kid Stuff\, for songs and stories that celebrate the LGBTQ+ community all-year-round. \nAll ages welcome with adult.  \nPlease register: \nhttps://kcls.zoom.us/meeting/register/tZEvdOuqpzssGtC5XlvnFdvIAD2bwlBzP-RA \n\n\n\n 
URL:https://arabishway.com/event/rainbow-story-time-online-w-lindz-amer-2026/2027-04-16/
LOCATION:Virtual
CATEGORIES:Story Time
ATTACH;FMTTYPE=image/png:https://arabishway.com/wp-content/uploads/2024/05/Lindz-Amer-RainbowStoryTimes.png
END:VEVENT
BEGIN:VEVENT
DTSTART;TZID=America/Los_Angeles:20270417T090000
DTEND;TZID=America/Los_Angeles:20270417T110000
DTSTAMP:20260423T005710
CREATED:20251129T174747Z
LAST-MODIFIED:20251228T182031Z
UID:10004349-1807952400-1807959600@arabishway.com
SUMMARY:Virtual Movie Screenings: Every Saturday with Palestine Museum US
DESCRIPTION:Check website: https://www.palestinemuseum.us/events for current showings and for registration links! \nOften the screening ends with a Q&A with the director! \n 
URL:https://arabishway.com/event/virtual-movie-screenings-every-saturday-with-palestine-museum-us-2026/2027-04-17/
LOCATION:Virtual
CATEGORIES:Movie
ATTACH;FMTTYPE=image/jpeg:https://arabishway.com/wp-content/uploads/2020/11/palestine-museum.jpg
END:VEVENT
BEGIN:VEVENT
DTSTART;TZID=America/Los_Angeles:20270422T170000
DTEND;TZID=America/Los_Angeles:20270422T173000
DTSTAMP:20260423T005710
CREATED:20250929T022459Z
LAST-MODIFIED:20251228T233645Z
UID:10004640-1808413200-1808415000@arabishway.com
SUMMARY:وقت القصة باللغة العربية / Arabic Story Time - KCLS
DESCRIPTION:Enjoy stories\, music\, movement and rhymes in Arabic that develop your child’s early literacy skills\, then stay to play\, have fun and make new friends. \nAll ages welcome. \n\n\nوقت القصة باللغة العربية \n!انضموا إلينا في وقت القصة باللغة العربية عبر الإنترنت، كل يوم خميس من الساعة 5:00 مساءً حتى 5:30 مساءً \n.تمتعوا بالقصص العربية، والحركات المفعمة بالحيوية، والأناشيد التي تهدف إلى تنمية مهارات القراءة والكتابة… \n\n\nRegistration requiredRegister for event
URL:https://arabishway.com/event/arabic-story-time-kcls-online/2027-04-22/
LOCATION:Virtual
CATEGORIES:Story Time
ATTACH;FMTTYPE=image/jpeg:https://arabishway.com/wp-content/uploads/2023/10/KCLS-story-time-e1711492509450.jpeg
END:VEVENT
BEGIN:VEVENT
DTSTART;TZID=America/Los_Angeles:20270423T110000
DTEND;TZID=America/Los_Angeles:20270423T113000
DTSTAMP:20260423T005710
CREATED:20260131T063006Z
LAST-MODIFIED:20260131T063408Z
UID:10005208-1808478000-1808479800@arabishway.com
SUMMARY:Rainbow Story Time (online) w/ Lindz Amer
DESCRIPTION:Join Lindz Amer\, the award-winning LGBTQ+ activist\, author and co-host of the beloved indie web series\, Queer Kid Stuff\, for songs and stories that celebrate the LGBTQ+ community all-year-round. \nAll ages welcome with adult.  \nPlease register: \nhttps://kcls.zoom.us/meeting/register/tZEvdOuqpzssGtC5XlvnFdvIAD2bwlBzP-RA \n\n\n\n 
URL:https://arabishway.com/event/rainbow-story-time-online-w-lindz-amer-2026/2027-04-23/
LOCATION:Virtual
CATEGORIES:Story Time
ATTACH;FMTTYPE=image/png:https://arabishway.com/wp-content/uploads/2024/05/Lindz-Amer-RainbowStoryTimes.png
END:VEVENT
BEGIN:VEVENT
DTSTART;TZID=America/Los_Angeles:20270424T090000
DTEND;TZID=America/Los_Angeles:20270424T110000
DTSTAMP:20260423T005710
CREATED:20251129T174747Z
LAST-MODIFIED:20251228T182031Z
UID:10004350-1808557200-1808564400@arabishway.com
SUMMARY:Virtual Movie Screenings: Every Saturday with Palestine Museum US
DESCRIPTION:Check website: https://www.palestinemuseum.us/events for current showings and for registration links! \nOften the screening ends with a Q&A with the director! \n 
URL:https://arabishway.com/event/virtual-movie-screenings-every-saturday-with-palestine-museum-us-2026/2027-04-24/
LOCATION:Virtual
CATEGORIES:Movie
ATTACH;FMTTYPE=image/jpeg:https://arabishway.com/wp-content/uploads/2020/11/palestine-museum.jpg
END:VEVENT
BEGIN:VEVENT
DTSTART;TZID=America/Los_Angeles:20270429T170000
DTEND;TZID=America/Los_Angeles:20270429T173000
DTSTAMP:20260423T005710
CREATED:20250929T022459Z
LAST-MODIFIED:20251228T233645Z
UID:10004641-1809018000-1809019800@arabishway.com
SUMMARY:وقت القصة باللغة العربية / Arabic Story Time - KCLS
DESCRIPTION:Enjoy stories\, music\, movement and rhymes in Arabic that develop your child’s early literacy skills\, then stay to play\, have fun and make new friends. \nAll ages welcome. \n\n\nوقت القصة باللغة العربية \n!انضموا إلينا في وقت القصة باللغة العربية عبر الإنترنت، كل يوم خميس من الساعة 5:00 مساءً حتى 5:30 مساءً \n.تمتعوا بالقصص العربية، والحركات المفعمة بالحيوية، والأناشيد التي تهدف إلى تنمية مهارات القراءة والكتابة… \n\n\nRegistration requiredRegister for event
URL:https://arabishway.com/event/arabic-story-time-kcls-online/2027-04-29/
LOCATION:Virtual
CATEGORIES:Story Time
ATTACH;FMTTYPE=image/jpeg:https://arabishway.com/wp-content/uploads/2023/10/KCLS-story-time-e1711492509450.jpeg
END:VEVENT
BEGIN:VEVENT
DTSTART;TZID=America/Los_Angeles:20270430T110000
DTEND;TZID=America/Los_Angeles:20270430T113000
DTSTAMP:20260423T005710
CREATED:20260131T063006Z
LAST-MODIFIED:20260131T063408Z
UID:10005209-1809082800-1809084600@arabishway.com
SUMMARY:Rainbow Story Time (online) w/ Lindz Amer
DESCRIPTION:Join Lindz Amer\, the award-winning LGBTQ+ activist\, author and co-host of the beloved indie web series\, Queer Kid Stuff\, for songs and stories that celebrate the LGBTQ+ community all-year-round. \nAll ages welcome with adult.  \nPlease register: \nhttps://kcls.zoom.us/meeting/register/tZEvdOuqpzssGtC5XlvnFdvIAD2bwlBzP-RA \n\n\n\n 
URL:https://arabishway.com/event/rainbow-story-time-online-w-lindz-amer-2026/2027-04-30/
LOCATION:Virtual
CATEGORIES:Story Time
ATTACH;FMTTYPE=image/png:https://arabishway.com/wp-content/uploads/2024/05/Lindz-Amer-RainbowStoryTimes.png
END:VEVENT
BEGIN:VEVENT
DTSTART;TZID=America/Los_Angeles:20270501T090000
DTEND;TZID=America/Los_Angeles:20270501T110000
DTSTAMP:20260423T005710
CREATED:20251129T174747Z
LAST-MODIFIED:20251228T182031Z
UID:10004351-1809162000-1809169200@arabishway.com
SUMMARY:Virtual Movie Screenings: Every Saturday with Palestine Museum US
DESCRIPTION:Check website: https://www.palestinemuseum.us/events for current showings and for registration links! \nOften the screening ends with a Q&A with the director! \n 
URL:https://arabishway.com/event/virtual-movie-screenings-every-saturday-with-palestine-museum-us-2026/2027-05-01/
LOCATION:Virtual
CATEGORIES:Movie
ATTACH;FMTTYPE=image/jpeg:https://arabishway.com/wp-content/uploads/2020/11/palestine-museum.jpg
END:VEVENT
BEGIN:VEVENT
DTSTART;TZID=America/Los_Angeles:20270506T170000
DTEND;TZID=America/Los_Angeles:20270506T173000
DTSTAMP:20260423T005710
CREATED:20250929T022459Z
LAST-MODIFIED:20251228T233645Z
UID:10004642-1809622800-1809624600@arabishway.com
SUMMARY:وقت القصة باللغة العربية / Arabic Story Time - KCLS
DESCRIPTION:Enjoy stories\, music\, movement and rhymes in Arabic that develop your child’s early literacy skills\, then stay to play\, have fun and make new friends. \nAll ages welcome. \n\n\nوقت القصة باللغة العربية \n!انضموا إلينا في وقت القصة باللغة العربية عبر الإنترنت، كل يوم خميس من الساعة 5:00 مساءً حتى 5:30 مساءً \n.تمتعوا بالقصص العربية، والحركات المفعمة بالحيوية، والأناشيد التي تهدف إلى تنمية مهارات القراءة والكتابة… \n\n\nRegistration requiredRegister for event
URL:https://arabishway.com/event/arabic-story-time-kcls-online/2027-05-06/
LOCATION:Virtual
CATEGORIES:Story Time
ATTACH;FMTTYPE=image/jpeg:https://arabishway.com/wp-content/uploads/2023/10/KCLS-story-time-e1711492509450.jpeg
END:VEVENT
BEGIN:VEVENT
DTSTART;TZID=America/Los_Angeles:20270507T110000
DTEND;TZID=America/Los_Angeles:20270507T113000
DTSTAMP:20260423T005710
CREATED:20260131T063006Z
LAST-MODIFIED:20260131T063408Z
UID:10005210-1809687600-1809689400@arabishway.com
SUMMARY:Rainbow Story Time (online) w/ Lindz Amer
DESCRIPTION:Join Lindz Amer\, the award-winning LGBTQ+ activist\, author and co-host of the beloved indie web series\, Queer Kid Stuff\, for songs and stories that celebrate the LGBTQ+ community all-year-round. \nAll ages welcome with adult.  \nPlease register: \nhttps://kcls.zoom.us/meeting/register/tZEvdOuqpzssGtC5XlvnFdvIAD2bwlBzP-RA \n\n\n\n 
URL:https://arabishway.com/event/rainbow-story-time-online-w-lindz-amer-2026/2027-05-07/
LOCATION:Virtual
CATEGORIES:Story Time
ATTACH;FMTTYPE=image/png:https://arabishway.com/wp-content/uploads/2024/05/Lindz-Amer-RainbowStoryTimes.png
END:VEVENT
BEGIN:VEVENT
DTSTART;TZID=America/Los_Angeles:20270508T090000
DTEND;TZID=America/Los_Angeles:20270508T110000
DTSTAMP:20260423T005710
CREATED:20251129T174747Z
LAST-MODIFIED:20251228T182031Z
UID:10004352-1809766800-1809774000@arabishway.com
SUMMARY:Virtual Movie Screenings: Every Saturday with Palestine Museum US
DESCRIPTION:Check website: https://www.palestinemuseum.us/events for current showings and for registration links! \nOften the screening ends with a Q&A with the director! \n 
URL:https://arabishway.com/event/virtual-movie-screenings-every-saturday-with-palestine-museum-us-2026/2027-05-08/
LOCATION:Virtual
CATEGORIES:Movie
ATTACH;FMTTYPE=image/jpeg:https://arabishway.com/wp-content/uploads/2020/11/palestine-museum.jpg
END:VEVENT
BEGIN:VEVENT
DTSTART;TZID=America/Los_Angeles:20270513T170000
DTEND;TZID=America/Los_Angeles:20270513T173000
DTSTAMP:20260423T005710
CREATED:20250929T022459Z
LAST-MODIFIED:20251228T233645Z
UID:10004643-1810227600-1810229400@arabishway.com
SUMMARY:وقت القصة باللغة العربية / Arabic Story Time - KCLS
DESCRIPTION:Enjoy stories\, music\, movement and rhymes in Arabic that develop your child’s early literacy skills\, then stay to play\, have fun and make new friends. \nAll ages welcome. \n\n\nوقت القصة باللغة العربية \n!انضموا إلينا في وقت القصة باللغة العربية عبر الإنترنت، كل يوم خميس من الساعة 5:00 مساءً حتى 5:30 مساءً \n.تمتعوا بالقصص العربية، والحركات المفعمة بالحيوية، والأناشيد التي تهدف إلى تنمية مهارات القراءة والكتابة… \n\n\nRegistration requiredRegister for event
URL:https://arabishway.com/event/arabic-story-time-kcls-online/2027-05-13/
LOCATION:Virtual
CATEGORIES:Story Time
ATTACH;FMTTYPE=image/jpeg:https://arabishway.com/wp-content/uploads/2023/10/KCLS-story-time-e1711492509450.jpeg
END:VEVENT
BEGIN:VEVENT
DTSTART;TZID=America/Los_Angeles:20270514T110000
DTEND;TZID=America/Los_Angeles:20270514T113000
DTSTAMP:20260423T005710
CREATED:20260131T063006Z
LAST-MODIFIED:20260131T063408Z
UID:10005211-1810292400-1810294200@arabishway.com
SUMMARY:Rainbow Story Time (online) w/ Lindz Amer
DESCRIPTION:Join Lindz Amer\, the award-winning LGBTQ+ activist\, author and co-host of the beloved indie web series\, Queer Kid Stuff\, for songs and stories that celebrate the LGBTQ+ community all-year-round. \nAll ages welcome with adult.  \nPlease register: \nhttps://kcls.zoom.us/meeting/register/tZEvdOuqpzssGtC5XlvnFdvIAD2bwlBzP-RA \n\n\n\n 
URL:https://arabishway.com/event/rainbow-story-time-online-w-lindz-amer-2026/2027-05-14/
LOCATION:Virtual
CATEGORIES:Story Time
ATTACH;FMTTYPE=image/png:https://arabishway.com/wp-content/uploads/2024/05/Lindz-Amer-RainbowStoryTimes.png
END:VEVENT
BEGIN:VEVENT
DTSTART;TZID=America/Los_Angeles:20270515T090000
DTEND;TZID=America/Los_Angeles:20270515T110000
DTSTAMP:20260423T005710
CREATED:20251129T174747Z
LAST-MODIFIED:20251228T182031Z
UID:10004353-1810371600-1810378800@arabishway.com
SUMMARY:Virtual Movie Screenings: Every Saturday with Palestine Museum US
DESCRIPTION:Check website: https://www.palestinemuseum.us/events for current showings and for registration links! \nOften the screening ends with a Q&A with the director! \n 
URL:https://arabishway.com/event/virtual-movie-screenings-every-saturday-with-palestine-museum-us-2026/2027-05-15/
LOCATION:Virtual
CATEGORIES:Movie
ATTACH;FMTTYPE=image/jpeg:https://arabishway.com/wp-content/uploads/2020/11/palestine-museum.jpg
END:VEVENT
BEGIN:VEVENT
DTSTART;TZID=America/Los_Angeles:20270520T170000
DTEND;TZID=America/Los_Angeles:20270520T173000
DTSTAMP:20260423T005710
CREATED:20250929T022459Z
LAST-MODIFIED:20251228T233645Z
UID:10004644-1810832400-1810834200@arabishway.com
SUMMARY:وقت القصة باللغة العربية / Arabic Story Time - KCLS
DESCRIPTION:Enjoy stories\, music\, movement and rhymes in Arabic that develop your child’s early literacy skills\, then stay to play\, have fun and make new friends. \nAll ages welcome. \n\n\nوقت القصة باللغة العربية \n!انضموا إلينا في وقت القصة باللغة العربية عبر الإنترنت، كل يوم خميس من الساعة 5:00 مساءً حتى 5:30 مساءً \n.تمتعوا بالقصص العربية، والحركات المفعمة بالحيوية، والأناشيد التي تهدف إلى تنمية مهارات القراءة والكتابة… \n\n\nRegistration requiredRegister for event
URL:https://arabishway.com/event/arabic-story-time-kcls-online/2027-05-20/
LOCATION:Virtual
CATEGORIES:Story Time
ATTACH;FMTTYPE=image/jpeg:https://arabishway.com/wp-content/uploads/2023/10/KCLS-story-time-e1711492509450.jpeg
END:VEVENT
BEGIN:VEVENT
DTSTART;TZID=America/Los_Angeles:20270521T110000
DTEND;TZID=America/Los_Angeles:20270521T113000
DTSTAMP:20260423T005710
CREATED:20260131T063006Z
LAST-MODIFIED:20260131T063408Z
UID:10005212-1810897200-1810899000@arabishway.com
SUMMARY:Rainbow Story Time (online) w/ Lindz Amer
DESCRIPTION:Join Lindz Amer\, the award-winning LGBTQ+ activist\, author and co-host of the beloved indie web series\, Queer Kid Stuff\, for songs and stories that celebrate the LGBTQ+ community all-year-round. \nAll ages welcome with adult.  \nPlease register: \nhttps://kcls.zoom.us/meeting/register/tZEvdOuqpzssGtC5XlvnFdvIAD2bwlBzP-RA \n\n\n\n 
URL:https://arabishway.com/event/rainbow-story-time-online-w-lindz-amer-2026/2027-05-21/
LOCATION:Virtual
CATEGORIES:Story Time
ATTACH;FMTTYPE=image/png:https://arabishway.com/wp-content/uploads/2024/05/Lindz-Amer-RainbowStoryTimes.png
END:VEVENT
BEGIN:VEVENT
DTSTART;TZID=America/Los_Angeles:20270522T090000
DTEND;TZID=America/Los_Angeles:20270522T110000
DTSTAMP:20260423T005710
CREATED:20251129T174747Z
LAST-MODIFIED:20251228T182031Z
UID:10004354-1810976400-1810983600@arabishway.com
SUMMARY:Virtual Movie Screenings: Every Saturday with Palestine Museum US
DESCRIPTION:Check website: https://www.palestinemuseum.us/events for current showings and for registration links! \nOften the screening ends with a Q&A with the director! \n 
URL:https://arabishway.com/event/virtual-movie-screenings-every-saturday-with-palestine-museum-us-2026/2027-05-22/
LOCATION:Virtual
CATEGORIES:Movie
ATTACH;FMTTYPE=image/jpeg:https://arabishway.com/wp-content/uploads/2020/11/palestine-museum.jpg
END:VEVENT
BEGIN:VEVENT
DTSTART;TZID=America/Los_Angeles:20270527T170000
DTEND;TZID=America/Los_Angeles:20270527T173000
DTSTAMP:20260423T005710
CREATED:20250929T022459Z
LAST-MODIFIED:20251228T233645Z
UID:10004645-1811437200-1811439000@arabishway.com
SUMMARY:وقت القصة باللغة العربية / Arabic Story Time - KCLS
DESCRIPTION:Enjoy stories\, music\, movement and rhymes in Arabic that develop your child’s early literacy skills\, then stay to play\, have fun and make new friends. \nAll ages welcome. \n\n\nوقت القصة باللغة العربية \n!انضموا إلينا في وقت القصة باللغة العربية عبر الإنترنت، كل يوم خميس من الساعة 5:00 مساءً حتى 5:30 مساءً \n.تمتعوا بالقصص العربية، والحركات المفعمة بالحيوية، والأناشيد التي تهدف إلى تنمية مهارات القراءة والكتابة… \n\n\nRegistration requiredRegister for event
URL:https://arabishway.com/event/arabic-story-time-kcls-online/2027-05-27/
LOCATION:Virtual
CATEGORIES:Story Time
ATTACH;FMTTYPE=image/jpeg:https://arabishway.com/wp-content/uploads/2023/10/KCLS-story-time-e1711492509450.jpeg
END:VEVENT
BEGIN:VEVENT
DTSTART;TZID=America/Los_Angeles:20270528T110000
DTEND;TZID=America/Los_Angeles:20270528T113000
DTSTAMP:20260423T005710
CREATED:20260131T063006Z
LAST-MODIFIED:20260131T063408Z
UID:10005213-1811502000-1811503800@arabishway.com
SUMMARY:Rainbow Story Time (online) w/ Lindz Amer
DESCRIPTION:Join Lindz Amer\, the award-winning LGBTQ+ activist\, author and co-host of the beloved indie web series\, Queer Kid Stuff\, for songs and stories that celebrate the LGBTQ+ community all-year-round. \nAll ages welcome with adult.  \nPlease register: \nhttps://kcls.zoom.us/meeting/register/tZEvdOuqpzssGtC5XlvnFdvIAD2bwlBzP-RA \n\n\n\n 
URL:https://arabishway.com/event/rainbow-story-time-online-w-lindz-amer-2026/2027-05-28/
LOCATION:Virtual
CATEGORIES:Story Time
ATTACH;FMTTYPE=image/png:https://arabishway.com/wp-content/uploads/2024/05/Lindz-Amer-RainbowStoryTimes.png
END:VEVENT
BEGIN:VEVENT
DTSTART;TZID=America/Los_Angeles:20270529T090000
DTEND;TZID=America/Los_Angeles:20270529T110000
DTSTAMP:20260423T005710
CREATED:20251129T174747Z
LAST-MODIFIED:20251228T182031Z
UID:10004355-1811581200-1811588400@arabishway.com
SUMMARY:Virtual Movie Screenings: Every Saturday with Palestine Museum US
DESCRIPTION:Check website: https://www.palestinemuseum.us/events for current showings and for registration links! \nOften the screening ends with a Q&A with the director! \n 
URL:https://arabishway.com/event/virtual-movie-screenings-every-saturday-with-palestine-museum-us-2026/2027-05-29/
LOCATION:Virtual
CATEGORIES:Movie
ATTACH;FMTTYPE=image/jpeg:https://arabishway.com/wp-content/uploads/2020/11/palestine-museum.jpg
END:VEVENT
BEGIN:VEVENT
DTSTART;TZID=America/Los_Angeles:20270603T170000
DTEND;TZID=America/Los_Angeles:20270603T173000
DTSTAMP:20260423T005710
CREATED:20250929T022459Z
LAST-MODIFIED:20251228T233645Z
UID:10004646-1812042000-1812043800@arabishway.com
SUMMARY:وقت القصة باللغة العربية / Arabic Story Time - KCLS
DESCRIPTION:Enjoy stories\, music\, movement and rhymes in Arabic that develop your child’s early literacy skills\, then stay to play\, have fun and make new friends. \nAll ages welcome. \n\n\nوقت القصة باللغة العربية \n!انضموا إلينا في وقت القصة باللغة العربية عبر الإنترنت، كل يوم خميس من الساعة 5:00 مساءً حتى 5:30 مساءً \n.تمتعوا بالقصص العربية، والحركات المفعمة بالحيوية، والأناشيد التي تهدف إلى تنمية مهارات القراءة والكتابة… \n\n\nRegistration requiredRegister for event
URL:https://arabishway.com/event/arabic-story-time-kcls-online/2027-06-03/
LOCATION:Virtual
CATEGORIES:Story Time
ATTACH;FMTTYPE=image/jpeg:https://arabishway.com/wp-content/uploads/2023/10/KCLS-story-time-e1711492509450.jpeg
END:VEVENT
BEGIN:VEVENT
DTSTART;TZID=America/Los_Angeles:20270604T110000
DTEND;TZID=America/Los_Angeles:20270604T113000
DTSTAMP:20260423T005710
CREATED:20260131T063006Z
LAST-MODIFIED:20260131T063408Z
UID:10005214-1812106800-1812108600@arabishway.com
SUMMARY:Rainbow Story Time (online) w/ Lindz Amer
DESCRIPTION:Join Lindz Amer\, the award-winning LGBTQ+ activist\, author and co-host of the beloved indie web series\, Queer Kid Stuff\, for songs and stories that celebrate the LGBTQ+ community all-year-round. \nAll ages welcome with adult.  \nPlease register: \nhttps://kcls.zoom.us/meeting/register/tZEvdOuqpzssGtC5XlvnFdvIAD2bwlBzP-RA \n\n\n\n 
URL:https://arabishway.com/event/rainbow-story-time-online-w-lindz-amer-2026/2027-06-04/
LOCATION:Virtual
CATEGORIES:Story Time
ATTACH;FMTTYPE=image/png:https://arabishway.com/wp-content/uploads/2024/05/Lindz-Amer-RainbowStoryTimes.png
END:VEVENT
BEGIN:VEVENT
DTSTART;TZID=America/Los_Angeles:20270605T090000
DTEND;TZID=America/Los_Angeles:20270605T110000
DTSTAMP:20260423T005710
CREATED:20251129T174747Z
LAST-MODIFIED:20251228T182031Z
UID:10004356-1812186000-1812193200@arabishway.com
SUMMARY:Virtual Movie Screenings: Every Saturday with Palestine Museum US
DESCRIPTION:Check website: https://www.palestinemuseum.us/events for current showings and for registration links! \nOften the screening ends with a Q&A with the director! \n 
URL:https://arabishway.com/event/virtual-movie-screenings-every-saturday-with-palestine-museum-us-2026/2027-06-05/
LOCATION:Virtual
CATEGORIES:Movie
ATTACH;FMTTYPE=image/jpeg:https://arabishway.com/wp-content/uploads/2020/11/palestine-museum.jpg
END:VEVENT
BEGIN:VEVENT
DTSTART;TZID=America/Los_Angeles:20270610T170000
DTEND;TZID=America/Los_Angeles:20270610T173000
DTSTAMP:20260423T005710
CREATED:20250929T022459Z
LAST-MODIFIED:20251228T233645Z
UID:10004647-1812646800-1812648600@arabishway.com
SUMMARY:وقت القصة باللغة العربية / Arabic Story Time - KCLS
DESCRIPTION:Enjoy stories\, music\, movement and rhymes in Arabic that develop your child’s early literacy skills\, then stay to play\, have fun and make new friends. \nAll ages welcome. \n\n\nوقت القصة باللغة العربية \n!انضموا إلينا في وقت القصة باللغة العربية عبر الإنترنت، كل يوم خميس من الساعة 5:00 مساءً حتى 5:30 مساءً \n.تمتعوا بالقصص العربية، والحركات المفعمة بالحيوية، والأناشيد التي تهدف إلى تنمية مهارات القراءة والكتابة… \n\n\nRegistration requiredRegister for event
URL:https://arabishway.com/event/arabic-story-time-kcls-online/2027-06-10/
LOCATION:Virtual
CATEGORIES:Story Time
ATTACH;FMTTYPE=image/jpeg:https://arabishway.com/wp-content/uploads/2023/10/KCLS-story-time-e1711492509450.jpeg
END:VEVENT
END:VCALENDAR