BEGIN:VCALENDAR
VERSION:2.0
PRODID:-//ArabishWay - ECPv6.15.20//NONSGML v1.0//EN
CALSCALE:GREGORIAN
METHOD:PUBLISH
X-WR-CALNAME:ArabishWay
X-ORIGINAL-URL:https://arabishway.com
X-WR-CALDESC:Events for ArabishWay
REFRESH-INTERVAL;VALUE=DURATION:PT1H
X-Robots-Tag:noindex
X-PUBLISHED-TTL:PT1H
BEGIN:VTIMEZONE
TZID:America/Los_Angeles
BEGIN:DAYLIGHT
TZOFFSETFROM:-0800
TZOFFSETTO:-0700
TZNAME:PDT
DTSTART:20230312T100000
END:DAYLIGHT
BEGIN:STANDARD
TZOFFSETFROM:-0700
TZOFFSETTO:-0800
TZNAME:PST
DTSTART:20231105T090000
END:STANDARD
BEGIN:DAYLIGHT
TZOFFSETFROM:-0800
TZOFFSETTO:-0700
TZNAME:PDT
DTSTART:20240310T100000
END:DAYLIGHT
BEGIN:STANDARD
TZOFFSETFROM:-0700
TZOFFSETTO:-0800
TZNAME:PST
DTSTART:20241103T090000
END:STANDARD
BEGIN:DAYLIGHT
TZOFFSETFROM:-0800
TZOFFSETTO:-0700
TZNAME:PDT
DTSTART:20250309T100000
END:DAYLIGHT
BEGIN:STANDARD
TZOFFSETFROM:-0700
TZOFFSETTO:-0800
TZNAME:PST
DTSTART:20251102T090000
END:STANDARD
END:VTIMEZONE
BEGIN:VEVENT
DTSTART;TZID=America/Los_Angeles:20240718T180000
DTEND;TZID=America/Los_Angeles:20240718T193000
DTSTAMP:20260421T165256
CREATED:20240528T172124Z
LAST-MODIFIED:20240528T172239Z
UID:10002424-1721325600-1721331000@arabishway.com
SUMMARY:Palestine Talks Teach-in Series: parallels between the Native American’s and the Palestinian's colonization and genocide
DESCRIPTION:This is a series\, occurring everything 3rd Thursday of the month until elections\, ending with a Palestinian feast on December 5th. Each month is a different topic with different panel speakers\, with the throughline being what is happening in Palestine.\n\nThrough knowledge sharing\, panel discussions\, and interactive audience discussions\, participants engage in critical dialogue and community building\, empowering themselves and others to become informed advocates and agents of change. Palestine Talks | Teach-in Series serve as a strategy for raising awareness\, promoting education\, and mobilizing action for Palestinian liberation.\nAccessibility info: Large parking lot\, with accessible parking. There are stairs and an elevator. Presentation with slides\, and caption video recording of event available afterwards. There are snacks and water available\, and “accessible bathrooms.”\nDetails about each month’s topic\, registration link\, and event organizer info can be found here: https://www.kccoalition.org/\nmore details»  copy to my calendar
URL:https://arabishway.com/event/palestine-talks-teach-in-series-parallels-between-the-native-americans-and-the-palestinians-colonization-and-genocide/
LOCATION:Vibe Coworks\, 19225 8th Ave NE #201\, Poulsbo\, WA\, 98370
CATEGORIES:Lecture/Panel Discussion,Social Justice
ATTACH;FMTTYPE=image/png:https://arabishway.com/wp-content/uploads/2024/05/Screenshot-2024-05-28-at-10.20.00-AM.png
END:VEVENT
BEGIN:VEVENT
DTSTART;TZID=America/Los_Angeles:20240620T180000
DTEND;TZID=America/Los_Angeles:20240620T193000
DTSTAMP:20260421T165256
CREATED:20240528T171302Z
LAST-MODIFIED:20240528T172107Z
UID:10002423-1718906400-1718911800@arabishway.com
SUMMARY:Palestine Talks Teach-in Series: It's Not About Religion
DESCRIPTION:This is a series\, occurring everything 3rd Thursday of the month until elections\, ending with a Palestinian feast on December 5th. Each month is a different topic with different panel speakers\, with the throughline being what is happening in Palestine.\n\nThrough knowledge sharing\, panel discussions\, and interactive audience discussions\, participants engage in critical dialogue and community building\, empowering themselves and others to become informed advocates and agents of change. Palestine Talks | Teach-in Series serve as a strategy for raising awareness\, promoting education\, and mobilizing action for Palestinian liberation.\nAccessibility info: Large parking lot\, with accessible parking. There are stairs and an elevator. Presentation with slides\, and caption video recording of event available afterwards. There are snacks and water available\, and “accessible bathrooms.”\nDetails about each month’s topic\, registration link\, and event organizer info can be found here: https://www.kccoalition.org/\nmore details»  copy to my calendar
URL:https://arabishway.com/event/16901/
LOCATION:Vibe Coworks\, 19225 8th Ave NE #201\, Poulsbo\, WA\, 98370
CATEGORIES:Lecture/Panel Discussion,Social Justice
ATTACH;FMTTYPE=image/png:https://arabishway.com/wp-content/uploads/2024/05/Screenshot-2024-05-28-at-10.20.00-AM.png
END:VEVENT
END:VCALENDAR