BEGIN:VCALENDAR
VERSION:2.0
PRODID:-//ArabishWay - ECPv6.15.20//NONSGML v1.0//EN
CALSCALE:GREGORIAN
METHOD:PUBLISH
X-WR-CALNAME:ArabishWay
X-ORIGINAL-URL:https://arabishway.com
X-WR-CALDESC:Events for ArabishWay
REFRESH-INTERVAL;VALUE=DURATION:PT1H
X-Robots-Tag:noindex
X-PUBLISHED-TTL:PT1H
BEGIN:VTIMEZONE
TZID:UTC
BEGIN:STANDARD
TZOFFSETFROM:+0000
TZOFFSETTO:+0000
TZNAME:UTC
DTSTART:20180101T000000
END:STANDARD
END:VTIMEZONE
BEGIN:VEVENT
DTSTART;TZID=UTC:20200427T193000
DTEND;TZID=UTC:20200427T213000
DTSTAMP:20260420T053907
CREATED:20200225T043458Z
LAST-MODIFIED:20200327T055459Z
UID:10000468-1588015800-1588023000@arabishway.com
SUMMARY:Cancelled: Clarissa Ward: On All Fronts
DESCRIPTION:Multilingual Peabody and Murrow Award-winning journalist Ward has reported from conflict zones in Syria\, Egypt\, and Afghanistan\, as well as from Beijing\, Baghdad\, Beirut\, and Moscow. Want insight into the life of this remarkable person? Hear her read from her account of her career\, On All Fronts: The Education of a Journalist. 
URL:https://arabishway.com/event/clarissa-ward-on-all-fronts/
LOCATION:Town Hall\, 1119 8th Ave\, Seattle\, WA\, 98101\, United States
CATEGORIES:Book Reading
ATTACH;FMTTYPE=image/jpeg:https://arabishway.com/wp-content/uploads/2020/02/ClarissaWard.jpg
END:VEVENT
BEGIN:VEVENT
DTSTART;TZID=UTC:20200301T193000
DTEND;TZID=UTC:20200301T213000
DTSTAMP:20260420T053907
CREATED:20191017T084004Z
LAST-MODIFIED:20191017T084024Z
UID:10000266-1583091000-1583098200@arabishway.com
SUMMARY:Marc Ribot and Gordon Grdina's Haram at Town Hall
DESCRIPTION:Guitar legend Marc Ribot has released 25 albums over a 40-year career. As part of Town Hall’s Global Rhythms series\, Ribot takes the stage alongside Vancouver’s culture-blending band Haram\, whose work draws inspiration from legendary Egyptian singer Umm Kulthoum. Together they create a new sonically breathtaking view of time-tested repertoire. \nRibot is joined onstage by Haram\, a Vancouver-based group led by Juno Award-winning oud virtuoso and guitarist Gordon Grdina. Haram filters Arabic music through the creative lens of improvisation\, paying homage to the masters while still freely developing an original voice. Classics from Farid El Atrache\, Oum Khalsoum\, Iraqi folk songs\, and 50’s Sudanese radio music all resonate and inspire the ensemble to dig deeper and give more freely. Listen in for a double-billed performance showcase as Ribot teams up with Haram to navigate Arabic musical traditions.
URL:https://arabishway.com/event/marc-ribot-and-gordon-grdinas-haram/
LOCATION:Town Hall\, 1119 8th Ave\, Seattle\, WA\, 98101\, United States
CATEGORIES:Music
ATTACH;FMTTYPE=image/jpeg:https://arabishway.com/wp-content/uploads/2019/10/Ribot-and-Haram.jpg
END:VEVENT
BEGIN:VEVENT
DTSTART;TZID=UTC:20190919T193000
DTEND;TZID=UTC:20190919T213000
DTSTAMP:20260420T053907
CREATED:20190522T105830Z
LAST-MODIFIED:20190522T110710Z
UID:10000117-1568921400-1568928600@arabishway.com
SUMMARY:Naomi Shihab Nye at Town Hall
DESCRIPTION:Internationally beloved poet Naomi Shihab Nye’s latest collection\, The Tiny Journalist\, is a collection inspired by seven-year-old Janna Tamimi\, the “Youngest Journalist in Palestine\,” who captured videos of anti-occupation protests with her mother’s smartphone. \nNaomi Shihab Nye describes herself as a “wandering poet.” She has spent 40 years traveling the country and the world to lead writing workshops and inspiring students of all ages. Nye was born to a Palestinian father and an American mother and grew up in St. Louis\, Jerusalem\, and San Antonio. Drawing on her Palestinian-American heritage\, the cultural diversity of her home in Texas\, and her experiences traveling in Asia\, Europe\, Canada\, Mexico\, and the Middle East\, Nye uses her writing to attest to our shared humanity. – Steven Barclay Agency \n  \nThursday\, September 19\, 2019 7:30 pm at Town Hall Seattle \nTickets go on sale July 15th!
URL:https://arabishway.com/event/naomi-shihab-nye/
LOCATION:Town Hall\, 1119 8th Ave\, Seattle\, WA\, 98101\, United States
CATEGORIES:Poetry
ATTACH;FMTTYPE=image/jpeg:https://arabishway.com/wp-content/uploads/2019/05/naomi.jpeg
END:VEVENT
BEGIN:VEVENT
DTSTART;TZID=UTC:20190630T193000
DTEND;TZID=UTC:20190630T210000
DTSTAMP:20260420T053907
CREATED:20190618T050159Z
LAST-MODIFIED:20190618T050458Z
UID:10000141-1561923000-1561928400@arabishway.com
SUMMARY:Nada Bakos:  The Life of a CIA Terrorist Hunter
DESCRIPTION:Former CIA officer Bakos will tell her story\, reading from her book The Targeter: My Life in the CIA\, Hunting Terrorists and Challenging the White House\, which touches on her search for Abu Musab al-Zarqawi and her investigation of the White House’s assertion that the Iraqi government was involved in 9/11. \n  \n 
URL:https://arabishway.com/event/nada-bakos-the-life-of-a-cia-terrorist-hunter/
LOCATION:Town Hall\, 1119 8th Ave\, Seattle\, WA\, 98101\, United States
CATEGORIES:Book Reading,Lecture
ATTACH;FMTTYPE=image/jpeg:https://arabishway.com/wp-content/uploads/2019/06/NadaBakos.jpg
END:VEVENT
BEGIN:VEVENT
DTSTART;TZID=UTC:20190531T193000
DTEND;TZID=UTC:20190531T213000
DTSTAMP:20260420T053907
CREATED:20181128T091914Z
LAST-MODIFIED:20181128T092051Z
UID:10000021-1559331000-1559338200@arabishway.com
SUMMARY:Kinan Azmeh's City Band at Town Hall
DESCRIPTION:Syrian Kinan Azmeh’s virtuosic quartet is known for deftly personalized high-energy performances that strive to balance classical music\, jazz and traditional Syrian music. \n\nKinan Azmeh left his home city of Damascus to pursue a deeper understanding of his own musical voice—and today he has risen to international prominence as a clarinetist and composer. His ensemble\, the Kinan Azmeh CityBand\, joins us for the culminating performance of our Global Rhythms season. This virtuosic quartet is known for their deftly personalized high-energy performances featuring Azmeh’s expressive clarinet alongside Kyle Sanna’s rustic guitar\, soaring over the dynamic and volatile backdrop of John Hadfield’s percussion and Josh Myers’ double bass. Join us for an unforgettable performance by this incredible group and experience Azmeh’s utterly distinctive balance of Western classical music with the Middle Eastern folk traditions of his homeland. \nKinan has appeared as soloist with the New York Philharmonic\, the Seattle Symphony\, the Bavarian Radio Orchestra\, the West-Eastern Divan Orchestra\, the Qatar Philharmonic\, and the Syrian Symphony Orchestra among others. Kinan is also a member of Yo-Yo Ma’s Silk Road Ensemble with whom he was awarded a Grammy in 2017\, and he has shared the stage with Marcel Khalife\, Aynur\, Daniel Barenboim\, and Jivan Gasparian\, among others. The Kinan Azmeh CityBand quartet has toured the US\, France\, England\, Germany\, Holland\, Egypt\, Lebanon\, and Turkey. \nPresented by Town Hall Seattle as part of the Arts & Culture series. \nSingle tickets ($20/$15 for members) on sale now www.townhallseattle.org
URL:https://arabishway.com/event/6893/
LOCATION:Town Hall\, 1119 8th Ave\, Seattle\, WA\, 98101\, United States
CATEGORIES:Music
ATTACH;FMTTYPE=image/jpeg:https://arabishway.com/wp-content/uploads/2018/11/Kinan.jpg
END:VEVENT
END:VCALENDAR