BEGIN:VCALENDAR
VERSION:2.0
PRODID:-//ArabishWay - ECPv6.15.20//NONSGML v1.0//EN
CALSCALE:GREGORIAN
METHOD:PUBLISH
X-WR-CALNAME:ArabishWay
X-ORIGINAL-URL:https://arabishway.com
X-WR-CALDESC:Events for ArabishWay
REFRESH-INTERVAL;VALUE=DURATION:PT1H
X-Robots-Tag:noindex
X-PUBLISHED-TTL:PT1H
BEGIN:VTIMEZONE
TZID:America/Los_Angeles
BEGIN:DAYLIGHT
TZOFFSETFROM:-0800
TZOFFSETTO:-0700
TZNAME:PDT
DTSTART:20210314T100000
END:DAYLIGHT
BEGIN:STANDARD
TZOFFSETFROM:-0700
TZOFFSETTO:-0800
TZNAME:PST
DTSTART:20211107T090000
END:STANDARD
BEGIN:DAYLIGHT
TZOFFSETFROM:-0800
TZOFFSETTO:-0700
TZNAME:PDT
DTSTART:20220313T100000
END:DAYLIGHT
BEGIN:STANDARD
TZOFFSETFROM:-0700
TZOFFSETTO:-0800
TZNAME:PST
DTSTART:20221106T090000
END:STANDARD
BEGIN:DAYLIGHT
TZOFFSETFROM:-0800
TZOFFSETTO:-0700
TZNAME:PDT
DTSTART:20230312T100000
END:DAYLIGHT
BEGIN:STANDARD
TZOFFSETFROM:-0700
TZOFFSETTO:-0800
TZNAME:PST
DTSTART:20231105T090000
END:STANDARD
END:VTIMEZONE
BEGIN:VEVENT
DTSTART;VALUE=DATE:20220503
DTEND;VALUE=DATE:20220627
DTSTAMP:20260421T214247
CREATED:20220530T211145Z
LAST-MODIFIED:20220530T211249Z
UID:10001330-1651536000-1656287999@arabishway.com
SUMMARY:Art Show: Shadow Time: Claire Cowie\, Fay Jones\, and Mary Ann Peters
DESCRIPTION:“Shadow Time: Claire Cowie\, Fay Jones\, and Mary Ann Peters” at studio e\n\n\n\n\n\n\n\n\n\n\n\n\n\nMay 3\, 2022—June 26\, 2022 | Reception Saturday\, May 14th\, 5-7PM at studio e in Georgetown\, Seattle \nJames Harris Gallery in coordination with studio e is pleased to present a group exhibition titled “Shadow Time.” This cross-generational show features the work of three women who use personal histories as the thematic ideas for their work. “Shadow Time” explores aspects of memory and how it remains buried in the unconscious until a catalyst brings it to the fore. The three artists have deep connections to the Northwest\, and have all worked individually with admiration for one another’s work. They share some commonality\, but mostly each artist’s oeuvre is distinct. This show is the first time multiple works by Claire Cowie\, Fay Jones and Mary Ann Peters will be on view together at studio e gallery. \nstudio e 609 S Brandon St\, Seattle\, WA 98108 (206) 762-3322 studioegallery.net
URL:https://arabishway.com/event/art-show-shadow-time-claire-cowie-fay-jones-and-mary-ann-peters/
LOCATION:Studio E\, 609 S Brandon St\, Seattle\, WA\, 98108\, United States
CATEGORIES:Art
ATTACH;FMTTYPE=image/jpeg:https://arabishway.com/wp-content/uploads/2019/04/MaryAnnPeters.jpg
END:VEVENT
END:VCALENDAR