BEGIN:VCALENDAR
VERSION:2.0
PRODID:-//ArabishWay - ECPv6.15.20//NONSGML v1.0//EN
CALSCALE:GREGORIAN
METHOD:PUBLISH
X-WR-CALNAME:ArabishWay
X-ORIGINAL-URL:https://arabishway.com
X-WR-CALDESC:Events for ArabishWay
REFRESH-INTERVAL;VALUE=DURATION:PT1H
X-Robots-Tag:noindex
X-PUBLISHED-TTL:PT1H
BEGIN:VTIMEZONE
TZID:America/Los_Angeles
BEGIN:DAYLIGHT
TZOFFSETFROM:-0800
TZOFFSETTO:-0700
TZNAME:PDT
DTSTART:20220313T100000
END:DAYLIGHT
BEGIN:STANDARD
TZOFFSETFROM:-0700
TZOFFSETTO:-0800
TZNAME:PST
DTSTART:20221106T090000
END:STANDARD
BEGIN:DAYLIGHT
TZOFFSETFROM:-0800
TZOFFSETTO:-0700
TZNAME:PDT
DTSTART:20230312T100000
END:DAYLIGHT
BEGIN:STANDARD
TZOFFSETFROM:-0700
TZOFFSETTO:-0800
TZNAME:PST
DTSTART:20231105T090000
END:STANDARD
BEGIN:DAYLIGHT
TZOFFSETFROM:-0800
TZOFFSETTO:-0700
TZNAME:PDT
DTSTART:20240310T100000
END:DAYLIGHT
BEGIN:STANDARD
TZOFFSETFROM:-0700
TZOFFSETTO:-0800
TZNAME:PST
DTSTART:20241103T090000
END:STANDARD
BEGIN:DAYLIGHT
TZOFFSETFROM:-0800
TZOFFSETTO:-0700
TZNAME:PDT
DTSTART:20250309T100000
END:DAYLIGHT
BEGIN:STANDARD
TZOFFSETFROM:-0700
TZOFFSETTO:-0800
TZNAME:PST
DTSTART:20251102T090000
END:STANDARD
END:VTIMEZONE
BEGIN:VEVENT
DTSTART;TZID=America/Los_Angeles:20240914T160000
DTEND;TZID=America/Los_Angeles:20240914T180000
DTSTAMP:20260421T073853
CREATED:20240827T220417Z
LAST-MODIFIED:20240827T221009Z
UID:10002607-1726329600-1726336800@arabishway.com
SUMMARY:Mask Off Maersk Teach-In
DESCRIPTION:What: Join us in the next phase in our fight to end this genocide and enact a people’s arms embargo! Logistics companies\, with Maersk as the industry lead\, are the invisible profiteers of the current genocide in Gaza… Behind the horrific images and videos we have seen daily for almost ten months are corporations like Maersk who enable genocide to happen. Behind the grotesque statements of demonic politicians justifying ethnic cleansing are the companies like Maersk who profit from it. It is time to pull the #MaskOffMaersk and show the world who they really are! More info @palestinianyouthmovement
URL:https://arabishway.com/event/mask-off-maersk-teach-in/
LOCATION:Cafe Red\, 7148 Martin Luther King Jr Way S\, Seattle\, WA\, 98118
CATEGORIES:Social Justice
ATTACH;FMTTYPE=image/png:https://arabishway.com/wp-content/uploads/2024/08/PYM-Logo-from-Instagram.png
END:VEVENT
BEGIN:VEVENT
DTSTART;TZID=America/Los_Angeles:20231201T180000
DTEND;TZID=America/Los_Angeles:20231201T200000
DTSTAMP:20260421T073853
CREATED:20231128T201812Z
LAST-MODIFIED:20231128T201812Z
UID:10002041-1701453600-1701460800@arabishway.com
SUMMARY:Gaza Teach-In
DESCRIPTION:Join the PYM for a teach in on Gaza! Equip yourself with knowledge about history\, resistance\, and peopel who remain steadfast in teh face of genocide. Come prepared to engage in a discussion about our role as a community and how we actively work towards cultivating conditiosn tha tsupport Palestinian liberation. \nPalestinian Youth Movement \n@PalestinianYouthMovement \n@PSLSeattle
URL:https://arabishway.com/event/gaza-teach-in/
LOCATION:Cafe Red\, 7148 Martin Luther King Jr Way S\, Seattle\, WA\, 98118
CATEGORIES:Social Justice
ATTACH;FMTTYPE=image/png:https://arabishway.com/wp-content/uploads/2023/11/Screenshot-2023-11-28-at-11.23.21 AM.png
END:VEVENT
END:VCALENDAR