BEGIN:VCALENDAR
VERSION:2.0
PRODID:-//ArabishWay - ECPv6.15.20//NONSGML v1.0//EN
CALSCALE:GREGORIAN
METHOD:PUBLISH
X-WR-CALNAME:ArabishWay
X-ORIGINAL-URL:https://arabishway.com
X-WR-CALDESC:Events for ArabishWay
REFRESH-INTERVAL;VALUE=DURATION:PT1H
X-Robots-Tag:noindex
X-PUBLISHED-TTL:PT1H
BEGIN:VTIMEZONE
TZID:America/Los_Angeles
BEGIN:DAYLIGHT
TZOFFSETFROM:-0800
TZOFFSETTO:-0700
TZNAME:PDT
DTSTART:20210314T100000
END:DAYLIGHT
BEGIN:STANDARD
TZOFFSETFROM:-0700
TZOFFSETTO:-0800
TZNAME:PST
DTSTART:20211107T090000
END:STANDARD
BEGIN:DAYLIGHT
TZOFFSETFROM:-0800
TZOFFSETTO:-0700
TZNAME:PDT
DTSTART:20220313T100000
END:DAYLIGHT
BEGIN:STANDARD
TZOFFSETFROM:-0700
TZOFFSETTO:-0800
TZNAME:PST
DTSTART:20221106T090000
END:STANDARD
BEGIN:DAYLIGHT
TZOFFSETFROM:-0800
TZOFFSETTO:-0700
TZNAME:PDT
DTSTART:20230312T100000
END:DAYLIGHT
BEGIN:STANDARD
TZOFFSETFROM:-0700
TZOFFSETTO:-0800
TZNAME:PST
DTSTART:20231105T090000
END:STANDARD
END:VTIMEZONE
BEGIN:VEVENT
DTSTART;TZID=America/Los_Angeles:20220331T190000
DTEND;TZID=America/Los_Angeles:20220331T220000
DTSTAMP:20260423T214509
CREATED:20220224T051158Z
LAST-MODIFIED:20220224T051348Z
UID:10001207-1648753200-1648764000@arabishway.com
SUMMARY:Seattle Arab Mixer - Art Marble 21 (SLU)
DESCRIPTION:Is the Arabic culture deeply ingrained in you? Did you\, or someone close\, grow up in the Arab world\, and you miss it? With so many Arabic newcomers to our beautiful growing city\, this group is for us to connect with like-minded people. \nLet’s kick off Seattle Arab Mixer at Art Marble 21. If you haven’t been\, this is a beautiful venue in the heart of South Lake Union with high ceilings and a casual setting. \nWe reserved the lounge area for our group and will provide heavy appetizers. Come by\, slap a name tag on\, and get ready to mingle. \nThere should be plenty of street parking\, and we would love it if you could bring $10 (or $20) to cover hosting the event and the food. \nSpace is limited\, so RSVP to make sure you are on the guest list. We will add more details closer to the event.
URL:https://arabishway.com/event/seattle-arab-mixer-art-marble-21-slu/
LOCATION:Art Marble 21\, 731 Westlake Ave N\, Seattle\, WA
CATEGORIES:Gathering
ATTACH;FMTTYPE=image/png:https://arabishway.com/wp-content/uploads/2022/02/Screen-Shot-2022-02-23-at-9.09.59-PM.png
END:VEVENT
END:VCALENDAR