BEGIN:VCALENDAR
VERSION:2.0
PRODID:-//ArabishWay - ECPv6.15.20//NONSGML v1.0//EN
CALSCALE:GREGORIAN
METHOD:PUBLISH
X-ORIGINAL-URL:https://arabishway.com
X-WR-CALDESC:Events for ArabishWay
REFRESH-INTERVAL;VALUE=DURATION:PT1H
X-Robots-Tag:noindex
X-PUBLISHED-TTL:PT1H
BEGIN:VTIMEZONE
TZID:UTC
BEGIN:STANDARD
TZOFFSETFROM:+0000
TZOFFSETTO:+0000
TZNAME:UTC
DTSTART:20190101T000000
END:STANDARD
END:VTIMEZONE
BEGIN:VEVENT
DTSTART;TZID=UTC:20200502T150000
DTEND;TZID=UTC:20200502T154000
DTSTAMP:20260424T130637
CREATED:20200423T224630Z
LAST-MODIFIED:20200423T224900Z
UID:10000507-1588431600-1588434000@arabishway.com
SUMMARY:Arabs in Seattle Meetup:  ZOOM
DESCRIPTION:Rotating Monthly Coffee: Virtual!\n\nHosted by Maryam\n\n\n\n\n\n\n\n\n\n\n\n\n\n\n\n\n\n\nA weekend Zoom meetup! I made it a bit earlier in the day since it’ll be a weekend and Ramadan – didn’t want to cut into cooking time for anyone fasting 🙂 We’ll try different times & days of the week\, and see what works best! \n 
URL:https://arabishway.com/event/meetup-may-2020-2/
LOCATION:WA\, United States
CATEGORIES:Gathering
ATTACH;FMTTYPE=image/png:https://arabishway.com/wp-content/uploads/2018/12/meetup.png
END:VEVENT
END:VCALENDAR