BEGIN:VCALENDAR
VERSION:2.0
PRODID:-//ArabishWay - ECPv6.15.20//NONSGML v1.0//EN
CALSCALE:GREGORIAN
METHOD:PUBLISH
X-WR-CALNAME:ArabishWay
X-ORIGINAL-URL:https://arabishway.com
X-WR-CALDESC:Events for ArabishWay
REFRESH-INTERVAL;VALUE=DURATION:PT1H
X-Robots-Tag:noindex
X-PUBLISHED-TTL:PT1H
BEGIN:VTIMEZONE
TZID:America/Los_Angeles
BEGIN:DAYLIGHT
TZOFFSETFROM:-0800
TZOFFSETTO:-0700
TZNAME:PDT
DTSTART:20220313T100000
END:DAYLIGHT
BEGIN:STANDARD
TZOFFSETFROM:-0700
TZOFFSETTO:-0800
TZNAME:PST
DTSTART:20221106T090000
END:STANDARD
BEGIN:DAYLIGHT
TZOFFSETFROM:-0800
TZOFFSETTO:-0700
TZNAME:PDT
DTSTART:20230312T100000
END:DAYLIGHT
BEGIN:STANDARD
TZOFFSETFROM:-0700
TZOFFSETTO:-0800
TZNAME:PST
DTSTART:20231105T090000
END:STANDARD
BEGIN:DAYLIGHT
TZOFFSETFROM:-0800
TZOFFSETTO:-0700
TZNAME:PDT
DTSTART:20240310T100000
END:DAYLIGHT
BEGIN:STANDARD
TZOFFSETFROM:-0700
TZOFFSETTO:-0800
TZNAME:PST
DTSTART:20241103T090000
END:STANDARD
BEGIN:DAYLIGHT
TZOFFSETFROM:-0800
TZOFFSETTO:-0700
TZNAME:PDT
DTSTART:20250309T100000
END:DAYLIGHT
BEGIN:STANDARD
TZOFFSETFROM:-0700
TZOFFSETTO:-0800
TZNAME:PST
DTSTART:20251102T090000
END:STANDARD
BEGIN:DAYLIGHT
TZOFFSETFROM:-0800
TZOFFSETTO:-0700
TZNAME:PDT
DTSTART:20260308T100000
END:DAYLIGHT
BEGIN:STANDARD
TZOFFSETFROM:-0700
TZOFFSETTO:-0800
TZNAME:PST
DTSTART:20261101T090000
END:STANDARD
BEGIN:DAYLIGHT
TZOFFSETFROM:-0800
TZOFFSETTO:-0700
TZNAME:PDT
DTSTART:20270314T100000
END:DAYLIGHT
BEGIN:STANDARD
TZOFFSETFROM:-0700
TZOFFSETTO:-0800
TZNAME:PST
DTSTART:20271107T090000
END:STANDARD
END:VTIMEZONE
BEGIN:VTIMEZONE
TZID:UTC
BEGIN:STANDARD
TZOFFSETFROM:+0000
TZOFFSETTO:+0000
TZNAME:UTC
DTSTART:20190101T000000
END:STANDARD
END:VTIMEZONE
BEGIN:VEVENT
DTSTART;TZID=America/Los_Angeles:20260331T180000
DTEND;TZID=America/Los_Angeles:20260331T200000
DTSTAMP:20260423T080437
CREATED:20260330T191009Z
LAST-MODIFIED:20260330T191550Z
UID:10005920-1774980000-1774987200@arabishway.com
SUMMARY:Movie Screening: Frontiers of Dreams and Fears
DESCRIPTION:Join us THIS TUESDAY March 31\, 6-8pm for a screening and discussion of Frontiers of Dreams and Fears!\n\n\n\nWe will be selling art\, merch\, and food at this event\, and all proceeds will go to Nafas Community Kitchen in Hamra (@matbakh__nafas) \nNafas is currently providing around 1000 meals every single day to people in Hamra\, Beirut. As people continue to be displaced from the south\, their need for support grows. \nPlease see the AID4LEBANON linktree in our bio to send f//unds to nafas & other collectives in need of support. And we’ll see you Tuesday!🇵🇸🇱🇧 \n\n\nGot to instagram and DM for location
URL:https://arabishway.com/event/movie-screening-frontiers/
LOCATION:Register for Location
CATEGORIES:Movie
ATTACH;FMTTYPE=image/png:https://arabishway.com/wp-content/uploads/2026/03/Screenshot-2026-03-30-at-12.04.38-PM.png
END:VEVENT
BEGIN:VEVENT
DTSTART;VALUE=DATE:20250324
DTEND;VALUE=DATE:20250325
DTSTAMP:20260423T080437
CREATED:20250325T053710Z
LAST-MODIFIED:20250325T053757Z
UID:10002924-1742774400-1742860799@arabishway.com
SUMMARY:Palestine Cultural Resistance Festival
DESCRIPTION:SAVE THE DATE! 📣 Students for Justice in Palestine at Seattle U (SU SJP) and Students United for Palestinian Equality and Return are hosting their annual Palestinian Resistance Culturefest on April 25th 🇵🇸❤️‍🔥 \nStay tuned (and turn your notifications on) for announcements on ticket sales\, performers\, and calls for vendors/volunteers throughout the month.
URL:https://arabishway.com/event/palestine-cultural-resistance-festival/
LOCATION:TBD
CATEGORIES:Festival,Social Justice
ATTACH;FMTTYPE=image/png:https://arabishway.com/wp-content/uploads/2025/03/Screenshot-2025-03-24-at-10.36.18 PM.png
END:VEVENT
BEGIN:VEVENT
DTSTART;TZID=America/Los_Angeles:20231009T080000
DTEND;TZID=America/Los_Angeles:20231009T170000
DTSTAMP:20260423T080437
CREATED:20230928T233251Z
LAST-MODIFIED:20230928T233251Z
UID:10001961-1696838400-1696870800@arabishway.com
SUMMARY:Palestine 101 and Intro to Organizing
DESCRIPTION:Join us on October 9th in Thomson Hall (rm. 135) to learn about the ongoing Nakba\, imperialism today\, and how to get organized within the movement. Play Kahoot\, win some merch and enjoy some snacks with fellow comrades! \n\n\nRSVP: https://tinyurl.com/uwpalestine101
URL:https://arabishway.com/event/palestine-101-and-intro-to-organizing/
LOCATION:University of Washington – Thomson Hall\, 1911 Skagit Lane\, Seattle\, WA\, 98105\, United States
CATEGORIES:Gathering,Social Justice
ATTACH;FMTTYPE=image/jpeg:https://arabishway.com/wp-content/uploads/2023/09/Palestine-101-SUPER.jpeg
END:VEVENT
BEGIN:VEVENT
DTSTART;TZID=America/Los_Angeles:20231005T173000
DTEND;TZID=America/Los_Angeles:20231005T190000
DTSTAMP:20260423T080437
CREATED:20230926T212238Z
LAST-MODIFIED:20230928T233631Z
UID:10001932-1696527000-1696532400@arabishway.com
SUMMARY:Book Tour: Light in Gaza: Writings Born of Fire
DESCRIPTION:I wanted to invite you to join SUPER UW and Samidoun Seattle on October 5th from 5:30pm – 7:00pm at Miller Hall 301 as we welcome Yousef Aljamal and Jennifer Bing for a discussion moderated by Dr. Alice Rothchild of the new anthology Light in Gaza: Writings Born of Fire.\n\n\nLight in Gaza is a seminal\, moving\, and wide-ranging anthology of Palestinian writers and artists. It constitutes a collective effort to organize and center Palestinian voices in the ongoing struggle. As political discourse shifts toward futurism as a means of reimagining a better way of living\, beyond the violence and limitations of colonialism\, Light in Gaza is an urgent and powerful intervention into an important political moment. \nRegister at bit.ly/LightInGazaUW\nFacebook Event: https://fb.me/e/30ECERxWN
URL:https://arabishway.com/event/book-tour-light-in-gaza-writings-born-of-fire-5/
LOCATION:University of Washington – Miller Hall\, 2012 Skagit Ln\, Seattle\, WA\, 98105\, United States
CATEGORIES:Book Reading
ATTACH;FMTTYPE=image/png:https://arabishway.com/wp-content/uploads/2023/09/Screenshot-2023-09-16-at-9.30.28-PM.png
END:VEVENT
BEGIN:VEVENT
DTSTART;TZID=America/Los_Angeles:20230518T180000
DTEND;TZID=America/Los_Angeles:20230518T193000
DTSTAMP:20260423T080437
CREATED:20230426T194950Z
LAST-MODIFIED:20230509T042619Z
UID:10001772-1684432800-1684438200@arabishway.com
SUMMARY:SUPER-UW Conversation:  how to discuss Palestine with different audiences and age groups
DESCRIPTION:Join SUPER-UW for a conversation with Laila Taji\, Dr. Alice Rothchild\, and Prof. Nada Elia on the ways in which we discuss Palestine with different audiences and age groups.\n\n\nUW Electrical & Computer Engineering\, Room 037\nfrom 6:00 pm – 7:30 pm
URL:https://arabishway.com/event/save-the-date-super-uw-conversation-how-to-discuss-palestine-with-different-audiences-and-age-groups/
LOCATION:UW-Seattle
CATEGORIES:Lecture/Panel Discussion
ATTACH;FMTTYPE=image/jpeg:https://arabishway.com/wp-content/uploads/2023/04/How-to-Talk-About.jpeg
END:VEVENT
BEGIN:VEVENT
DTSTART;TZID=UTC:20200409T170000
DTEND;TZID=UTC:20200409T190000
DTSTAMP:20260423T080437
CREATED:20200112T021531Z
LAST-MODIFIED:20200327T053238Z
UID:10000367-1586451600-1586458800@arabishway.com
SUMMARY:Postponed: SUPER Culturefest Fundraiser
DESCRIPTION:**Mark your calendars – more details are to come!** \nEXISTENCE IS RESISTANCE FUNDRAISER: Join Super UW for our fourth annual Palestinian Cultural Resistance and Solidarity Festival! This will be a compelling night full of music\, art\, dabke\, authentic Arab cuisine and much more. \nThough our night celebrates the decades-long struggle to preserve and honor Palestinian culture in the face of Israeli apartheid\, we can’t wait to share the stage with other powerful and resistant voices in the name of solidarity. \nTHIS IS A TICKETED EVENT. Tickets will be available soon!
URL:https://arabishway.com/event/super-culturefest-fundraiser/
LOCATION:UW – Intellectual House\, 4249 Whitman Ct NE\, Seattle\, WA\, 98105\, United States
CATEGORIES:Benefit/Fundraiser,Festival
ATTACH;FMTTYPE=image/jpeg:https://arabishway.com/wp-content/uploads/2020/01/SUPER.jpg
END:VEVENT
END:VCALENDAR