BEGIN:VCALENDAR
VERSION:2.0
PRODID:-//ArabishWay - ECPv6.15.20//NONSGML v1.0//EN
CALSCALE:GREGORIAN
METHOD:PUBLISH
X-WR-CALNAME:ArabishWay
X-ORIGINAL-URL:https://arabishway.com
X-WR-CALDESC:Events for ArabishWay
REFRESH-INTERVAL;VALUE=DURATION:PT1H
X-Robots-Tag:noindex
X-PUBLISHED-TTL:PT1H
BEGIN:VTIMEZONE
TZID:America/Los_Angeles
BEGIN:DAYLIGHT
TZOFFSETFROM:-0800
TZOFFSETTO:-0700
TZNAME:PDT
DTSTART:20230312T100000
END:DAYLIGHT
BEGIN:STANDARD
TZOFFSETFROM:-0700
TZOFFSETTO:-0800
TZNAME:PST
DTSTART:20231105T090000
END:STANDARD
BEGIN:DAYLIGHT
TZOFFSETFROM:-0800
TZOFFSETTO:-0700
TZNAME:PDT
DTSTART:20240310T100000
END:DAYLIGHT
BEGIN:STANDARD
TZOFFSETFROM:-0700
TZOFFSETTO:-0800
TZNAME:PST
DTSTART:20241103T090000
END:STANDARD
BEGIN:DAYLIGHT
TZOFFSETFROM:-0800
TZOFFSETTO:-0700
TZNAME:PDT
DTSTART:20250309T100000
END:DAYLIGHT
BEGIN:STANDARD
TZOFFSETFROM:-0700
TZOFFSETTO:-0800
TZNAME:PST
DTSTART:20251102T090000
END:STANDARD
END:VTIMEZONE
BEGIN:VEVENT
DTSTART;TZID=America/Los_Angeles:20240929T193000
DTEND;TZID=America/Los_Angeles:20240929T213000
DTSTAMP:20260424T134008
CREATED:20230727T173605Z
LAST-MODIFIED:20230828T232639Z
UID:10001871-1727638200-1727645400@arabishway.com
SUMMARY:Chamber Music Concerts presents: Aizuri Quartet with Kinan Azmeh\, clarinet [Oregon]
DESCRIPTION:Chamber Music Concerts presents: Aizuri Quartet with Kinan Azmeh\, clarinet\n\nPraised by The Washington Post for “astounding” and “captivating” performances\, the Aizuri Quartet was awarded the Grand Prize at the 2018 M-Prize Chamber Arts Competition\, along with top prizes at the 2017 Osaka International Chamber Music Competition in Japan and the 2015 Wigmore Hall International String Quartet Competition in London. Formed in 2012\, the Aizuri Quartet draws its name from “aizuri-e\,” a style of Japanese woodblock printing that is noted for its vibrancy and incredible detail. \nHailed as “intensely soulful” and a “virtuoso” by The New York Times\, clarinetist and composer Kinan Azmeh has gained international recognition for his distinctive voice across diverse musical genres. Originally from Damascus\, Syria\, Azmeh brings his music to all corners of the world. In addition to his own Arab-Jazz Quartet CityBand\, he was recently appointed to the National Council for the Arts on a nomination by President Joe Biden. \nPROGRAM \nRhiannon Giddens: At the Purchaser’s Option \nKinan Azmeh: Improvisation \nLayale Chaker: New Work \nKinan Azmeh: The Fence\, the Rooftop\, and the Distant Sea \nKomitas Vartabed: Armenian Folk Songs \nWang Lu: Between Air \nMichi Wiancko: Lullaby for the Transient \nPaquito d’Rivera: Preludio y Merengue \n\n Friday\, September 29 at 7:30pm to 9:30pm \n SOU Music Recital Hall\, 114\n450 S Mountain Ave Ashland\, OR 97520
URL:https://arabishway.com/event/kinan-aizuri-quartet/
LOCATION:SOU Music Recital Hall\, 114 450 S Mountain Ave\, Ashland\, OR\, 97520\, United States
CATEGORIES:Music
ATTACH;FMTTYPE=image/jpeg:https://arabishway.com/wp-content/uploads/2020/05/kinan.jpg
END:VEVENT
END:VCALENDAR