BEGIN:VCALENDAR
VERSION:2.0
PRODID:-//ArabishWay - ECPv6.15.20//NONSGML v1.0//EN
CALSCALE:GREGORIAN
METHOD:PUBLISH
X-ORIGINAL-URL:https://arabishway.com
X-WR-CALDESC:Events for ArabishWay
REFRESH-INTERVAL;VALUE=DURATION:PT1H
X-Robots-Tag:noindex
X-PUBLISHED-TTL:PT1H
BEGIN:VTIMEZONE
TZID:America/Los_Angeles
BEGIN:DAYLIGHT
TZOFFSETFROM:-0800
TZOFFSETTO:-0700
TZNAME:PDT
DTSTART:20200308T100000
END:DAYLIGHT
BEGIN:STANDARD
TZOFFSETFROM:-0700
TZOFFSETTO:-0800
TZNAME:PST
DTSTART:20201101T090000
END:STANDARD
BEGIN:DAYLIGHT
TZOFFSETFROM:-0800
TZOFFSETTO:-0700
TZNAME:PDT
DTSTART:20210314T100000
END:DAYLIGHT
BEGIN:STANDARD
TZOFFSETFROM:-0700
TZOFFSETTO:-0800
TZNAME:PST
DTSTART:20211107T090000
END:STANDARD
BEGIN:DAYLIGHT
TZOFFSETFROM:-0800
TZOFFSETTO:-0700
TZNAME:PDT
DTSTART:20220313T100000
END:DAYLIGHT
BEGIN:STANDARD
TZOFFSETFROM:-0700
TZOFFSETTO:-0800
TZNAME:PST
DTSTART:20221106T090000
END:STANDARD
END:VTIMEZONE
BEGIN:VEVENT
DTSTART;TZID=America/Los_Angeles:20210304T170000
DTEND;TZID=America/Los_Angeles:20210304T193000
DTSTAMP:20260425T032149
CREATED:20210225T201255Z
LAST-MODIFIED:20210225T201417Z
UID:10000835-1614877200-1614886200@arabishway.com
SUMMARY:Palestinian Fatayer with Nadia Tommalieh
DESCRIPTION:The universal practicality of packing deliciousness into a portable dough package ranges from Cornish pasties to empanadas to fatayer\, a type of savory pie eaten throughout the Middle East. In this class\, NADIA TOMMALIEH will guide you through the Palestinian take on this most perfect of mezze. You’ll layer a citrusy spinach filling into dough triangles to make fatayer sabanekh\, fold cheese and herbs into boat-shaped fatayer jebneh\, and make open-faced spiced beef sfeeha. \nThis is a live\, hands-on cooking class held in your kitchen via Zoom. Class is meant to be as interactive as it would be at our table\, with the instructor teaching you how to prepare each recipe. Each class ticket is for one kitchen\, and we welcome group cooking on the same screen. To learn more about how class will go visit our FAQ PAGE. \n\nThere are two options for gathering ingredients for this class! You can shop for your own ingredients or we are happy to pre-measure ingredients and assemble them into a 4-serving kit. And if you like to sip wine while you cook\, consider adding a lovingly paired bottle with your kit! \nYou can preview the ingredients and equipment needed by FOLLOWING THIS LINK. One week before class we will send out a detailed shopping list\, and a few days before class we will email you a detailed recipe packet and Zoom link. All classes are listed in Pacific Time.
URL:https://arabishway.com/event/palestinian-fatayer-with-nadia-tommalieh-4/
LOCATION:WA
CATEGORIES:Cooking/Food,Workshop
ATTACH;FMTTYPE=image/jpeg:https://arabishway.com/wp-content/uploads/2021/02/Rolling-Pin.jpg
END:VEVENT
END:VCALENDAR