BEGIN:VCALENDAR
VERSION:2.0
PRODID:-//ArabishWay - ECPv6.15.20//NONSGML v1.0//EN
CALSCALE:GREGORIAN
METHOD:PUBLISH
X-ORIGINAL-URL:https://arabishway.com
X-WR-CALDESC:Events for ArabishWay
REFRESH-INTERVAL;VALUE=DURATION:PT1H
X-Robots-Tag:noindex
X-PUBLISHED-TTL:PT1H
BEGIN:VTIMEZONE
TZID:America/Los_Angeles
BEGIN:DAYLIGHT
TZOFFSETFROM:-0800
TZOFFSETTO:-0700
TZNAME:PDT
DTSTART:20200308T100000
END:DAYLIGHT
BEGIN:STANDARD
TZOFFSETFROM:-0700
TZOFFSETTO:-0800
TZNAME:PST
DTSTART:20201101T090000
END:STANDARD
BEGIN:DAYLIGHT
TZOFFSETFROM:-0800
TZOFFSETTO:-0700
TZNAME:PDT
DTSTART:20210314T100000
END:DAYLIGHT
BEGIN:STANDARD
TZOFFSETFROM:-0700
TZOFFSETTO:-0800
TZNAME:PST
DTSTART:20211107T090000
END:STANDARD
BEGIN:DAYLIGHT
TZOFFSETFROM:-0800
TZOFFSETTO:-0700
TZNAME:PDT
DTSTART:20220313T100000
END:DAYLIGHT
BEGIN:STANDARD
TZOFFSETFROM:-0700
TZOFFSETTO:-0800
TZNAME:PST
DTSTART:20221106T090000
END:STANDARD
END:VTIMEZONE
BEGIN:VEVENT
DTSTART;TZID=America/Los_Angeles:20210206T110000
DTEND;TZID=America/Los_Angeles:20210206T130000
DTSTAMP:20260425T050026
CREATED:20210128T211744Z
LAST-MODIFIED:20210128T211809Z
UID:10000794-1612609200-1612616400@arabishway.com
SUMMARY:Moorish Splendors - Online Art Workshop
DESCRIPTION:The Alhambra Palace is a remarkable work of architecture adorned with tiled geometric mosaics\, biomorphic carving and calligraphy. Learn how to construct a geometric pattern using a compass and ruler and paint with watercolor. \nWorkshop includes illustrated handouts with step-by-step instructions and recording of class. \nREGISTER HERE $35 \n  \n\n\nAmina Quraishi is an artist and art educator based in Seattle\, Washington. Her work is inspired by the beauty of traditional Islamic art and nature. She received an Honors Bachelors of Science majoring in Psychology and an Advanced Diploma in Art & Art History at the University of Toronto. With the focus mostly on European art movements she began to wonder what about art in other parts of the world. Going back to her roots as a Muslim\, she felt a personal connection to the rich cultural and artistic history of the Islamic lands. She began studying and practicing Islamic art and architecture using traditional tools. \nAmina has been teaching Islamic art since 2017. She hopes by sharing her love and fascination of Islamic art will work towards awareness and inclusion in art education.
URL:https://arabishway.com/event/moorish-splendors-online-art-workshop/
LOCATION:WA
CATEGORIES:Art,Workshop
ATTACH;FMTTYPE=image/jpeg:https://arabishway.com/wp-content/uploads/2021/01/moorish_splendors.jpeg
END:VEVENT
BEGIN:VEVENT
DTSTART;TZID=America/Los_Angeles:20210226T120000
DTEND;TZID=America/Los_Angeles:20210226T140000
DTSTAMP:20260425T050026
CREATED:20210128T221957Z
LAST-MODIFIED:20210128T222026Z
UID:10000797-1614340800-1614348000@arabishway.com
SUMMARY:Smithsonian Sampler Series:  Tatreez
DESCRIPTION:PROGRAM DESCRIPTION \nFor generations\, Palestinian women have gathered with their daughters to work collectively on embroidery projects\, bonding with one another over a cup of tea. Guided by Wafa Ghnaim\, who began her training in embroidery with her mother at age 2\, learn the basic Palestinian cross-stitch and how to create a tatreez sampler\, using a standard size sheet of Aida cloth fabric and one that can incorporate numerous patterns and eventually become a wall-hanging. \nIf you have already begun a tatreez sampler\, this workshop will teach you traditional patterns and stitching strategies to further develop your piece. You are not required to take all three workshops in this winter series (Jan. 29; Feb. 26; and March 12)—you may take one\, or all. The purpose of the sampler series is to develop your stitching skills\, introduce you to new patterns throughout the region’s history\, as well as learn more about textiles produced in the Holy Land throughout the centuries. \nOpen to students of all skill levels\, learn the history and meaning behind traditional Palestinian patterns\, basics of transferring a pattern to fabric\, threading a needle\, various cross-stitching methodologies\, how to keep the back of your cloth clean\, color theory and design\, project planning\, and motif repetition. No experience is required. \n Download the supply list for this class
URL:https://arabishway.com/event/smithsonian-sampler-series-tatreez-2/
LOCATION:WA
CATEGORIES:Art,Workshop
ATTACH;FMTTYPE=image/jpeg:https://arabishway.com/wp-content/uploads/2021/01/Tatreez-and-Tea-Smithsonian.jpg
END:VEVENT
END:VCALENDAR