BEGIN:VCALENDAR
VERSION:2.0
PRODID:-//ArabishWay - ECPv6.15.20//NONSGML v1.0//EN
CALSCALE:GREGORIAN
METHOD:PUBLISH
X-WR-CALNAME:ArabishWay
X-ORIGINAL-URL:https://arabishway.com
X-WR-CALDESC:Events for ArabishWay
REFRESH-INTERVAL;VALUE=DURATION:PT1H
X-Robots-Tag:noindex
X-PUBLISHED-TTL:PT1H
BEGIN:VTIMEZONE
TZID:UTC
BEGIN:STANDARD
TZOFFSETFROM:+0000
TZOFFSETTO:+0000
TZNAME:UTC
DTSTART:20190101T000000
END:STANDARD
END:VTIMEZONE
BEGIN:VTIMEZONE
TZID:America/Los_Angeles
BEGIN:DAYLIGHT
TZOFFSETFROM:-0800
TZOFFSETTO:-0700
TZNAME:PDT
DTSTART:20190310T100000
END:DAYLIGHT
BEGIN:STANDARD
TZOFFSETFROM:-0700
TZOFFSETTO:-0800
TZNAME:PST
DTSTART:20191103T090000
END:STANDARD
BEGIN:DAYLIGHT
TZOFFSETFROM:-0800
TZOFFSETTO:-0700
TZNAME:PDT
DTSTART:20200308T100000
END:DAYLIGHT
BEGIN:STANDARD
TZOFFSETFROM:-0700
TZOFFSETTO:-0800
TZNAME:PST
DTSTART:20201101T090000
END:STANDARD
BEGIN:DAYLIGHT
TZOFFSETFROM:-0800
TZOFFSETTO:-0700
TZNAME:PDT
DTSTART:20210314T100000
END:DAYLIGHT
BEGIN:STANDARD
TZOFFSETFROM:-0700
TZOFFSETTO:-0800
TZNAME:PST
DTSTART:20211107T090000
END:STANDARD
END:VTIMEZONE
BEGIN:VEVENT
DTSTART;VALUE=DATE:20200901
DTEND;VALUE=DATE:20210101
DTSTAMP:20260425T134740
CREATED:20200827T032941Z
LAST-MODIFIED:20201001T034245Z
UID:10000667-1598918400-1609459199@arabishway.com
SUMMARY:Tatreez Workshops and Lectures by Tatreez and Tea
DESCRIPTION:Your instructor is author and scholar Wafa Ghnaim\, founder of Tatreez & Tea! \nTatreez & Tea’s mission is to preserve Palestinian embroidery and storytelling traditions in the diaspora. Tatreez & Tea is the first of it’s kind. When Wafa first founded Tatreez & Tea in 2016\, she was the only educator solely focused on Palestinian embroidery\, traveling the US and the world. Now\, new local initiatives\, culture bearers\, “tatreez circles”\, and mentors are emerging from communities around the world like never before. The tatreez revolution has gained a beautiful momentum and now is the time to join. \nWafa’s goal in her educational classes are three-fold: educate students from art history and oral history perspectives that preserve the meanings\, stories and symbolism of traditional Palestinian embroidery motifs; teach versatile skills that allow students to eventually produce large independent projects; encourage students to become creative and grow beyond simply abiding by traditional embroidery principles. \nClick here for upcoming events! \nhttps://www.tatreezandtea.com/events
URL:https://arabishway.com/event/tatreez-workshops-and-lectures-by-tatreez-and-tea/
LOCATION:WA
CATEGORIES:Art,Lecture,Workshop
ATTACH;FMTTYPE=image/jpeg:https://arabishway.com/wp-content/uploads/2020/06/Palestine-Museum-Tatreez.jpg
ORGANIZER;CN="Tatreez and Tea":MAILTO:WAFA@TATREEZANDTEA.COM
END:VEVENT
BEGIN:VEVENT
DTSTART;TZID=America/Los_Angeles:20201114T110000
DTEND;TZID=America/Los_Angeles:20201114T130000
DTSTAMP:20260425T134740
CREATED:20201001T000130Z
LAST-MODIFIED:20201029T225528Z
UID:10000704-1605351600-1605358800@arabishway.com
SUMMARY:Grateful Every Day: Writing Poems Together — Youth Workshop with Naomi Shihab Nye
DESCRIPTION:Online via Zoom\nRegistration required  \nHow can poems help our lives? Naomi Shihab Nye\, Young People’s Poet Laureate\, leads this friendly writing workshop for students in grades 6\, 7 and 8 — no experience in poetry necessary. This online workshop\, taking place via Zoom\, will involve simple strategies for writing around the general topics of attention and gratitude\, with some on-the-spot note-taking and sharing of ideas and work. After two hours\, participants will have rough drafts of at least 3-4 poems of their own. Bring paper and pen. Bring an open mind about your own writing powers and potential. We are all richer in resources than we think we are. How do we welcome some of our thoughts and insights onto the page? No stress. You don’t have to dress up! Register for the workshop  \nNaomi Shihab Nye was born in St. Louis\, lived in Jerusalem and now lives in San Antonio\, Texas. Palestinian American\, she started writing poems at the age of 6 and believes “we are all living in poems.” She has published more than 30 books of poetry and prose and conducted writing workshops all over the world since college days. Nye was named by The Poetry Foundation as the Young People’s Poet Laureate for 2019-2021\, making her the first Arab American to earn this honor.
URL:https://arabishway.com/event/grateful-every-day-writing-poems-together-youth-workshop-with-naomi-shihab-nye/
LOCATION:WA
CATEGORIES:Poetry,Workshop
ATTACH;FMTTYPE=image/jpeg:https://arabishway.com/wp-content/uploads/2020/09/Naomi-Shihab-Nye.jpg
END:VEVENT
END:VCALENDAR