BEGIN:VCALENDAR
VERSION:2.0
PRODID:-//ArabishWay - ECPv6.15.20//NONSGML v1.0//EN
CALSCALE:GREGORIAN
METHOD:PUBLISH
X-WR-CALNAME:ArabishWay
X-ORIGINAL-URL:https://arabishway.com
X-WR-CALDESC:Events for ArabishWay
REFRESH-INTERVAL;VALUE=DURATION:PT1H
X-Robots-Tag:noindex
X-PUBLISHED-TTL:PT1H
BEGIN:VTIMEZONE
TZID:America/Los_Angeles
BEGIN:DAYLIGHT
TZOFFSETFROM:-0800
TZOFFSETTO:-0700
TZNAME:PDT
DTSTART:20240310T100000
END:DAYLIGHT
BEGIN:STANDARD
TZOFFSETFROM:-0700
TZOFFSETTO:-0800
TZNAME:PST
DTSTART:20241103T090000
END:STANDARD
BEGIN:DAYLIGHT
TZOFFSETFROM:-0800
TZOFFSETTO:-0700
TZNAME:PDT
DTSTART:20250309T100000
END:DAYLIGHT
BEGIN:STANDARD
TZOFFSETFROM:-0700
TZOFFSETTO:-0800
TZNAME:PST
DTSTART:20251102T090000
END:STANDARD
BEGIN:DAYLIGHT
TZOFFSETFROM:-0800
TZOFFSETTO:-0700
TZNAME:PDT
DTSTART:20260308T100000
END:DAYLIGHT
BEGIN:STANDARD
TZOFFSETFROM:-0700
TZOFFSETTO:-0800
TZNAME:PST
DTSTART:20261101T090000
END:STANDARD
END:VTIMEZONE
BEGIN:VEVENT
DTSTART;VALUE=DATE:20250406
DTEND;VALUE=DATE:20250420
DTSTAMP:20260423T010255
CREATED:20250106T054557Z
LAST-MODIFIED:20250106T054751Z
UID:10002794-1743897600-1745107199@arabishway.com
SUMMARY:Moroccan Culinary Tour with A Crafty Arab
DESCRIPTION:April 6-19\, 2025Embark on a 14-day culinary tour of Morocco\, where food enthusiasts can immerse themselves in the country’s rich gastronomic traditions. Begin with cooking classes in Casablanca\, Tangier\, Fes\, and Marrakesh\, learning to create authentic Moroccan dishes like tagines and couscous. Between classes\, explore the vibrant cities and their unique culinary scenes. In addition to the cooking experiences\, visit the historic and cultural sites of Rabat\, Meknes\, Volubilis\, Erfoud\, and Ouarzazate. This small group tour offers a perfect blend of hands-on culinary education and the opportunity to discover Morocco’s diverse landscapes and heritage.\nFind more information and book on Caravan Serai here: https://www.caravan-serai.com/tours/morocco-culinary-tour/
URL:https://arabishway.com/event/moroccan-culinary-tour-with-a-crafty-arab-copy/
CATEGORIES:Travel
ATTACH;FMTTYPE=image/jpeg:https://arabishway.com/wp-content/uploads/2025/01/Morocco-Culinary-Tour.jpeg
ORGANIZER;CN="A Crafty Arab":MAILTO:ACraftyArab at gmail
END:VEVENT
BEGIN:VEVENT
DTSTART;TZID=America/Los_Angeles:20250827T090000
DTEND;TZID=America/Los_Angeles:20250827T103000
DTSTAMP:20260423T010255
CREATED:20250826T221822Z
LAST-MODIFIED:20250826T221822Z
UID:10003256-1756285200-1756290600@arabishway.com
SUMMARY:Yafa: Virtual Delegation
DESCRIPTION:We are thrilled to announce that for this month’s virtual delegation to Yafa\, occupied Palestine\, we will be joined by Sami Abu Shehadeh– Palestinian elected official and former member of the Knesset.  \nDuring this virtual delegation and Q&A on Wednesday\, August 27th at 12pm EST\, hear from community and political leaders Abed and Sami Abu Shehadeh about the history of Yafa\, the challenges that Palestinians are currently facing there\, as well as the city’s significance in connection to the ongoing genocide and displacement in Gaza. \n  \nRegister for the event here!
URL:https://arabishway.com/event/yafa-virtual-delegation/
LOCATION:Virtual
CATEGORIES:Lecture,Travel
ATTACH;FMTTYPE=image/png:https://arabishway.com/wp-content/uploads/2025/08/Screenshot-2025-08-26-at-3.11.03-PM.png
END:VEVENT
END:VCALENDAR