BEGIN:VCALENDAR
VERSION:2.0
PRODID:-//ArabishWay - ECPv6.15.20//NONSGML v1.0//EN
CALSCALE:GREGORIAN
METHOD:PUBLISH
X-WR-CALNAME:ArabishWay
X-ORIGINAL-URL:https://arabishway.com
X-WR-CALDESC:Events for ArabishWay
REFRESH-INTERVAL;VALUE=DURATION:PT1H
X-Robots-Tag:noindex
X-PUBLISHED-TTL:PT1H
BEGIN:VTIMEZONE
TZID:America/Los_Angeles
BEGIN:DAYLIGHT
TZOFFSETFROM:-0800
TZOFFSETTO:-0700
TZNAME:PDT
DTSTART:20220313T100000
END:DAYLIGHT
BEGIN:STANDARD
TZOFFSETFROM:-0700
TZOFFSETTO:-0800
TZNAME:PST
DTSTART:20221106T090000
END:STANDARD
BEGIN:DAYLIGHT
TZOFFSETFROM:-0800
TZOFFSETTO:-0700
TZNAME:PDT
DTSTART:20230312T100000
END:DAYLIGHT
BEGIN:STANDARD
TZOFFSETFROM:-0700
TZOFFSETTO:-0800
TZNAME:PST
DTSTART:20231105T090000
END:STANDARD
BEGIN:DAYLIGHT
TZOFFSETFROM:-0800
TZOFFSETTO:-0700
TZNAME:PDT
DTSTART:20240310T100000
END:DAYLIGHT
BEGIN:STANDARD
TZOFFSETFROM:-0700
TZOFFSETTO:-0800
TZNAME:PST
DTSTART:20241103T090000
END:STANDARD
END:VTIMEZONE
BEGIN:VEVENT
DTSTART;VALUE=DATE:20230321
DTEND;VALUE=DATE:20230327
DTSTAMP:20260422T043333
CREATED:20230321T182717Z
LAST-MODIFIED:20230321T183229Z
UID:10001692-1679356800-1679875199@arabishway.com
SUMMARY:Faza'a Immersion Program in Palestine - Summer 2023
DESCRIPTION:Apply for a fully funded youth organizer immersion program to Palestine with @fazaaprogram for this July (2023) \nApply at bit.ly/apply-fazaa \n  \nEligibility Criteria:\n\n\nBetween the ages of 20-34.\nReside in the United States.\nHave a minimum of 1 year of grassroots/volunteer organizing experience for Palestinian liberation.\nBe available and ready to commit to a 4 week program from July 1st to July 31st\, 2023 and attending pre and post trip zoom meetings.\nBe able to commit to fundraise based on an equity sliding scale\, between $100-$500 USD by June 15th.
URL:https://arabishway.com/event/fazaa-immersion-program-in-palestine-summer-2023/
CATEGORIES:Social Justice,Travel
ATTACH;FMTTYPE=image/jpeg:https://arabishway.com/wp-content/uploads/2023/03/Fazaa.jpeg
END:VEVENT
END:VCALENDAR