BEGIN:VCALENDAR
VERSION:2.0
PRODID:-//ArabishWay - ECPv6.15.20//NONSGML v1.0//EN
CALSCALE:GREGORIAN
METHOD:PUBLISH
X-ORIGINAL-URL:https://arabishway.com
X-WR-CALDESC:Events for ArabishWay
REFRESH-INTERVAL;VALUE=DURATION:PT1H
X-Robots-Tag:noindex
X-PUBLISHED-TTL:PT1H
BEGIN:VTIMEZONE
TZID:America/Los_Angeles
BEGIN:DAYLIGHT
TZOFFSETFROM:-0800
TZOFFSETTO:-0700
TZNAME:PDT
DTSTART:20210314T100000
END:DAYLIGHT
BEGIN:STANDARD
TZOFFSETFROM:-0700
TZOFFSETTO:-0800
TZNAME:PST
DTSTART:20211107T090000
END:STANDARD
BEGIN:DAYLIGHT
TZOFFSETFROM:-0800
TZOFFSETTO:-0700
TZNAME:PDT
DTSTART:20220313T100000
END:DAYLIGHT
BEGIN:STANDARD
TZOFFSETFROM:-0700
TZOFFSETTO:-0800
TZNAME:PST
DTSTART:20221106T090000
END:STANDARD
BEGIN:DAYLIGHT
TZOFFSETFROM:-0800
TZOFFSETTO:-0700
TZNAME:PDT
DTSTART:20230312T100000
END:DAYLIGHT
BEGIN:STANDARD
TZOFFSETFROM:-0700
TZOFFSETTO:-0800
TZNAME:PST
DTSTART:20231105T090000
END:STANDARD
END:VTIMEZONE
BEGIN:VEVENT
DTSTART;TZID=America/Los_Angeles:20221203T040000
DTEND;TZID=America/Los_Angeles:20221203T050000
DTSTAMP:20260423T055949
CREATED:20221128T011930Z
LAST-MODIFIED:20221128T011930Z
UID:10001558-1670040000-1670043600@arabishway.com
SUMMARY:Heygo: The Presidential Palace - Abu Dhabi
DESCRIPTION:The Presidential Palace of Abu Dhabi also known as Qasr Al Watan is more than just a palace. It is an unique testament to the spirit of the United Arab Emirates’ people and its leaders. The Palace invites the world to share in our culture\, knowledge and inspiring journey. It is an enriching interactive journey in a contemporary setting that reveals and reflects on governance\, knowledge and craftsmanship.
URL:https://arabishway.com/event/heygo-the-presidential-palace-abu-dhabi/
LOCATION:Virtual
CATEGORIES:Travel
ATTACH;FMTTYPE=image/png:https://arabishway.com/wp-content/uploads/2022/11/Screen-Shot-2022-11-27-at-5.17.02-PM.png
END:VEVENT
END:VCALENDAR