BEGIN:VCALENDAR
VERSION:2.0
PRODID:-//ArabishWay - ECPv6.15.20//NONSGML v1.0//EN
CALSCALE:GREGORIAN
METHOD:PUBLISH
X-WR-CALNAME:ArabishWay
X-ORIGINAL-URL:https://arabishway.com
X-WR-CALDESC:Events for ArabishWay
REFRESH-INTERVAL;VALUE=DURATION:PT1H
X-Robots-Tag:noindex
X-PUBLISHED-TTL:PT1H
BEGIN:VTIMEZONE
TZID:America/Los_Angeles
BEGIN:DAYLIGHT
TZOFFSETFROM:-0800
TZOFFSETTO:-0700
TZNAME:PDT
DTSTART:20210314T100000
END:DAYLIGHT
BEGIN:STANDARD
TZOFFSETFROM:-0700
TZOFFSETTO:-0800
TZNAME:PST
DTSTART:20211107T090000
END:STANDARD
BEGIN:DAYLIGHT
TZOFFSETFROM:-0800
TZOFFSETTO:-0700
TZNAME:PDT
DTSTART:20220313T100000
END:DAYLIGHT
BEGIN:STANDARD
TZOFFSETFROM:-0700
TZOFFSETTO:-0800
TZNAME:PST
DTSTART:20221106T090000
END:STANDARD
BEGIN:DAYLIGHT
TZOFFSETFROM:-0800
TZOFFSETTO:-0700
TZNAME:PDT
DTSTART:20230312T100000
END:DAYLIGHT
BEGIN:STANDARD
TZOFFSETFROM:-0700
TZOFFSETTO:-0800
TZNAME:PST
DTSTART:20231105T090000
END:STANDARD
END:VTIMEZONE
BEGIN:VEVENT
DTSTART;TZID=America/Los_Angeles:20220813T120000
DTEND;TZID=America/Los_Angeles:20220813T150000
DTSTAMP:20260422T075612
CREATED:20220726T011152Z
LAST-MODIFIED:20220726T011434Z
UID:10001372-1660392000-1660402800@arabishway.com
SUMMARY:Three Story Times at the Arab Festival
DESCRIPTION:Join me at the Arab Festival \nI’ll have three story times each day: \nSaturday\n\nAnimals Story Time: 12:00pm – 12:30pm + activity to follow\n\nColors Story Time: 1:00pm -1:30pm + activity to follow\n\nParts of the Body Story Time 2:00pm – 2:30pm + activity to follow\n\n\nSunday\n\n\nAnimals Story Time: 12:00pm – 12:30pm + activity to follow\n\nColors Story Time: 1:00pm -1:30pm + activity to follow\n\nParts of the Body Story Time 2:00pm – 2:30pm + activity to follow\n\n\n\nPlus check out the Art Board “MEET 8 GREAT PALESTINIAN WOMEN” featuring amazing women like Maysoon Zayid and Rashida Tlaib\nand a coloring table where you and your child can learn some Arabic letters and Arabic words (transliteration available)
URL:https://arabishway.com/event/three-story-times-at-the-arab-festival/
LOCATION:Seattle Center – Armory\, 305 Harrison St\, Seattle\, WA\, 98109\, United States
CATEGORIES:Story Time
ATTACH;FMTTYPE=image/png:https://arabishway.com/wp-content/uploads/2021/02/MPP-storytime-2021.png
END:VEVENT
END:VCALENDAR