BEGIN:VCALENDAR
VERSION:2.0
PRODID:-//ArabishWay - ECPv6.15.20//NONSGML v1.0//EN
CALSCALE:GREGORIAN
METHOD:PUBLISH
X-WR-CALNAME:ArabishWay
X-ORIGINAL-URL:https://arabishway.com
X-WR-CALDESC:Events for ArabishWay
REFRESH-INTERVAL;VALUE=DURATION:PT1H
X-Robots-Tag:noindex
X-PUBLISHED-TTL:PT1H
BEGIN:VTIMEZONE
TZID:America/Los_Angeles
BEGIN:DAYLIGHT
TZOFFSETFROM:-0800
TZOFFSETTO:-0700
TZNAME:PDT
DTSTART:20210314T100000
END:DAYLIGHT
BEGIN:STANDARD
TZOFFSETFROM:-0700
TZOFFSETTO:-0800
TZNAME:PST
DTSTART:20211107T090000
END:STANDARD
BEGIN:DAYLIGHT
TZOFFSETFROM:-0800
TZOFFSETTO:-0700
TZNAME:PDT
DTSTART:20220313T100000
END:DAYLIGHT
BEGIN:STANDARD
TZOFFSETFROM:-0700
TZOFFSETTO:-0800
TZNAME:PST
DTSTART:20221106T090000
END:STANDARD
BEGIN:DAYLIGHT
TZOFFSETFROM:-0800
TZOFFSETTO:-0700
TZNAME:PDT
DTSTART:20230312T100000
END:DAYLIGHT
BEGIN:STANDARD
TZOFFSETFROM:-0700
TZOFFSETTO:-0800
TZNAME:PST
DTSTART:20231105T090000
END:STANDARD
END:VTIMEZONE
BEGIN:VEVENT
DTSTART;TZID=America/Los_Angeles:20220402T080000
DTEND;TZID=America/Los_Angeles:20220402T083000
DTSTAMP:20260422T181353
CREATED:20220226T221934Z
LAST-MODIFIED:20220226T222536Z
UID:10001235-1648886400-1648888200@arabishway.com
SUMMARY:Arabic Language and Story Time for Young Children w/ Laila Taji from ArabishWay at MPP
DESCRIPTION:Young children ages 2-5 will learn the basics of the Arabic language with a fun theme each month.\n\n\n\n\n\nAbout this event\n\n\nLaila Taji\, author of These Chicks and My Grandfather Has a Donkey\, uses songs\, familiar stories\, and fun activities to form a bridge from English to the Arabic language. Each month\, and using colloquial dialect\, your child will be exposed to songs\, stories\, and activities based on the theme\, 2-4 Arabic letters\, and a highlight of one Palestinian city\, town\, or village. A worksheet will be sent in advance with links to the transliterations and translations of all the stories and songs\, as well as the printable activities. \nThese sessions are free. MPP has a suggested donation of $10. The Museum of the Palestinian People Resilience Monthly Club members who register for these sessions will receive a free copy of These Chicks. Please click here to make a donation or to become a Resilience Monthly Club member. Thank you for your support! \nSeptember: alphabet \nOctober: numbers \nNovember: days of the week \nDecember: colors \nJanuary: animals \nFebruary: family \nMarch: parts of the body \nApril: seasons/temperature \nMay: movement \nJune: surprise topic!
URL:https://arabishway.com/event/arabic-language-and-story-time-for-young-children-w-laila-taji-from-arabishway-at-mpp-apr-2/
CATEGORIES:Story Time
ATTACH;FMTTYPE=image/png:https://arabishway.com/wp-content/uploads/2021/02/MPP-storytime-2021.png
ORGANIZER;CN="Museum of the Palestinian People":MAILTO:https://mpp-dc.org/contact/
END:VEVENT
BEGIN:VEVENT
DTSTART;TZID=America/Los_Angeles:20220427T140000
DTEND;TZID=America/Los_Angeles:20220427T160000
DTSTAMP:20260422T181353
CREATED:20220427T035036Z
LAST-MODIFIED:20220427T035036Z
UID:10001286-1651068000-1651075200@arabishway.com
SUMMARY:Author Visit: Hudda Ibrahim: What Color is My Hijab?
DESCRIPTION:Join Somali American author Hudda Ibrahim as she shares her picture book\, What Color is My Hijab? \nPlease register.  \nYou will be emailed a link no later than one hour before the program start time. If you do not see an email\, check your Junk or Spam folder. \nReasonable accommodation for people with disabilities is available by request. Email access@kcls.org at least seven days before the event. Automated closed captioning is always available for online events.
URL:https://arabishway.com/event/author-visit-hudda-ibrahim-what-color-is-my-hijab/
CATEGORIES:Book Reading,Story Time
ATTACH;FMTTYPE=image/jpeg:https://arabishway.com/wp-content/uploads/2022/04/hudda.jpeg
END:VEVENT
END:VCALENDAR