BEGIN:VCALENDAR
VERSION:2.0
PRODID:-//ArabishWay - ECPv6.15.20//NONSGML v1.0//EN
CALSCALE:GREGORIAN
METHOD:PUBLISH
X-WR-CALNAME:ArabishWay
X-ORIGINAL-URL:https://arabishway.com
X-WR-CALDESC:Events for ArabishWay
REFRESH-INTERVAL;VALUE=DURATION:PT1H
X-Robots-Tag:noindex
X-PUBLISHED-TTL:PT1H
BEGIN:VTIMEZONE
TZID:America/Los_Angeles
BEGIN:DAYLIGHT
TZOFFSETFROM:-0800
TZOFFSETTO:-0700
TZNAME:PDT
DTSTART:20200308T100000
END:DAYLIGHT
BEGIN:STANDARD
TZOFFSETFROM:-0700
TZOFFSETTO:-0800
TZNAME:PST
DTSTART:20201101T090000
END:STANDARD
BEGIN:DAYLIGHT
TZOFFSETFROM:-0800
TZOFFSETTO:-0700
TZNAME:PDT
DTSTART:20210314T100000
END:DAYLIGHT
BEGIN:STANDARD
TZOFFSETFROM:-0700
TZOFFSETTO:-0800
TZNAME:PST
DTSTART:20211107T090000
END:STANDARD
BEGIN:DAYLIGHT
TZOFFSETFROM:-0800
TZOFFSETTO:-0700
TZNAME:PDT
DTSTART:20220313T100000
END:DAYLIGHT
BEGIN:STANDARD
TZOFFSETFROM:-0700
TZOFFSETTO:-0800
TZNAME:PST
DTSTART:20221106T090000
END:STANDARD
END:VTIMEZONE
BEGIN:VEVENT
DTSTART;TZID=America/Los_Angeles:20210726T100000
DTEND;TZID=America/Los_Angeles:20210726T110000
DTSTAMP:20260424T102004
CREATED:20210630T175412Z
LAST-MODIFIED:20210630T175431Z
UID:10000961-1627293600-1627297200@arabishway.com
SUMMARY:Say Something & Peg + Cat: The Eid Al-Adha Adventure  - English-Arabic Storytime 
DESCRIPTION:1 p.m. EDT Monday\, July 26\, 2021\nSay Something & Peg + Cat: The Eid Al-Adha Adventure \n\nJoin us for an English-Arabic Storytime in celebration of Eid Al-Adha\, from the comfort of your home! Children ages 2-6 and their parents are invited to tune in as resident storyteller Sari Mira reads the books Say Something & Peg + Cat: The Eid Al-Adha Adventure in both English and Arabic. \nSay Something by Peter H. Reynolds explores the many ways that a single voice can make a difference. Each of us\, each and every day\, have the chance to say something: with our actions\, our words\, and our voices. Perfect for kid activists everywhere\, this timely story reminds readers of the undeniable importance and power of their voice. \nPeg + Cat: The Eid Al-Adha by Jennifer Oxley and Billy Aronson follows Peg and Cat as they learn all about the concept of taking from where there’s more and giving to where there’s less. While visiting friends Yasmina and Amir for Eid Al-Adha\, Peg and Cat learn some surprising things about a holiday tradition. \n\n\nThe Storytime will go up at 1 p.m. EDT on Monday\, July 26 on our Storytime page\, where you can also check out previous Online Storytimes.
URL:https://arabishway.com/event/11473/
CATEGORIES:Story Time
ATTACH;FMTTYPE=image/jpeg:https://arabishway.com/wp-content/uploads/2021/06/StoryTime-AANM.jpeg
END:VEVENT
END:VCALENDAR