BEGIN:VCALENDAR
VERSION:2.0
PRODID:-//ArabishWay - ECPv6.15.20//NONSGML v1.0//EN
CALSCALE:GREGORIAN
METHOD:PUBLISH
X-WR-CALNAME:ArabishWay
X-ORIGINAL-URL:https://arabishway.com
X-WR-CALDESC:Events for ArabishWay
REFRESH-INTERVAL;VALUE=DURATION:PT1H
X-Robots-Tag:noindex
X-PUBLISHED-TTL:PT1H
BEGIN:VTIMEZONE
TZID:America/Los_Angeles
BEGIN:DAYLIGHT
TZOFFSETFROM:-0800
TZOFFSETTO:-0700
TZNAME:PDT
DTSTART:20250309T100000
END:DAYLIGHT
BEGIN:STANDARD
TZOFFSETFROM:-0700
TZOFFSETTO:-0800
TZNAME:PST
DTSTART:20251102T090000
END:STANDARD
BEGIN:DAYLIGHT
TZOFFSETFROM:-0800
TZOFFSETTO:-0700
TZNAME:PDT
DTSTART:20260308T100000
END:DAYLIGHT
BEGIN:STANDARD
TZOFFSETFROM:-0700
TZOFFSETTO:-0800
TZNAME:PST
DTSTART:20261101T090000
END:STANDARD
BEGIN:DAYLIGHT
TZOFFSETFROM:-0800
TZOFFSETTO:-0700
TZNAME:PDT
DTSTART:20270314T100000
END:DAYLIGHT
BEGIN:STANDARD
TZOFFSETFROM:-0700
TZOFFSETTO:-0800
TZNAME:PST
DTSTART:20271107T090000
END:STANDARD
END:VTIMEZONE
BEGIN:VEVENT
DTSTART;TZID=America/Los_Angeles:20260215T150000
DTEND;TZID=America/Los_Angeles:20260215T180000
DTSTAMP:20260421T074932
CREATED:20260123T231208Z
LAST-MODIFIED:20260123T231208Z
UID:10004849-1771167600-1771178400@arabishway.com
SUMMARY:ILPS Seattle-Tacoma Reportback from the International People's Tribunal for Palestine
DESCRIPTION:Right to Resist: The Palestinian People vs the Zionist Occupation and the US Government was an International People’s Tribunal on the US-Backed Zionist Occupation’s War of Forced Starvation and Ecocide in Palestine. It found the US & Zionist entity “Israel” found GUILTY OF GENOCIDE\, ECOCIDE & FORCED STARVATION. Join us as we share back the proceedings of the International People’s Tribunal on Palestine to expose and oppose the occupation\, genocide and ecocide of Palestine in any way that we can. \nILPS Seattle-Tacoma
URL:https://arabishway.com/event/ilps-seattle-tacoma-reportback-from-the-international-peoples-tribunal-for-palestine/
LOCATION:RSVP for Location
CATEGORIES:Social Justice
ATTACH;FMTTYPE=image/png:https://arabishway.com/wp-content/uploads/2026/01/Screenshot-2026-01-23-at-3.11.31-PM.png
END:VEVENT
END:VCALENDAR