BEGIN:VCALENDAR
VERSION:2.0
PRODID:-//ArabishWay - ECPv6.15.20//NONSGML v1.0//EN
CALSCALE:GREGORIAN
METHOD:PUBLISH
X-ORIGINAL-URL:https://arabishway.com
X-WR-CALDESC:Events for ArabishWay
REFRESH-INTERVAL;VALUE=DURATION:PT1H
X-Robots-Tag:noindex
X-PUBLISHED-TTL:PT1H
BEGIN:VTIMEZONE
TZID:America/Los_Angeles
BEGIN:DAYLIGHT
TZOFFSETFROM:-0800
TZOFFSETTO:-0700
TZNAME:PDT
DTSTART:20240310T100000
END:DAYLIGHT
BEGIN:STANDARD
TZOFFSETFROM:-0700
TZOFFSETTO:-0800
TZNAME:PST
DTSTART:20241103T090000
END:STANDARD
BEGIN:DAYLIGHT
TZOFFSETFROM:-0800
TZOFFSETTO:-0700
TZNAME:PDT
DTSTART:20250309T100000
END:DAYLIGHT
BEGIN:STANDARD
TZOFFSETFROM:-0700
TZOFFSETTO:-0800
TZNAME:PST
DTSTART:20251102T090000
END:STANDARD
BEGIN:DAYLIGHT
TZOFFSETFROM:-0800
TZOFFSETTO:-0700
TZNAME:PDT
DTSTART:20260308T100000
END:DAYLIGHT
BEGIN:STANDARD
TZOFFSETFROM:-0700
TZOFFSETTO:-0800
TZNAME:PST
DTSTART:20261101T090000
END:STANDARD
END:VTIMEZONE
BEGIN:VEVENT
DTSTART;TZID=America/Los_Angeles:20250507T090000
DTEND;TZID=America/Los_Angeles:20250507T103000
DTSTAMP:20260420T040325
CREATED:20250430T204056Z
LAST-MODIFIED:20250430T204056Z
UID:10003068-1746608400-1746613800@arabishway.com
SUMMARY:Mutual Aid Webinar: Rahat - Building Joy
DESCRIPTION:Learn about the struggles of the Afro Bedouin community in Rahat\, and hear powerful stories of resistance and survival in the Naqab region.
URL:https://arabishway.com/event/mutual-aid-webinar-rahat-building-joy/
LOCATION:Virtual
CATEGORIES:Benefit/Fundraiser,Social Justice
ATTACH;FMTTYPE=image/png:https://arabishway.com/wp-content/uploads/2025/04/Screenshot-2025-04-30-at-1.37.35 PM.png
END:VEVENT
BEGIN:VEVENT
DTSTART;TZID=America/Los_Angeles:20250508T180000
DTEND;TZID=America/Los_Angeles:20250508T200000
DTSTAMP:20260420T040325
CREATED:20250507T042257Z
LAST-MODIFIED:20250507T042257Z
UID:10003113-1746727200-1746734400@arabishway.com
SUMMARY:Pop-Up Resistance Chalk 'n' Talk
DESCRIPTION:Pop up on Thursday!!! Come join us❤️ Evergreen park in Bremerton on May 8th 6pm.
URL:https://arabishway.com/event/pop-up-resistance-chalk-n-talk/
LOCATION:Evergreen Park\, 1500 Park Ave\, Bremerton\, WA\, 98337
CATEGORIES:Gathering,Social Justice
ATTACH;FMTTYPE=image/png:https://arabishway.com/wp-content/uploads/2025/05/Screenshot-2025-05-06-at-8.42.51 PM.png
END:VEVENT
BEGIN:VEVENT
DTSTART;TZID=America/Los_Angeles:20250510T150000
DTEND;TZID=America/Los_Angeles:20250510T170000
DTSTAMP:20260420T040325
CREATED:20250507T040446Z
LAST-MODIFIED:20250507T041828Z
UID:10003112-1746889200-1746896400@arabishway.com
SUMMARY:Palestinian Youth Movement Meeting
DESCRIPTION:🇵🇸 SEATTLE 🇵🇸 Seattle Arab Youth: Gaza is calling\, it is time to organize! Are you between the ages of 18 and 35 looking to do more for Palestine and to advance the cause of our people? As Arabs in diaspora\, we cannot stand idly by while we watch our people in Gaza is being deliberately starved and ethnically cleansed from their lands. In this heightened moment of repression\, every single one of us has a critical role in the fight for Palestinian liberation! Join us in Redmond this Saturday at 3PM to plug into the PYM and learn more about our critical work.  \nFor this Arab youth meeting\, we’re asking you to connect back with your roots! Bring an item (or just a picture of the item) from your hometown or village back home\, and be ready to share the significance of the item to you during our icebreakers! \nLET’S SHOW UP FOR OUR PEOPLE 🇵🇸🇵🇸 RSVP at https://bit.ly/PYMSEAvolunteer \n📆 Saturday May 10 \n🕒 3:00PM \n📍Redmond\, RSVP for the exact location \nhttps://www.instagram.com/p/DJS7sPSC8ph/
URL:https://arabishway.com/event/palestinian-youth-movement-meeting/
LOCATION:Register for Location
CATEGORIES:Social Justice
ATTACH;FMTTYPE=image/png:https://arabishway.com/wp-content/uploads/2024/06/PYM-Logo-from-Instagram.png
END:VEVENT
BEGIN:VEVENT
DTSTART;TZID=America/Los_Angeles:20250511T124500
DTEND;TZID=America/Los_Angeles:20250511T141500
DTSTAMP:20260420T040325
CREATED:20250507T033305Z
LAST-MODIFIED:20250507T033305Z
UID:10003110-1746967500-1746972900@arabishway.com
SUMMARY:Mother's Day Rally for Gaza (Bainbridge Island)
DESCRIPTION:There is absolutely nothing I can think of that deserves my time more than the children and mother’s of G*z@ on Mother’s Day. Please bring your banners\, signs and families. We will have snacks\, music and community. We will also have zines\, flyers and buttons for you to take and distribute if you’d like. We need to do more and we will not sit by idly.
URL:https://arabishway.com/event/mothers-day-rally-for-gaza-bainbridge-island/
LOCATION:305 & Winslow Way\, WA-305 & Winslow Way E\, Bainbridge Island\, WA\, 98110
CATEGORIES:Social Justice
ATTACH;FMTTYPE=image/png:https://arabishway.com/wp-content/uploads/2025/05/Screenshot-2025-05-06-at-8.28.05 PM.png
END:VEVENT
BEGIN:VEVENT
DTSTART;TZID=America/Los_Angeles:20250512T153000
DTEND;TZID=America/Los_Angeles:20250512T170000
DTSTAMP:20260420T040325
CREATED:20250507T045259Z
LAST-MODIFIED:20250507T045323Z
UID:10003114-1747063800-1747069200@arabishway.com
SUMMARY:Workshops4Sudan: Transnational Solidarity
DESCRIPTION:sudansolidaritycollective \nGoing back to back weeks this month\, we bring you the next #Workshops4Sudan\, our first collaborative workshop with long-term friends and award-winning poets and writers Safia Elhillo and Jamaica Heolimeleikalani Osorio.  \nThey will be joining us to speak to their friendship with each other\, transnational solidarity and relationships between Sudan and Hawaii\, furthering their expressions of home and also share some of their lovely poetry!  \nSudanese by way of Washington D.C.\, @safiamafia is the author of Girls That Never Die\, The January Children\, Home Is Not a Country\, and Bright Red Fruit\, and co-editor of the anthology Halal If You Hear Me. \nDr. @jamaicaosorio is a Kanaka Maoli wahine artist / activist / scholar / educator / storyteller born and raised in Pālolo Valley\, Hawaiʻi. She is an Associate Professor of Indigenous and Native Hawaiian Politics at the University of Hawaiʻi\, an internationally recognized poet\, subject of an award-winning film\, This is the Way we Rise.  \nWe highly encourage you to sign up ASAP! The link is in our bio and in our stories! You can also visit sudansolidarity.com and click “Workshops4Sudan”link on the home page! Comment down what poem you’re looking forward to them reading on the 12th!  \nSuggested donation: $40 – $100 per workshop. Your contributions reflect our deep appreciation for the time and expertise of our instructors\, as well as the urgent\, ongoing needs in Sudan. \nAll proceeds go directly to the Sudan Solidarity Fund\, supporting vital mutual aid efforts on the ground. When registering\, please select the workshop you’d like to attend—each donation applies to one session. \n#KeepEyesOnSudan #Workshops4Sudan #SafiaElhillo #JamaicaOsorio #TransnationalSolidarity #poetry #friendship #hawaii
URL:https://arabishway.com/event/workshops4sudan-transnational-solidarity/
LOCATION:WA
CATEGORIES:Lecture/Panel Discussion,Social Justice
ATTACH;FMTTYPE=image/png:https://arabishway.com/wp-content/uploads/2025/05/Screenshot-2025-05-06-at-8.40.40 PM.png
END:VEVENT
BEGIN:VEVENT
DTSTART;TZID=America/Los_Angeles:20250513T130000
DTEND;TZID=America/Los_Angeles:20250513T140000
DTSTAMP:20260420T040325
CREATED:20250512T224158Z
LAST-MODIFIED:20250512T224704Z
UID:10003116-1747141200-1747144800@arabishway.com
SUMMARY:Bellevue Bannering for Palestine
DESCRIPTION:Super local – bannering group for Palestine! \nJoin this Wednesday at 1pm at the Exit 9 overpass (Newcastle/Bellevue) \n 
URL:https://arabishway.com/event/bellevue-bannering/
LOCATION:Exit 9 Overpass
CATEGORIES:Gathering,Social Justice
ATTACH;FMTTYPE=image/jpeg:https://arabishway.com/wp-content/uploads/2024/08/free-palestine.jpeg
END:VEVENT
BEGIN:VEVENT
DTSTART;TZID=America/Los_Angeles:20250516T170000
DTEND;TZID=America/Los_Angeles:20250516T190000
DTSTAMP:20260420T040325
CREATED:20250515T054412Z
LAST-MODIFIED:20250515T054441Z
UID:10003123-1747414800-1747422000@arabishway.com
SUMMARY:Nakba Day Rally: Westlake Center
DESCRIPTION:SEATTLE! Take to the streets on Friday\, May 16th @ 5pm at Westlake for a rally and march to amplify loud and clear the injustices of the ongoing Nakba. For the 77th Annual Day of Palestinian Struggle\, come as we respond to the call to fill the streets amongst the escalated genocide and starvation campaign\, and as we learn the history of the ongoing Nakba from 1948 until today\, the honorable resistance of the Palestinian people against over a century of colonialism\, and the ways our communities can join forces in these brutal times of repression. Bring your flags\, your keffiyehs\, your voices\, and your rage! From the river to the sea\, PALESTINE WILL BE FREE!
URL:https://arabishway.com/event/nakba-day-rally/
LOCATION:Westlake Center\, 400 Pine Street\, Seattle\, WA\, 98033\, United States
CATEGORIES:Social Justice
ATTACH;FMTTYPE=image/png:https://arabishway.com/wp-content/uploads/2025/05/Screenshot-2025-05-14-at-10.42.41 PM.png
END:VEVENT
BEGIN:VEVENT
DTSTART;TZID=America/Los_Angeles:20250517T100000
DTEND;TZID=America/Los_Angeles:20250517T120000
DTSTAMP:20260420T040325
CREATED:20250515T051848Z
LAST-MODIFIED:20250515T051848Z
UID:10003120-1747476000-1747483200@arabishway.com
SUMMARY:Join Boycott War Profiteers: Tell PCC to stop profitting from genocide
DESCRIPTION:Saturday 5/17 from 10am-12pm \nhttps://actionnetwork.org/events/517-central-district-pcc-table \n  \nSunday 5/18 from 12pm-2pm at Columbia City PCC \nhttps://actionnetwork.org/events/518-columbia-city-pcc-table/
URL:https://arabishway.com/event/join-boycott-war-profiteers-tell-pcc-to-stop-profitting-from-genocide/
LOCATION:PCC-Central District\, 2230 E Union St\, Seattle\, WA\, 98122
CATEGORIES:Social Justice
ATTACH;FMTTYPE=image/png:https://arabishway.com/wp-content/uploads/2025/04/Screenshot-2025-04-25-at-11.34.16 PM.png
END:VEVENT
BEGIN:VEVENT
DTSTART;TZID=America/Los_Angeles:20250518T120000
DTEND;TZID=America/Los_Angeles:20250518T140000
DTSTAMP:20260420T040325
CREATED:20250515T052055Z
LAST-MODIFIED:20250515T052143Z
UID:10003121-1747569600-1747576800@arabishway.com
SUMMARY:Join Boycott War Profiteers: Tell PCC to stop profitting from genocide Copy
DESCRIPTION:Sunday 5/18 from 12pm-2pm at Columbia City PCC \nhttps://actionnetwork.org/events/518-columbia-city-pcc-table/
URL:https://arabishway.com/event/join-boycott-war-profiteers-tell-pcc-to-stop-profitting-from-genocide-copy/
LOCATION:PCC-Columbia City\, 3610 S Edmunds St\, Seattle\, WA\, 98118\, United States
CATEGORIES:Social Justice
ATTACH;FMTTYPE=image/png:https://arabishway.com/wp-content/uploads/2025/04/Screenshot-2025-04-25-at-11.34.16 PM.png
END:VEVENT
BEGIN:VEVENT
DTSTART;TZID=America/Los_Angeles:20250519T110000
DTEND;TZID=America/Los_Angeles:20250519T130000
DTSTAMP:20260420T040325
CREATED:20250426T064659Z
LAST-MODIFIED:20250426T064726Z
UID:10003011-1747652400-1747659600@arabishway.com
SUMMARY:Escalate Against Microsoft
DESCRIPTION:(Full location to be announced closer to the rally) \nJoin NO AZURE FOR APARTHEID for a community rally and send a clear message to Satya Nadella\, Brad Smith\, Mustafa Suleyman\, and Microsoft execs: NO TECH WEAPONS FOR GENOCIDE! IOF OFF AZURE! DIGITAL ARMS EMBARGO NOW! \nMicrosoft Build is the Coachella of tech giant monopolies violating human rights. Held annually\, #MSBuild is Microsoft’s largest conference of the year\, where Microsoft plans to showcase their latest cloud and AI developments\, all while those same technologies fuel war crimes\, apartheid\, and genocide. Let’s turn up and show Microsoft that there will be no business as usual while Microsoft and its execs have blood on their hands! #BoycottBuild \nMicrosoft Azure cloud offerings form the technological backbone of Israel’s automated apartheid and genocide systems – and the scale of Israel’s ongoing genocide of Palestinians would not be possible without Microsoft cloud and AI technology. Learn more\, follow\, and join our campaign at @noazureforapartheid! 🇵🇸
URL:https://arabishway.com/event/escalate-against-microsoft/
LOCATION:WA
CATEGORIES:Social Justice
END:VEVENT
BEGIN:VEVENT
DTSTART;TZID=America/Los_Angeles:20250528T090000
DTEND;TZID=America/Los_Angeles:20250528T110000
DTSTAMP:20260420T040325
CREATED:20250509T155613Z
LAST-MODIFIED:20250509T155613Z
UID:10003115-1748422800-1748430000@arabishway.com
SUMMARY:Virtual Delegation: Balata Refugee Camp
DESCRIPTION:Join us for a virtual tour of Balata Refugee Camp\, with Mariam Ajwa from the Yafa Cultural Center. \nThis virtual tour will be followed with a discussion and Q&A.
URL:https://arabishway.com/event/virtual-delegation-balata-refugee-camp/
LOCATION:Virtual
CATEGORIES:Lecture,Social Justice
ATTACH;FMTTYPE=image/png:https://arabishway.com/wp-content/uploads/2025/05/Screenshot-2025-05-09-at-8.52.48 AM.png
END:VEVENT
BEGIN:VEVENT
DTSTART;TZID=America/Los_Angeles:20250531T100000
DTEND;TZID=America/Los_Angeles:20250531T113000
DTSTAMP:20260420T040325
CREATED:20250529T210615Z
LAST-MODIFIED:20250531T082033Z
UID:10003141-1748685600-1748691000@arabishway.com
SUMMARY:Webinar on Anti-Palestinian Racism
DESCRIPTION:The Institute for the Understanding of Anti-Palestinian Racism is hosting a virtual educational webinar on Anti-Palestinian Racism. \n\nHere are the details:\nTitle: Understanding Anti-Palestinian Racism in a Time of Fear\nDate: May 31\, 2025\nTime: 10am-11:30am PST/1pm-2:30pm EST\nHow to sign up: Registration link!\n\n\n\nOur goal is to educate\, raise awareness and empower people to approach their own organizations and institutions to address this form of racism.\n\nI’ve attached the flyer as well. We are asking people to limit their posting about the webinar to groups or individuals that would benefit from this form of education and/or are interested in fighting this form of racism but please do spread the word!\n\n\n\n\nHope to see you there!\n\nYou can find out more about our research on anti-Palestinian racism here. \n\n\nThis is a free webinar\, and while there is no charge to attend\, we welcome donations to support the ongoing work of IUAPR. You may donate here.
URL:https://arabishway.com/event/webinar-on-anti-palestinian-racism/
LOCATION:Virtual
CATEGORIES:Lecture,Social Justice
ATTACH;FMTTYPE=image/png:https://arabishway.com/wp-content/uploads/2025/03/image1739738549508.png
END:VEVENT
END:VCALENDAR