BEGIN:VCALENDAR
VERSION:2.0
PRODID:-//ArabishWay - ECPv6.15.20//NONSGML v1.0//EN
CALSCALE:GREGORIAN
METHOD:PUBLISH
X-ORIGINAL-URL:https://arabishway.com
X-WR-CALDESC:Events for ArabishWay
REFRESH-INTERVAL;VALUE=DURATION:PT1H
X-Robots-Tag:noindex
X-PUBLISHED-TTL:PT1H
BEGIN:VTIMEZONE
TZID:America/Los_Angeles
BEGIN:DAYLIGHT
TZOFFSETFROM:-0800
TZOFFSETTO:-0700
TZNAME:PDT
DTSTART:20240310T100000
END:DAYLIGHT
BEGIN:STANDARD
TZOFFSETFROM:-0700
TZOFFSETTO:-0800
TZNAME:PST
DTSTART:20241103T090000
END:STANDARD
BEGIN:DAYLIGHT
TZOFFSETFROM:-0800
TZOFFSETTO:-0700
TZNAME:PDT
DTSTART:20250309T100000
END:DAYLIGHT
BEGIN:STANDARD
TZOFFSETFROM:-0700
TZOFFSETTO:-0800
TZNAME:PST
DTSTART:20251102T090000
END:STANDARD
BEGIN:DAYLIGHT
TZOFFSETFROM:-0800
TZOFFSETTO:-0700
TZNAME:PDT
DTSTART:20260308T100000
END:DAYLIGHT
BEGIN:STANDARD
TZOFFSETFROM:-0700
TZOFFSETTO:-0800
TZNAME:PST
DTSTART:20261101T090000
END:STANDARD
END:VTIMEZONE
BEGIN:VEVENT
DTSTART;TZID=America/Los_Angeles:20251021T170000
DTEND;TZID=America/Los_Angeles:20251021T220000
DTSTAMP:20260422T064221
CREATED:20250928T180353Z
LAST-MODIFIED:20250928T180930Z
UID:10003343-1761066000-1761084000@arabishway.com
SUMMARY:ZoZ presents: Rising Voices for Gaza: A Benefit Concert for Palestine
DESCRIPTION:📅 Tuesday\, October 21st\, 2025\n📍 Black & Tan Hall | 🎵 21+\n🕔 Doors 5pm | Happy Hour 5-7pm | Main Show 7:30pm \nIn a world where the suffering in Gaza can feel overwhelming and distant\, it’s easy to feel paralyzed. But here’s what we know: when community comes together with intention\, we create ripples of real impact ✊ \nJOIN US as we transform helplessness into collective action. This benefit isn’t just about raising funds—it’s about standing together for what matters. 100% of proceeds directly support Gaza Soup Kitchen\, providing essential meals and aid to families in Gaza who need it most. \nARTISTS WHO CARE\, COMING TOGETHER: \nHAPPY HOUR:\n🎤 Deeanthony_goes\, Gray Hurley & Yungg Bleeze – setting the tone with purpose \nHEADLINERS UNITED FOR THE CAUSE:\n🔥 Campana – bringing his genre-blending energy for resistance and hope\n🔥 Gifted Gab – Seattle hip-hop force using her voice for justice\n🔥 DJ Whodinii – born and raised in WA with Palestinian and Jordanian roots\, sharing her heritage through SWANA/MENA sounds\n🔥 Parisalexa – creating intimate moments that move hearts\n🔥 Perry Porter – weaving social consciousness through powerful storytelling \nJOIN US for an evening where caring doesn’t feel isolating—where your desire to help gets amplified by community. \nMusic becomes movement. Community brings impact. BE PART OF IT. \nTickets in bio 🔗 \nCan’t make it? Direct donations: @gazasoupkitchen \n#VoicesRisingForGaza #ZoZExperience #GazaSoupKitchen#PartyForACause #ZoZPresents
URL:https://arabishway.com/event/zoz-presents-rising-voices-for-gaza-a-benefit-concert-for-palestine/
LOCATION:Black & Tan Hall\, 5608 Rainier Ave S\, Seattle\, Washington\, 98118
CATEGORIES:Benefit/Fundraiser,Music
ATTACH;FMTTYPE=image/png:https://arabishway.com/wp-content/uploads/2025/09/Screenshot-2025-09-28-at-11.01.37-AM.png
END:VEVENT
END:VCALENDAR