BEGIN:VCALENDAR
VERSION:2.0
PRODID:-//ArabishWay - ECPv6.15.20//NONSGML v1.0//EN
CALSCALE:GREGORIAN
METHOD:PUBLISH
X-ORIGINAL-URL:https://arabishway.com
X-WR-CALDESC:Events for ArabishWay
REFRESH-INTERVAL;VALUE=DURATION:PT1H
X-Robots-Tag:noindex
X-PUBLISHED-TTL:PT1H
BEGIN:VTIMEZONE
TZID:America/Los_Angeles
BEGIN:DAYLIGHT
TZOFFSETFROM:-0800
TZOFFSETTO:-0700
TZNAME:PDT
DTSTART:20240310T100000
END:DAYLIGHT
BEGIN:STANDARD
TZOFFSETFROM:-0700
TZOFFSETTO:-0800
TZNAME:PST
DTSTART:20241103T090000
END:STANDARD
BEGIN:DAYLIGHT
TZOFFSETFROM:-0800
TZOFFSETTO:-0700
TZNAME:PDT
DTSTART:20250309T100000
END:DAYLIGHT
BEGIN:STANDARD
TZOFFSETFROM:-0700
TZOFFSETTO:-0800
TZNAME:PST
DTSTART:20251102T090000
END:STANDARD
BEGIN:DAYLIGHT
TZOFFSETFROM:-0800
TZOFFSETTO:-0700
TZNAME:PDT
DTSTART:20260308T100000
END:DAYLIGHT
BEGIN:STANDARD
TZOFFSETFROM:-0700
TZOFFSETTO:-0800
TZNAME:PST
DTSTART:20261101T090000
END:STANDARD
END:VTIMEZONE
BEGIN:VEVENT
DTSTART;TZID=America/Los_Angeles:20250924T190000
DTEND;TZID=America/Los_Angeles:20250924T210000
DTSTAMP:20260422T100137
CREATED:20250630T072850Z
LAST-MODIFIED:20250630T072850Z
UID:10003182-1758740400-1758747600@arabishway.com
SUMMARY:Samia at the Neptune Theater
DESCRIPTION:Bovine excision\, a mysterious phenomenon involving the bloodless surgical removal of cattle organs\, serves as the eerie inspiration for the opening track of Samia’s third album\, aptly titled Bloodless. Her voice flows through the evocative lyrics with ease\, weaving through the gentle strum of a lone acoustic guitar. The quiet intimacy builds into a storm of sound\, culminating in Samia’s layered\, ethereal harmonies that pierce with a haunting\, macabre refrain: “And drained\, drained bloodless.” \nThese emptied cattle evoke a grotesque vessel she unwittingly nurtured in an attempt to embody something both untouchable and on display\, overflowing with infinite projections and capable of driving an unrelenting pursuit of the unattainable. Through sharp images—Diet Dr. Pepper and Raymond Carver as parallel pursuits of minimalism\, white underwear and leeches\, a Degas dancer poised at the bannister—Samia examines a paradoxical existence where merit transforms into a calculated act of extraction (“I felt the pea\, can I eat it?”). This is just one strand Samia weaves into the intricate tapestry of Bloodless. \nRich with layers that shift seamlessly from sparse folk to sweeping indie-pop epics\, Bloodless explores Samia’s relationship with a fragmented\, symbolic version of Men—a patchwork of expectations and imagined standards she tried to meet\, which ultimately shaped her sense of self. “I’ve spent the past two decades unintentionally conflating men with my understanding of God\,” Samia explains. “The person I became in order to impress this imagined figure is inseparable from who I am today. With this album\, I’ve tried to confront that head-on.” \nWritten & produced in both North Carolina and her new home of Minneapolis throughout 2024\, Bloodless finds Samia reuniting with longtime-collaborator Caleb Wright and Jake Luppen for the highly-anticipated follow-up to 2023’s revered Honey\, which followed Samia’s 2020’s breakthrough debut The Baby. Across these thirteen songs\, Samia grapples with the hollow form she once embodied — a vessel that gained value through its own absence\, until playing dead became its own form of life. With Bloodless\, she endeavors to disinter the self buried beneath these carefully constructed personas\, ultimately reaching a place of acceptance for her whole\, imperfect being.
URL:https://arabishway.com/event/samia-at-the-neptune-theater/
LOCATION:Neptune\, 1303 Northeast 45th Street\, Seattle\, WA\, 98105\, United States
CATEGORIES:Music
ATTACH;FMTTYPE=image/png:https://arabishway.com/wp-content/uploads/2025/06/Screenshot-2025-06-30-at-12.27.09 AM.png
END:VEVENT
END:VCALENDAR