BEGIN:VCALENDAR
VERSION:2.0
PRODID:-//ArabishWay - ECPv6.15.20//NONSGML v1.0//EN
CALSCALE:GREGORIAN
METHOD:PUBLISH
X-WR-CALNAME:ArabishWay
X-ORIGINAL-URL:https://arabishway.com
X-WR-CALDESC:Events for ArabishWay
REFRESH-INTERVAL;VALUE=DURATION:PT1H
X-Robots-Tag:noindex
X-PUBLISHED-TTL:PT1H
BEGIN:VTIMEZONE
TZID:America/Los_Angeles
BEGIN:DAYLIGHT
TZOFFSETFROM:-0800
TZOFFSETTO:-0700
TZNAME:PDT
DTSTART:20240310T100000
END:DAYLIGHT
BEGIN:STANDARD
TZOFFSETFROM:-0700
TZOFFSETTO:-0800
TZNAME:PST
DTSTART:20241103T090000
END:STANDARD
BEGIN:DAYLIGHT
TZOFFSETFROM:-0800
TZOFFSETTO:-0700
TZNAME:PDT
DTSTART:20250309T100000
END:DAYLIGHT
BEGIN:STANDARD
TZOFFSETFROM:-0700
TZOFFSETTO:-0800
TZNAME:PST
DTSTART:20251102T090000
END:STANDARD
BEGIN:DAYLIGHT
TZOFFSETFROM:-0800
TZOFFSETTO:-0700
TZNAME:PDT
DTSTART:20260308T100000
END:DAYLIGHT
BEGIN:STANDARD
TZOFFSETFROM:-0700
TZOFFSETTO:-0800
TZNAME:PST
DTSTART:20261101T090000
END:STANDARD
END:VTIMEZONE
BEGIN:VEVENT
DTSTART;VALUE=DATE:20250905
DTEND;VALUE=DATE:20250922
DTSTAMP:20260422T114248
CREATED:20250830T172429Z
LAST-MODIFIED:20250830T172429Z
UID:10003272-1757030400-1758499199@arabishway.com
SUMMARY:Little Women the Musical at the Renton Civic Theater
DESCRIPTION:You might ask\, how is Little Women an Arab event?!\n\nThe answer is that you can see the talented Rayan Atallah playing the male lead Mr. John Brooke.\n\nVarious dates/times available – check website for details
URL:https://arabishway.com/event/little-women-the-musical-at-the-renton-civic-theater/
LOCATION:Renton Civic Theatre\, 507 S 3rd St\, Renton\, WA\, 98057
CATEGORIES:Music,Theater
ATTACH;FMTTYPE=image/png:https://arabishway.com/wp-content/uploads/2025/08/Screenshot-2025-08-30-at-10.22.43-AM.png
END:VEVENT
BEGIN:VEVENT
DTSTART;TZID=America/Los_Angeles:20250920T200000
DTEND;TZID=America/Los_Angeles:20250920T230000
DTSTAMP:20260422T114248
CREATED:20250829T233247Z
LAST-MODIFIED:20250830T230430Z
UID:10003262-1758398400-1758409200@arabishway.com
SUMMARY:Intisaar + others at the Rabbit Box Theater
DESCRIPTION:An elegant evening awaits at The Rabbit Box Theatre with Sam & Matt\, Intisaar\, and Leeni. 📅 Sep 20\, 2025\, 8:00 PM doors\, 8:30 PM show. 📍 94 Pike St\, Unit 11\, Seattle\, WA. Secure your tickets for a refined musical experience! #TheRabbitBox #seattlearts
URL:https://arabishway.com/event/intisaar-others-at-the-rabbit-box-theater/
LOCATION:The Rabbit Box\, 94 Pike St\, Unit 11\, Seattle\, WA\, 98101
CATEGORIES:Music
ATTACH;FMTTYPE=image/png:https://arabishway.com/wp-content/uploads/2025/08/Screenshot-2025-08-28-at-1.42.32-PM.png
END:VEVENT
END:VCALENDAR