BEGIN:VCALENDAR
VERSION:2.0
PRODID:-//ArabishWay - ECPv6.15.20//NONSGML v1.0//EN
CALSCALE:GREGORIAN
METHOD:PUBLISH
X-ORIGINAL-URL:https://arabishway.com
X-WR-CALDESC:Events for ArabishWay
REFRESH-INTERVAL;VALUE=DURATION:PT1H
X-Robots-Tag:noindex
X-PUBLISHED-TTL:PT1H
BEGIN:VTIMEZONE
TZID:America/Los_Angeles
BEGIN:DAYLIGHT
TZOFFSETFROM:-0800
TZOFFSETTO:-0700
TZNAME:PDT
DTSTART:20250309T100000
END:DAYLIGHT
BEGIN:STANDARD
TZOFFSETFROM:-0700
TZOFFSETTO:-0800
TZNAME:PST
DTSTART:20251102T090000
END:STANDARD
BEGIN:DAYLIGHT
TZOFFSETFROM:-0800
TZOFFSETTO:-0700
TZNAME:PDT
DTSTART:20260308T100000
END:DAYLIGHT
BEGIN:STANDARD
TZOFFSETFROM:-0700
TZOFFSETTO:-0800
TZNAME:PST
DTSTART:20261101T090000
END:STANDARD
BEGIN:DAYLIGHT
TZOFFSETFROM:-0800
TZOFFSETTO:-0700
TZNAME:PDT
DTSTART:20270314T100000
END:DAYLIGHT
BEGIN:STANDARD
TZOFFSETFROM:-0700
TZOFFSETTO:-0800
TZNAME:PST
DTSTART:20271107T090000
END:STANDARD
END:VTIMEZONE
BEGIN:VEVENT
DTSTART;TZID=America/Los_Angeles:20260301T120000
DTEND;TZID=America/Los_Angeles:20260301T130000
DTSTAMP:20260421T123853
CREATED:20260228T215449Z
LAST-MODIFIED:20260228T222533Z
UID:10005858-1772366400-1772370000@arabishway.com
SUMMARY:Honor Dr. Abu Safiya's Nobel Prize Nomination and Demand his Release
DESCRIPTION:This Sunday March 1 at 3:00 PM US EST\, an event at Palestine Museum in Woodbridge CT\, to Honor Dr. Abu Safiya’s Nobel Prize Nomination and Demand his Release. In-Person at the Museum or register here Via Zoom. \nTwo other events are worth mentioning:\nOur embroidery art exhibit in Canada (Almonte near Ottawa) at Mississippi Valley Textile Museum thru April 19. Link for info:\nScreening of the film Hind Under Siege at a movie theatre in Portland\, Oregon\, USA. on Feb 28th.\nTickets Link for 8 PM showing.\nTickets Link for 9 PM Showing.
URL:https://arabishway.com/event/honor-dr-abu-safiyas-nobel-prize-nomination-and-demand-his-release/
LOCATION:Virtual
CATEGORIES:Music
ATTACH;FMTTYPE=image/jpeg:https://arabishway.com/wp-content/uploads/2020/11/palestine-museum.jpg
END:VEVENT
BEGIN:VEVENT
DTSTART;TZID=America/Los_Angeles:20260311T190000
DTEND;TZID=America/Los_Angeles:20260311T210000
DTSTAMP:20260421T123853
CREATED:20260301T035921Z
LAST-MODIFIED:20260301T040754Z
UID:10005866-1773255600-1773262800@arabishway.com
SUMMARY:Seffarine
DESCRIPTION:One of the only groups performing in Arabic in the Pacific Northwest\, Seffarine’s music braids\nmusical traditions primarily from Spain and Morocco\, but also ranges throughout the Middle\nEast. Their sets often include songs from medieval Spain (when Christians\, Jews\, and Muslims\ncoexisted in relative harmony)\, narratives of Syrian refugees\, and the first meeting of their\nfounding members\, vocalist and recent Oregion Community Foundation Creative Heights\nAwardee Lamiae Naki and flamenco guitarist/oudist Nat Hulskamp\, in Fez\, Morocco.\n\nMarch 11\, 2026\, 7:00 pm\nWhere: McMenamin’s Spanish Ballroom\, 565 Broadway\, Tacoma\, WA 98402\nTicket info: $36\, All Ages\, Fully-seated\n\n\n\n\n\n\n\n\n\n__________________________
URL:https://arabishway.com/event/seffarine-8-2/
LOCATION:McMenamin’s Elks Temple\, 565 Broadway\, Tacoma\, WA\, 98402
CATEGORIES:Music
ATTACH;FMTTYPE=image/gif:https://arabishway.com/wp-content/uploads/2019/07/seffarine.gif
END:VEVENT
BEGIN:VEVENT
DTSTART;TZID=America/Los_Angeles:20260312T183000
DTEND;TZID=America/Los_Angeles:20260312T213000
DTSTAMP:20260421T123853
CREATED:20251129T001036Z
LAST-MODIFIED:20251129T001230Z
UID:10003423-1773340200-1773351000@arabishway.com
SUMMARY:Seffarine
DESCRIPTION:At a momentous first meeting at a coffee shop in Fez\, Moroccan vocalist Lamiae Naki and multi-instrumentalist Nat Hulskamp composed their first song and decided to get married. Brought together by their deep knowledge of the music of both sides of the Straits of Gibraltar – Spanish flamenco and Moroccan Arabic music – they created Seffarine.\nSeffarine takes its name from the ancient metalworking square in Fez\, which is famous for the complex rhythms that ring out from the blacksmiths’ hammers\, and where Lamiae’s family is well known as masters of the tradition. Seffarine’s music embraces and extends Morocco’s musical collision between Arabic\, Iberian and West African cultures\, forging vibrant original music deeply rooted in their backgrounds in flamenco guitar\, oud and Arab Andalusian music. Nat and Lamiae built an international quintet bringing in all star musicians from Iran\, the US and Spain\, who infuse the sound with textured instrumentation and inspired improvisation. Sweeping kamancheh (Persian spike-fiddle) ornamentation plays off gritty bass grooves and explosive flamenco footwork\, with Lamiae’s fluidly riveting voice at the center\, sending up sheets of cascading Andalusi melodies punctuated by the catchy hooks of North African Chaabi\, sung in her native Moroccan Arabic. Their sound has taken them around the world\, from touring Australia and Europe to receiving grants to study Ottoman singing in Turkey\, to the Rainforest World Music Festival in Borneo\, to recording with top flamenco musicians in Spain such as Diego del Morao and Latin Grammy winner Antonio Rey.
URL:https://arabishway.com/event/seffarine-7/
LOCATION:Alberta Rose Theater\, 3000 NE Alberta St\, Portland\, Oregon\, 97211
CATEGORIES:Music
ATTACH;FMTTYPE=image/png:https://arabishway.com/wp-content/uploads/2025/11/Screenshot-2025-11-28-at-12.36.09-PM.png
END:VEVENT
BEGIN:VEVENT
DTSTART;TZID=America/Los_Angeles:20260320T193000
DTEND;TZID=America/Los_Angeles:20260320T210000
DTSTAMP:20260421T123853
CREATED:20260320T011355Z
LAST-MODIFIED:20260320T011355Z
UID:10005893-1774035000-1774040400@arabishway.com
SUMMARY:Global Rhythms: Saha Gnawa
DESCRIPTION:Where Morocco Meets NYC: Refined via late-night sessions at LunÀtico in Bed-Stuy\, Brooklyn\, Saha Gnawa explores trance-like states through its intuitive interplay\, allowing ancestral rhythms and melodies to drift into unknown territories. What emerges is both an authentic performance of centuries-old Gnawa tradition and a bold step into new dimensions of sound — where traditional song forms dissolve into ecstatic dance tracks laced with subtle electronics.
URL:https://arabishway.com/event/global-rhythms-saha-gnawa/
LOCATION:Town Hall\, 1119 8th Ave\, Seattle\, WA\, 98101\, United States
CATEGORIES:Music
ATTACH;FMTTYPE=image/png:https://arabishway.com/wp-content/uploads/2026/03/Screenshot-2026-03-19-at-6.12.12-PM.png
END:VEVENT
BEGIN:VEVENT
DTSTART;VALUE=DATE:20260321
DTEND;VALUE=DATE:20260322
DTSTAMP:20260421T123853
CREATED:20260228T210811Z
LAST-MODIFIED:20260228T210811Z
UID:10005857-1774051200-1774137599@arabishway.com
SUMMARY:Seattle Bands Stand with Gaza
DESCRIPTION:We have another edition of “Seattle Bands Stand with Gaza” just around the corner! This time\, join us at @veraproject on March 21st to raise support for local orgs and activist working towards Palestinian Liberation. \nHere’s a throw back from one of the shows we had last summer over at @oldstovebeer. That night\, @stephanieannejohnson gave an exquisite performance alongside so many other incredible artists. All of the artists play this series pro-bono\, so be sure to support their work elsewhere when you can.
URL:https://arabishway.com/event/seattle-bands-stand-with-gaza-4/
LOCATION:Vera Project\, 305 Harrison St\, Seattle\, WA\, 98109
CATEGORIES:Benefit/Fundraiser,Music
END:VEVENT
BEGIN:VEVENT
DTSTART;TZID=America/Los_Angeles:20260321T183000
DTEND;TZID=America/Los_Angeles:20260321T210000
DTSTAMP:20260421T123853
CREATED:20260320T003313Z
LAST-MODIFIED:20260320T003313Z
UID:10005891-1774117800-1774126800@arabishway.com
SUMMARY:Seattle Bands Stand with Gaza
DESCRIPTION:It’s that time. “Seattle Bands Stand with Gaza” is back\, get tickets in bio! These have been such beautiful events and we’d love to pack @veraproject out for Palestine. \nWe are always so grateful to the local bands that stick their necks out in solidarity with the Palestine. We’ll have performances by some Seattle legends\, including @acapulco_lips @coralgriefband @zookraught @black.ends(solo) @masampson (solo). Members of @seattleartistsforpalestine will also be present with art for sale. This time\, all efforts will go to raise support for families in Gaza. \nSBSWG is an ongoing local show series aiming to provide collaborative occasions for bands\, fans\, venues\, and activists to come together\, share resources\, raise support\, enjoy great music\, and build deeper networks of solidarity with the Palestinian people struggling for freedom against Israeli apartheid and the ongoing U.S.- backed genocide in Palestine.
URL:https://arabishway.com/event/seattle-bands-stand-with-gaza-5/
LOCATION:Vera Project\, 305 Harrison St\, Seattle\, WA\, 98109
CATEGORIES:Benefit/Fundraiser,Music
ATTACH;FMTTYPE=image/png:https://arabishway.com/wp-content/uploads/2026/03/Screenshot-2026-03-19-at-5.31.08-PM.png
END:VEVENT
BEGIN:VEVENT
DTSTART;TZID=America/Los_Angeles:20260328T193000
DTEND;TZID=America/Los_Angeles:20260328T213000
DTSTAMP:20260421T123853
CREATED:20260227T174546Z
LAST-MODIFIED:20260227T174546Z
UID:10005417-1774726200-1774733400@arabishway.com
SUMMARY:Maple Arts Sing Along:  The Golden Age of Arabic Music
DESCRIPTION:Whoome is excited to bring Sing Along to Seattle for the first time. An unforgettable musical experience! \nThis one-of-a-kind event invites you to take center stage\, singing timeless Arabic classics chosen by you\, our audience. With digital lyrics provided\, everyone gets to be the lead singer in this interactive musical celebration. \nJoin Maple Arts Group in Seattle for an evening filled with joy\, connection\, and the magic of music. Don’t miss your chance to be part of this extraordinary sing-along experience! \nThe evening will be presented by Maple Arts Group musicians from the Canadian Arabic Orchestra.
URL:https://arabishway.com/event/maple-arts-sing-along-the-golden-age-of-arabic-music/
LOCATION:Town Hall\, 1119 8th Ave\, Seattle\, WA\, 98101\, United States
CATEGORIES:Music
ATTACH;FMTTYPE=image/png:https://arabishway.com/wp-content/uploads/2026/02/Screenshot-2026-02-27-at-9.41.22-AM.png
END:VEVENT
END:VCALENDAR