BEGIN:VCALENDAR
VERSION:2.0
PRODID:-//ArabishWay - ECPv6.15.20//NONSGML v1.0//EN
CALSCALE:GREGORIAN
METHOD:PUBLISH
X-ORIGINAL-URL:https://arabishway.com
X-WR-CALDESC:Events for ArabishWay
REFRESH-INTERVAL;VALUE=DURATION:PT1H
X-Robots-Tag:noindex
X-PUBLISHED-TTL:PT1H
BEGIN:VTIMEZONE
TZID:America/Los_Angeles
BEGIN:DAYLIGHT
TZOFFSETFROM:-0800
TZOFFSETTO:-0700
TZNAME:PDT
DTSTART:20250309T100000
END:DAYLIGHT
BEGIN:STANDARD
TZOFFSETFROM:-0700
TZOFFSETTO:-0800
TZNAME:PST
DTSTART:20251102T090000
END:STANDARD
BEGIN:DAYLIGHT
TZOFFSETFROM:-0800
TZOFFSETTO:-0700
TZNAME:PDT
DTSTART:20260308T100000
END:DAYLIGHT
BEGIN:STANDARD
TZOFFSETFROM:-0700
TZOFFSETTO:-0800
TZNAME:PST
DTSTART:20261101T090000
END:STANDARD
BEGIN:DAYLIGHT
TZOFFSETFROM:-0800
TZOFFSETTO:-0700
TZNAME:PDT
DTSTART:20270314T100000
END:DAYLIGHT
BEGIN:STANDARD
TZOFFSETFROM:-0700
TZOFFSETTO:-0800
TZNAME:PST
DTSTART:20271107T090000
END:STANDARD
END:VTIMEZONE
BEGIN:VEVENT
DTSTART;TZID=America/Los_Angeles:20260102T180000
DTEND;TZID=America/Los_Angeles:20260102T210000
DTSTAMP:20260421T180429
CREATED:20251128T203348Z
LAST-MODIFIED:20260301T032931Z
UID:10003419-1767376800-1767387600@arabishway.com
SUMMARY:Community at Ya Hala
DESCRIPTION:Games\, Music\, Cafe \nRemember\, Ya Hala’s café and retail space is open to all \nMore details about each weekend’s events will drop on the Monday before. 👀
URL:https://arabishway.com/event/ya-hala-game-night-jan/
LOCATION:Suzanne Zahr\, Art & Architecture\, 2441 76th Ave SE\, Ste 160\, Mercer Island\, WA\, 98040\, United States
CATEGORIES:Community Group,Games,Gathering,Music
ATTACH;FMTTYPE=image/png:https://arabishway.com/wp-content/uploads/2025/07/Screenshot-2025-07-28-at-7.46.38-PM.png
END:VEVENT
BEGIN:VEVENT
DTSTART;TZID=America/Los_Angeles:20260109T190000
DTEND;TZID=America/Los_Angeles:20260109T210000
DTSTAMP:20260421T180429
CREATED:20251205T191045Z
LAST-MODIFIED:20251205T191045Z
UID:10003470-1767985200-1767992400@arabishway.com
SUMMARY:Kuwaisiana at Fundraiser for Kshama Savant featuring Ku
DESCRIPTION:Kshama Sawant is running on a platform that includes Ending the Occupation in Palestine. \nYou can RSVP for this event here: https \nYou can donate to her here: https://www.kshamasawant.org/donate \nKuwaisiana is a bilingual alternative rock trio from Seattle-Tacoma\, blending Arabic and English lyrics to create a unique sound that resonates globally. Led by +Aziz\, whose Kuwaiti-American identity shapes the band’s music\, Kuwaisiana explores themes of Arab identity\, unity\, and cultural bridging. Originally formed in New Orleans in 2016 as an 8-piece ensemble\, the band evolved into a trio in 2022 with Yousef Shami (drums) and Brian Riedel (bass). Drawing from grunge\, indie rock\, funk\, and punk\, their music defies genre\, addressing issues such as gentrification\, climate change\, and human rights. Through raw emotion and poetic lyrics\, Kuwaisiana aims to foster cross-cultural understanding\, while celebrating resilience and self-expression in the face of adversity. Their work continues to carve a space for Arab-American voices in the global music scene. \nhttps://www.kuwaisiana.com/
URL:https://arabishway.com/event/kuwaisiana-at-fundraiser-for-kshama-savant-featuring-ku/
LOCATION:Mintish\, 515 Harvard Ave E #121\, Seattle\, WA\, 98102
CATEGORIES:Benefit/Fundraiser,Music
ATTACH;FMTTYPE=image/png:https://arabishway.com/wp-content/uploads/2025/12/Screenshot-2025-12-05-at-11.06.25-AM.png
END:VEVENT
BEGIN:VEVENT
DTSTART;TZID=America/Los_Angeles:20260117T193000
DTEND;TZID=America/Los_Angeles:20260117T213000
DTSTAMP:20260421T180429
CREATED:20251229T003859Z
LAST-MODIFIED:20251229T003859Z
UID:10004843-1768678200-1768685400@arabishway.com
SUMMARY:Karim Sulayman\, tenor & Sean Shibe\, guitar
DESCRIPTION:Karim Sulayman — lauded for his “velvety tenor and pop-star charisma” (BBC Music Magazine) — joins guitarist Sean Shibe\, whose “music-making is masterful\, beautiful and convincing in every way” (The Times\, UK)\, for an intimate recital of music ranging from the Middle Ages to the present. This compelling musical journey examines the close cultural and musical ties between East and West\, reflecting the artists’ personal experiences with roots in Lebanon and Japan.
URL:https://arabishway.com/event/karim-sulayman-tenor-sean-shibe-guitar/
LOCATION:Meany Performing Arts Center\, 4040 George Washington Lane Northeast\, Seattle\, 98195\, United States
CATEGORIES:Music
ATTACH;FMTTYPE=image/webp:https://arabishway.com/wp-content/uploads/2025/12/Karim.webp
END:VEVENT
BEGIN:VEVENT
DTSTART;TZID=America/Los_Angeles:20260124T190000
DTEND;TZID=America/Los_Angeles:20260125T010000
DTSTAMP:20260421T180429
CREATED:20251129T163253Z
LAST-MODIFIED:20251129T163253Z
UID:10003444-1769281200-1769302800@arabishway.com
SUMMARY:Radio Gaza
DESCRIPTION:Music by: @gabrielteodros \, @dsrtflwrblm \, @i.s.h_dj \, @intisaarband \,\nLive henna tattoos by @ineedasandwich\nPoetry and Tatreez art showcase by @halasalehtatreez\nMerch sales by @sweetmalson\nAll proceeds to benefit @heal.palestine .\nImpeccable flyer design by @ryanjgill_gillco\n@seattlepalestineactionnetwork ❤️🇵🇸\nMore info about these performers to come! \nIf you don’t already follow @radiogazaseattle\, please visit our instagram page and show some love! We also have a website\, www.radiogaza.org\, where you can stay current on all things Radio Gaza.
URL:https://arabishway.com/event/radio-gaza-2/
LOCATION:Black & Tan Hall\, 5608 Rainier Ave S\, Seattle\, Washington\, 98118
CATEGORIES:Music
ATTACH;FMTTYPE=image/png:https://arabishway.com/wp-content/uploads/2025/11/Screenshot-2025-11-29-at-8.29.09-AM.png
END:VEVENT
END:VCALENDAR