BEGIN:VCALENDAR
VERSION:2.0
PRODID:-//ArabishWay - ECPv6.15.20//NONSGML v1.0//EN
CALSCALE:GREGORIAN
METHOD:PUBLISH
X-ORIGINAL-URL:https://arabishway.com
X-WR-CALDESC:Events for ArabishWay
REFRESH-INTERVAL;VALUE=DURATION:PT1H
X-Robots-Tag:noindex
X-PUBLISHED-TTL:PT1H
BEGIN:VTIMEZONE
TZID:America/Los_Angeles
BEGIN:DAYLIGHT
TZOFFSETFROM:-0800
TZOFFSETTO:-0700
TZNAME:PDT
DTSTART:20240310T100000
END:DAYLIGHT
BEGIN:STANDARD
TZOFFSETFROM:-0700
TZOFFSETTO:-0800
TZNAME:PST
DTSTART:20241103T090000
END:STANDARD
BEGIN:DAYLIGHT
TZOFFSETFROM:-0800
TZOFFSETTO:-0700
TZNAME:PDT
DTSTART:20250309T100000
END:DAYLIGHT
BEGIN:STANDARD
TZOFFSETFROM:-0700
TZOFFSETTO:-0800
TZNAME:PST
DTSTART:20251102T090000
END:STANDARD
BEGIN:DAYLIGHT
TZOFFSETFROM:-0800
TZOFFSETTO:-0700
TZNAME:PDT
DTSTART:20260308T100000
END:DAYLIGHT
BEGIN:STANDARD
TZOFFSETFROM:-0700
TZOFFSETTO:-0800
TZNAME:PST
DTSTART:20261101T090000
END:STANDARD
END:VTIMEZONE
BEGIN:VEVENT
DTSTART;TZID=America/Los_Angeles:20251115T203000
DTEND;TZID=America/Los_Angeles:20251115T220000
DTSTAMP:20260422T044209
CREATED:20251029T223758Z
LAST-MODIFIED:20251029T223916Z
UID:10003372-1763238600-1763244000@arabishway.com
SUMMARY:Tunisian musician: Nour Harkati at the Clock-Out Lounge
DESCRIPTION:NOUR HARKATI IS A RENOWNED TUNISIAN MUSICIAN AND SINGER-SONGWRITER KNOWN FOR HIS INNOVATIVE BLEND OF TRADITIONAL NORTH AFRICAN MUSIC AND CONTEMPORARY INFLUENCES. \nMASTERING THE ANCIENT GUEMBRI AND INFUSING HIS WORK WITH MODERN RHYTHMS\,HARKATI CRAFTS A UNIQUE SOUND THAT RESONATES DEEPLY WITH DIVERSE AUDIENCES. \nHIS LYRICS COMBINE PHILOSOPHICAL DEPTH WITH A JUBILANT SPIRIT\, MAKING HIS MUSIC BOTH INTROSPECTIVE AND UPLIFTING. \nHTTPS://NOURHARKATI.BANDCAMP.COM/ALBUM/MOULENA
URL:https://arabishway.com/event/tunisian-musician-nour-harkati-at-the-clock-out-lounge/
LOCATION:Clock-Out Lounge\, 4864 Beacon Ave S\, Seattle\, WA\, 98108
CATEGORIES:Music
ATTACH;FMTTYPE=image/png:https://arabishway.com/wp-content/uploads/2025/10/Screenshot-2025-10-29-at-3.37.36-PM.png
END:VEVENT
BEGIN:VEVENT
DTSTART;TZID=America/Los_Angeles:20251116T190000
DTEND;TZID=America/Los_Angeles:20251116T220000
DTSTAMP:20260422T044209
CREATED:20251029T061612Z
LAST-MODIFIED:20251029T061612Z
UID:10003371-1763319600-1763330400@arabishway.com
SUMMARY:Seattle Bands Stand with Gaza
DESCRIPTION:Amazing bands! Great cause! See you there!
URL:https://arabishway.com/event/seattle-bands-stand-with-gaza-3/
LOCATION:Tractor Tavern\, 5213 Ballard Ave NW\, Seattle\, WA\, 98107\, United States
CATEGORIES:Benefit/Fundraiser,Music
ATTACH;FMTTYPE=image/png:https://arabishway.com/wp-content/uploads/2025/10/SeattleBandsGaza_0716_v04-scaled.png
END:VEVENT
BEGIN:VEVENT
DTSTART;VALUE=DATE:20251123
DTEND;VALUE=DATE:20251124
DTSTAMP:20260422T044209
CREATED:20250911T135358Z
LAST-MODIFIED:20250911T135533Z
UID:10003303-1763856000-1763942399@arabishway.com
SUMMARY:Lebanese Music Night
DESCRIPTION:Sunday\, November 23 – Lebanese Music Night (details to follow)
URL:https://arabishway.com/event/lebanese-music-night/
LOCATION:TBD
CATEGORIES:Community Group,Music
ATTACH;FMTTYPE=image/png:https://arabishway.com/wp-content/uploads/2025/09/Screenshot-2025-09-11-at-6.51.48-AM.png
END:VEVENT
BEGIN:VEVENT
DTSTART;TZID=America/Los_Angeles:20251128T180000
DTEND;TZID=America/Los_Angeles:20251128T210000
DTSTAMP:20260422T044209
CREATED:20251128T202827Z
LAST-MODIFIED:20251128T202910Z
UID:10003414-1764352800-1764363600@arabishway.com
SUMMARY:Community at Ya Hala
DESCRIPTION:Games\, Music\, Cafe \nRemember\, Ya Hala’s café and retail space is open to all \nMore details about each weekend’s events will drop on the Monday before. 👀
URL:https://arabishway.com/event/ya-hala-game-night-dec/
LOCATION:Suzanne Zahr\, Art & Architecture\, 2441 76th Ave SE\, Ste 160\, Mercer Island\, WA\, 98040\, United States
CATEGORIES:Community Group,Games,Gathering,Music
ATTACH;FMTTYPE=image/png:https://arabishway.com/wp-content/uploads/2025/07/Screenshot-2025-07-28-at-7.46.38-PM.png
END:VEVENT
END:VCALENDAR