BEGIN:VCALENDAR
VERSION:2.0
PRODID:-//ArabishWay - ECPv6.15.20//NONSGML v1.0//EN
CALSCALE:GREGORIAN
METHOD:PUBLISH
X-ORIGINAL-URL:https://arabishway.com
X-WR-CALDESC:Events for ArabishWay
REFRESH-INTERVAL;VALUE=DURATION:PT1H
X-Robots-Tag:noindex
X-PUBLISHED-TTL:PT1H
BEGIN:VTIMEZONE
TZID:America/Los_Angeles
BEGIN:DAYLIGHT
TZOFFSETFROM:-0800
TZOFFSETTO:-0700
TZNAME:PDT
DTSTART:20240310T100000
END:DAYLIGHT
BEGIN:STANDARD
TZOFFSETFROM:-0700
TZOFFSETTO:-0800
TZNAME:PST
DTSTART:20241103T090000
END:STANDARD
BEGIN:DAYLIGHT
TZOFFSETFROM:-0800
TZOFFSETTO:-0700
TZNAME:PDT
DTSTART:20250309T100000
END:DAYLIGHT
BEGIN:STANDARD
TZOFFSETFROM:-0700
TZOFFSETTO:-0800
TZNAME:PST
DTSTART:20251102T090000
END:STANDARD
BEGIN:DAYLIGHT
TZOFFSETFROM:-0800
TZOFFSETTO:-0700
TZNAME:PDT
DTSTART:20260308T100000
END:DAYLIGHT
BEGIN:STANDARD
TZOFFSETFROM:-0700
TZOFFSETTO:-0800
TZNAME:PST
DTSTART:20261101T090000
END:STANDARD
END:VTIMEZONE
BEGIN:VEVENT
DTSTART;VALUE=DATE:20250905
DTEND;VALUE=DATE:20250922
DTSTAMP:20260422T083337
CREATED:20250830T172429Z
LAST-MODIFIED:20250830T172429Z
UID:10003272-1757030400-1758499199@arabishway.com
SUMMARY:Little Women the Musical at the Renton Civic Theater
DESCRIPTION:You might ask\, how is Little Women an Arab event?!\n\nThe answer is that you can see the talented Rayan Atallah playing the male lead Mr. John Brooke.\n\nVarious dates/times available – check website for details
URL:https://arabishway.com/event/little-women-the-musical-at-the-renton-civic-theater/
LOCATION:Renton Civic Theatre\, 507 S 3rd St\, Renton\, WA\, 98057
CATEGORIES:Music,Theater
ATTACH;FMTTYPE=image/png:https://arabishway.com/wp-content/uploads/2025/08/Screenshot-2025-08-30-at-10.22.43-AM.png
END:VEVENT
BEGIN:VEVENT
DTSTART;TZID=America/Los_Angeles:20250905T180000
DTEND;TZID=America/Los_Angeles:20250905T210000
DTSTAMP:20260422T083337
CREATED:20250830T181935Z
LAST-MODIFIED:20250830T182228Z
UID:10003277-1757095200-1757106000@arabishway.com
SUMMARY:Community at Ya Hala
DESCRIPTION:Games\, Music\, Cafe \nRemember\, Ya Hala’s café and retail space is open to all \nMore details about each weekend’s events will drop on the Monday before. 👀
URL:https://arabishway.com/event/ya-hala-game-night-sept-a/
LOCATION:Suzanne Zahr\, Art & Architecture\, 2441 76th Ave SE\, Ste 160\, Mercer Island\, WA\, 98040\, United States
CATEGORIES:Community Group,Games,Gathering,Music
ATTACH;FMTTYPE=image/png:https://arabishway.com/wp-content/uploads/2025/07/Screenshot-2025-07-28-at-7.46.38-PM.png
END:VEVENT
BEGIN:VEVENT
DTSTART;TZID=America/Los_Angeles:20250906T160000
DTEND;TZID=America/Los_Angeles:20250906T190000
DTSTAMP:20260422T083337
CREATED:20250830T000947Z
LAST-MODIFIED:20250830T001731Z
UID:10003264-1757174400-1757185200@arabishway.com
SUMMARY:Pre PWLF Festival Event
DESCRIPTION:We are always looking for ways to get more folks involved and more ways to create spaces for community to come together. \nIn that vein\, join us at @hometeam_gallery on 9/6 from 4-7. It will be the first (and easiest) opportunity to cop the official festival tee.\nPull up and have a cup of coffee from @yahalaseattle and vibe with a few festival performers along with a few local artists who you will only see here. \n@jamilsuleman @intisaarband @p.e.n @prometheusbrown@dsrtflwrblm and @sammyshiblaq will all drop a track or two with @dapsography spinnin. \n@zahyrlauren will also be there as the genius behind the artwork. \nCop a tee\, have a cup of coffee and share time and space with us as we all try and navigate and process what we are seeing everyday. \nShirt sizes range from S to XXXL and are limited to 550 at this event. We are hoping to have more at the festival but not guaranteed.\nShirts are $45 with all proceeds going to the festival beneficiaries. \nCome support community and let community support you. See you there. \nShout to the @h.o.m.e.t.e.a.m squad for providing the space. 🙏🏽 \nPalestine Will Live Forever\nAll of Us or None of Us
URL:https://arabishway.com/event/pre-pwlf-festival-event/
LOCATION:Hometeam Gallery\, 300 Occidental Ave S\, Seattle\, WA\, 98104
CATEGORIES:Music
ATTACH;FMTTYPE=image/png:https://arabishway.com/wp-content/uploads/2025/08/Screenshot-2025-08-29-at-5.01.35-PM.png
END:VEVENT
BEGIN:VEVENT
DTSTART;TZID=America/Los_Angeles:20250919T180000
DTEND;TZID=America/Los_Angeles:20250919T210000
DTSTAMP:20260422T083337
CREATED:20250830T182315Z
LAST-MODIFIED:20250830T182340Z
UID:10003279-1758304800-1758315600@arabishway.com
SUMMARY:Community at Ya Hala
DESCRIPTION:Games\, Music\, Cafe \nRemember\, Ya Hala’s café and retail space is open to all \nMore details about each weekend’s events will drop on the Monday before. 👀
URL:https://arabishway.com/event/ya-hala-game-night-sept-c/
LOCATION:Suzanne Zahr\, Art & Architecture\, 2441 76th Ave SE\, Ste 160\, Mercer Island\, WA\, 98040\, United States
CATEGORIES:Community Group,Games,Gathering,Music
ATTACH;FMTTYPE=image/png:https://arabishway.com/wp-content/uploads/2025/07/Screenshot-2025-07-28-at-7.46.38-PM.png
END:VEVENT
BEGIN:VEVENT
DTSTART;TZID=America/Los_Angeles:20250920T200000
DTEND;TZID=America/Los_Angeles:20250920T230000
DTSTAMP:20260422T083337
CREATED:20250829T233247Z
LAST-MODIFIED:20250830T230430Z
UID:10003262-1758398400-1758409200@arabishway.com
SUMMARY:Intisaar + others at the Rabbit Box Theater
DESCRIPTION:An elegant evening awaits at The Rabbit Box Theatre with Sam & Matt\, Intisaar\, and Leeni. 📅 Sep 20\, 2025\, 8:00 PM doors\, 8:30 PM show. 📍 94 Pike St\, Unit 11\, Seattle\, WA. Secure your tickets for a refined musical experience! #TheRabbitBox #seattlearts
URL:https://arabishway.com/event/intisaar-others-at-the-rabbit-box-theater/
LOCATION:The Rabbit Box\, 94 Pike St\, Unit 11\, Seattle\, WA\, 98101
CATEGORIES:Music
ATTACH;FMTTYPE=image/png:https://arabishway.com/wp-content/uploads/2025/08/Screenshot-2025-08-28-at-1.42.32-PM.png
END:VEVENT
BEGIN:VEVENT
DTSTART;TZID=America/Los_Angeles:20250921T193000
DTEND;TZID=America/Los_Angeles:20250921T213000
DTSTAMP:20260422T083337
CREATED:20250729T012504Z
LAST-MODIFIED:20250729T012504Z
UID:10003221-1758483000-1758490200@arabishway.com
SUMMARY:Seffarine at The Royal Room
DESCRIPTION:Lamiae Naki – vocals Nat Hulskamp – flamenco guitar/oud Yosmel Montejo – bass Manuel Gutierrez – flamenco dance/cajón
URL:https://arabishway.com/event/seffarine-at-the-royal-room-2/
LOCATION:The Royal Room\, 5000 Rainier Ave S\, Seattle\, WA\, 98118
CATEGORIES:Music
ATTACH;FMTTYPE=image/png:https://arabishway.com/wp-content/uploads/2025/07/Screenshot-2025-07-28-at-6.23.13-PM.png
END:VEVENT
BEGIN:VEVENT
DTSTART;TZID=America/Los_Angeles:20250923T183000
DTEND;TZID=America/Los_Angeles:20250923T203000
DTSTAMP:20260422T083337
CREATED:20250729T013901Z
LAST-MODIFIED:20250729T013901Z
UID:10003222-1758652200-1758659400@arabishway.com
SUMMARY:Seffarine  - Moroccan Flamenco Fusion Live at The Firehouse Bellingham\, WA
DESCRIPTION:“Seffarine’s music can melt the coldest hearts” -Chicago Reader \nAt a momentous first meeting at a coffee shop in Fez\, Moroccan vocalist Lamiae Naki and multi-instrumentalist Nat Hulskamp composed their first song and decided to get married. Brought together by their deep knowledge of the music of both sides of the Straits of Gibraltar Spanish flamenco and Moroccan Arabic music\, they created Seffarine. \nSeffarine takes its name from the ancient metalworking square in Fez\, which is famous for the complex rhythms that ring out from the blacksmiths’ hammers\, and where Lamiae’s family is well known as masters of the tradition. Seffarine’s music embraces and extends Morocco’s musical collision between Arabic\, Iberian\, and West African cultures\, forging vibrant original music deeply rooted in their backgrounds in flamenco guitar\, oud\, and Arab Andalusian music.
URL:https://arabishway.com/event/seffarine-moroccan-flamenco-fusion-live-at-the-firehouse-bellingham-wa/
LOCATION:The Firehouse\, 1314 Harris Ave\, Bellingham\, WA\, 98225
CATEGORIES:Music
ATTACH;FMTTYPE=image/gif:https://arabishway.com/wp-content/uploads/2019/07/seffarine.gif
END:VEVENT
BEGIN:VEVENT
DTSTART;TZID=America/Los_Angeles:20250924T190000
DTEND;TZID=America/Los_Angeles:20250924T210000
DTSTAMP:20260422T083337
CREATED:20250630T072850Z
LAST-MODIFIED:20250630T072850Z
UID:10003182-1758740400-1758747600@arabishway.com
SUMMARY:Samia at the Neptune Theater
DESCRIPTION:Bovine excision\, a mysterious phenomenon involving the bloodless surgical removal of cattle organs\, serves as the eerie inspiration for the opening track of Samia’s third album\, aptly titled Bloodless. Her voice flows through the evocative lyrics with ease\, weaving through the gentle strum of a lone acoustic guitar. The quiet intimacy builds into a storm of sound\, culminating in Samia’s layered\, ethereal harmonies that pierce with a haunting\, macabre refrain: “And drained\, drained bloodless.” \nThese emptied cattle evoke a grotesque vessel she unwittingly nurtured in an attempt to embody something both untouchable and on display\, overflowing with infinite projections and capable of driving an unrelenting pursuit of the unattainable. Through sharp images—Diet Dr. Pepper and Raymond Carver as parallel pursuits of minimalism\, white underwear and leeches\, a Degas dancer poised at the bannister—Samia examines a paradoxical existence where merit transforms into a calculated act of extraction (“I felt the pea\, can I eat it?”). This is just one strand Samia weaves into the intricate tapestry of Bloodless. \nRich with layers that shift seamlessly from sparse folk to sweeping indie-pop epics\, Bloodless explores Samia’s relationship with a fragmented\, symbolic version of Men—a patchwork of expectations and imagined standards she tried to meet\, which ultimately shaped her sense of self. “I’ve spent the past two decades unintentionally conflating men with my understanding of God\,” Samia explains. “The person I became in order to impress this imagined figure is inseparable from who I am today. With this album\, I’ve tried to confront that head-on.” \nWritten & produced in both North Carolina and her new home of Minneapolis throughout 2024\, Bloodless finds Samia reuniting with longtime-collaborator Caleb Wright and Jake Luppen for the highly-anticipated follow-up to 2023’s revered Honey\, which followed Samia’s 2020’s breakthrough debut The Baby. Across these thirteen songs\, Samia grapples with the hollow form she once embodied — a vessel that gained value through its own absence\, until playing dead became its own form of life. With Bloodless\, she endeavors to disinter the self buried beneath these carefully constructed personas\, ultimately reaching a place of acceptance for her whole\, imperfect being.
URL:https://arabishway.com/event/samia-at-the-neptune-theater/
LOCATION:Neptune\, 1303 Northeast 45th Street\, Seattle\, WA\, 98105\, United States
CATEGORIES:Music
ATTACH;FMTTYPE=image/png:https://arabishway.com/wp-content/uploads/2025/06/Screenshot-2025-06-30-at-12.27.09 AM.png
END:VEVENT
BEGIN:VEVENT
DTSTART;TZID=America/Los_Angeles:20250925T200000
DTEND;TZID=America/Los_Angeles:20250925T210000
DTSTAMP:20260422T083337
CREATED:20250829T225837Z
LAST-MODIFIED:20250829T225837Z
UID:10003260-1758830400-1758834000@arabishway.com
SUMMARY:Seffarine (in Vancouver)
DESCRIPTION:The 35th Edition of the Vancouver International Flamenco Festival\, co-presented with Caravan World Rhythms\, proudly presents: \nThe sounds that stir the dry winds of Southern Spain and Morocco\, two countries separated by only a whisper of the Mediterranean\, are the musical DNA of a beautifully complex extended family linking North Africa and Europe. \nBorn in the ancient city of Fes\, Morocco\, internationally acclaimed singer Lamiae Naki and her ensemble Seffarine channel their deep knowledge of the music of both sides of the Straits of Gibraltar\, the crossroad where African\, Middle Eastern and European cultures meet. \nThe musicians of Seffarine\, soulful Moroccan singer Lamiae Naki and flamenco guitarist Nat Hulskamp\, supported by master musicians from diverse cultural backgrounds\, embrace and expand this rich musical legacy. Their dynamic performances seamlessly blend Moroccan and Arabic Andalusian music. These diverse backgrounds meld\, creating what SoundRoots describes as “an ear-caressing blend of sounds from Spain and North Africa\, spiced with a bit of fiery instrumentation and percussion.” \nTheir sound reflects Lamiae’s deep roots in Arabic Andalusian traditions (dating back to pre-Inquisition Moorish Spain and preserved in her native Morocco) and Nat’s background in flamenco guitar and Arabic oud. They are joined by Spanish flamenco dancer Manuel Gutierrez\, known for his explosive flamenco footwork; Cuban born flamenco bassist Yosmel Montejo\, whose grooving basslines drive the rhythm; and Persian multi-instrumentalist Bobak Salehi\, who brings delicate kamancheh ornamentation to the ensemble. \nTheir sound has taken them around the world\, from touring Indonesia and Europe to receiving grants to study Ottoman singing in Turkey\, to recording with top flamenco musicians in Spain such as Diego del Morao and Latin Grammy Award winner Antonio Rey.
URL:https://arabishway.com/event/seffarine-in-vancouver/
LOCATION:Waterfront Theatre\, 1412 Cartwright St\, Vancouver\, BC\, V6H 3R7\, Canada
CATEGORIES:Music
ATTACH;FMTTYPE=image/gif:https://arabishway.com/wp-content/uploads/2019/07/seffarine.gif
END:VEVENT
BEGIN:VEVENT
DTSTART;TZID=America/Los_Angeles:20250926T180000
DTEND;TZID=America/Los_Angeles:20250926T210000
DTSTAMP:20260422T083337
CREATED:20250830T182359Z
LAST-MODIFIED:20250830T182425Z
UID:10003280-1758909600-1758920400@arabishway.com
SUMMARY:Community at Ya Hala
DESCRIPTION:Games\, Music\, Cafe \nRemember\, Ya Hala’s café and retail space is open to all \nMore details about each weekend’s events will drop on the Monday before. 👀
URL:https://arabishway.com/event/ya-hala-game-night-sept-d/
LOCATION:Suzanne Zahr\, Art & Architecture\, 2441 76th Ave SE\, Ste 160\, Mercer Island\, WA\, 98040\, United States
CATEGORIES:Community Group,Games,Gathering,Music
ATTACH;FMTTYPE=image/png:https://arabishway.com/wp-content/uploads/2025/07/Screenshot-2025-07-28-at-7.46.38-PM.png
END:VEVENT
END:VCALENDAR