BEGIN:VCALENDAR
VERSION:2.0
PRODID:-//ArabishWay - ECPv6.15.20//NONSGML v1.0//EN
CALSCALE:GREGORIAN
METHOD:PUBLISH
X-WR-CALNAME:ArabishWay
X-ORIGINAL-URL:https://arabishway.com
X-WR-CALDESC:Events for ArabishWay
REFRESH-INTERVAL;VALUE=DURATION:PT1H
X-Robots-Tag:noindex
X-PUBLISHED-TTL:PT1H
BEGIN:VTIMEZONE
TZID:America/Los_Angeles
BEGIN:DAYLIGHT
TZOFFSETFROM:-0800
TZOFFSETTO:-0700
TZNAME:PDT
DTSTART:20250309T100000
END:DAYLIGHT
BEGIN:STANDARD
TZOFFSETFROM:-0700
TZOFFSETTO:-0800
TZNAME:PST
DTSTART:20251102T090000
END:STANDARD
BEGIN:DAYLIGHT
TZOFFSETFROM:-0800
TZOFFSETTO:-0700
TZNAME:PDT
DTSTART:20260308T100000
END:DAYLIGHT
BEGIN:STANDARD
TZOFFSETFROM:-0700
TZOFFSETTO:-0800
TZNAME:PST
DTSTART:20261101T090000
END:STANDARD
BEGIN:DAYLIGHT
TZOFFSETFROM:-0800
TZOFFSETTO:-0700
TZNAME:PDT
DTSTART:20270314T100000
END:DAYLIGHT
BEGIN:STANDARD
TZOFFSETFROM:-0700
TZOFFSETTO:-0800
TZNAME:PST
DTSTART:20271107T090000
END:STANDARD
END:VTIMEZONE
BEGIN:VEVENT
DTSTART;TZID=America/Los_Angeles:20260117T090000
DTEND;TZID=America/Los_Angeles:20260117T110000
DTSTAMP:20260421T075738
CREATED:20251129T174747Z
LAST-MODIFIED:20251228T182031Z
UID:10004284-1768640400-1768647600@arabishway.com
SUMMARY:Virtual Movie Screenings: Every Saturday with Palestine Museum US
DESCRIPTION:Check website: https://www.palestinemuseum.us/events for current showings and for registration links! \nOften the screening ends with a Q&A with the director! \n 
URL:https://arabishway.com/event/virtual-movie-screenings-every-saturday-with-palestine-museum-us-2026/2026-01-17/
LOCATION:Virtual
CATEGORIES:Movie
ATTACH;FMTTYPE=image/jpeg:https://arabishway.com/wp-content/uploads/2020/11/palestine-museum.jpg
END:VEVENT
BEGIN:VEVENT
DTSTART;TZID=America/Los_Angeles:20260117T103000
DTEND;TZID=America/Los_Angeles:20260117T120000
DTSTAMP:20260421T075738
CREATED:20251228T201336Z
LAST-MODIFIED:20251228T201336Z
UID:10004567-1768645800-1768651200@arabishway.com
SUMMARY:Movie: All That's Left of You
DESCRIPTION:Screening location: SIFF Film Center – 167 Republican St\, Seattle (located within the Seattle Center\, just north of Climate Pledge Arena / east of KEXP and The Vera Project) \n\n\n\n\nShortlisted for the Academy Award for International Feature Film. \nA deeply moving\, multigenerational drama\, ALL THAT’S LEFT OF YOU follows a Palestinian teenager who gets swept into a protest in the Occupied West Bank and experiences a moment of violence that rocks his family. The film unfolds as his mother recounts the political and emotional threads that led to that fateful moment. Spanning seven decades\, the film traces the hopes and heartaches of one uprooted family\, bearing witness to the scars of dispossession and the enduring legacy of survival. Jordan’s Official Selection for the 98th Academy Awards. \nIn Arabic with English subtitles. \n\n\nSaturday\, Jan 17\, 2026\, 10:30am\nSunday\, Jan 18\, 2026\, 10:30am
URL:https://arabishway.com/event/movie-all-thats-left-of-you-4/2026-01-17/
LOCATION:SIFF Film Center\, 305 Harrison St\, Seattle\, 98109
CATEGORIES:Movie
ATTACH;FMTTYPE=image/png:https://arabishway.com/wp-content/uploads/2025/12/Screenshot-2025-12-28-at-11.45.43-AM.png
END:VEVENT
BEGIN:VEVENT
DTSTART;TZID=America/Los_Angeles:20260117T190000
DTEND;TZID=America/Los_Angeles:20260117T210000
DTSTAMP:20260421T075738
CREATED:20251228T200309Z
LAST-MODIFIED:20251228T200831Z
UID:10004566-1768676400-1768683600@arabishway.com
SUMMARY:Movie:  All That's Left of You
DESCRIPTION:A deeply moving\, multigenerational drama\, ALL THAT’S LEFT OF YOU follows a Palestinian teenager who gets swept into a protest in the Occupied West Bank and experiences a moment of violence that rocks his family. The film unfolds as his mother recounts the political and emotional threads that led to that fateful moment. Spanning seven decades\, the film traces the hopes and heartaches of one uprooted family\, bearing witness to the scars of dispossession and the enduring legacy of survival. Jordan’s Official Selection for the 98th Academy Awards. \n“Cherien Dabis’ gut-punch film is a monument to resilience in the face of unimaginable intergenerational trauma. It honours the lives behind uncaring headlines in the West\, detailing how love remains even in the darkest\, forsaken places.” – Stephen A. Russell
URL:https://arabishway.com/event/movie-all-thats-left-of-you/2026-01-17/
LOCATION:The Beacon\, 4405 Rainier Ave S\, Seattle\, WA\, 98118\, United States
CATEGORIES:Movie
ATTACH;FMTTYPE=image/png:https://arabishway.com/wp-content/uploads/2025/12/Screenshot-2025-12-28-at-11.45.43-AM.png
END:VEVENT
END:VCALENDAR