BEGIN:VCALENDAR
VERSION:2.0
PRODID:-//ArabishWay - ECPv6.15.20//NONSGML v1.0//EN
CALSCALE:GREGORIAN
METHOD:PUBLISH
X-ORIGINAL-URL:https://arabishway.com
X-WR-CALDESC:Events for ArabishWay
REFRESH-INTERVAL;VALUE=DURATION:PT1H
X-Robots-Tag:noindex
X-PUBLISHED-TTL:PT1H
BEGIN:VTIMEZONE
TZID:America/Los_Angeles
BEGIN:DAYLIGHT
TZOFFSETFROM:-0800
TZOFFSETTO:-0700
TZNAME:PDT
DTSTART:20240310T100000
END:DAYLIGHT
BEGIN:STANDARD
TZOFFSETFROM:-0700
TZOFFSETTO:-0800
TZNAME:PST
DTSTART:20241103T090000
END:STANDARD
BEGIN:DAYLIGHT
TZOFFSETFROM:-0800
TZOFFSETTO:-0700
TZNAME:PDT
DTSTART:20250309T100000
END:DAYLIGHT
BEGIN:STANDARD
TZOFFSETFROM:-0700
TZOFFSETTO:-0800
TZNAME:PST
DTSTART:20251102T090000
END:STANDARD
BEGIN:DAYLIGHT
TZOFFSETFROM:-0800
TZOFFSETTO:-0700
TZNAME:PDT
DTSTART:20260308T100000
END:DAYLIGHT
BEGIN:STANDARD
TZOFFSETFROM:-0700
TZOFFSETTO:-0800
TZNAME:PST
DTSTART:20261101T090000
END:STANDARD
END:VTIMEZONE
BEGIN:VEVENT
DTSTART;TZID=America/Los_Angeles:20251129T060000
DTEND;TZID=America/Los_Angeles:20251129T090000
DTSTAMP:20260421T032804
CREATED:20251128T175015Z
LAST-MODIFIED:20251128T175015Z
UID:10003396-1764396000-1764406800@arabishway.com
SUMMARY:UN Movie Society presents PALESTINE 36
DESCRIPTION:UN Movie Society presents global event featuring Palestine’s Oscar submission for best international feature film Palestine 36\n\n\nVIRTUAL GLOBAL LAUNCH (LIVE & ON DEMAND): UNITED NATIONS\nSaturday\, 29 November 2025 \nInternational Day of Solidarity with the Palestinian People\n9:00am EST (New York Time)\nUN Global YouTube:  https://youtu.be/-3hhiNZnS6A \nUN WebTV: https://webtv.un.org/en/asset/k1q/k1qkhezqeo \n  \nOn the International Day of Solidarity with the Palestinian People\, on Saturday\, 29 November 2025\, the UN Movie Society of the United Nations Staff Recreation Council – dedicated to advancing UN global causes through the transformative power of storytelling\, will present an event featuring Palestine’s Oscar submission for Best International Feature Film – PALESTINE 36.  The entire programme will be broadcasted live & on demand on the global channels of the United Nations – UN Web TV and UN YouTube. \nPALESTINE 36 explores the Arab Revolt of 1936–1939 against British colonial rule. Directed by Annemarie Jacir\, the film lays the historical groundwork for what followed in 1948 and beyond\, making the events an urgent story to bring to the screen. This pivotal moment is essential for understanding the Palestinian question\, which has been on the agenda of the United Nations for nearly eight decades.  The film features an extraordinary international cast\, including British Oscar-winner Jeremy Irons (Reversal of Fortune)\, Irish acclaimed Liam Cunningham (Game of Thrones)\, and Palestinian Emmy-nominated Hiam Abbass (Succession).  PALESTINE 36 is Annemarie Jacir’s fourth consecutive film to be selected as Palestine’s Oscar submission for the Best International Feature Film.
URL:https://arabishway.com/event/un-movie-society-presents-palestine-36/
LOCATION:Virtual
CATEGORIES:Movie
ATTACH;FMTTYPE=image/png:https://arabishway.com/wp-content/uploads/2025/11/Screenshot-2025-11-28-at-9.49.32-AM.png
END:VEVENT
BEGIN:VEVENT
DTSTART;TZID=America/Los_Angeles:20251129T161500
DTEND;TZID=America/Los_Angeles:20251129T183000
DTSTAMP:20260421T032804
CREATED:20251129T043605Z
LAST-MODIFIED:20251129T043834Z
UID:10003425-1764432900-1764441000@arabishway.com
SUMMARY:Movie: Palestine 36
DESCRIPTION:Palestine’s Official Submission to the 98th Academy Awards. Official Selection of the 2025 Toronto International Film Festival. Coming to theaters in the US and Canada in 2026. A film by Annemarie Jacir Starring Hiam Abbass\, Kamel Al Basha\, Yasmine Al Massri\, Jalal Altawil\, Robert Aramayo\, Saleh Bakri\, Yafa Bakri\, Karim Daoud Anaya\, Wardi Eilabouni\, Ward Helou\, Billy Howle\, Dhafer L’Abidine\, with Liam Cunningham\, and Jeremy Irons. In 1936\, as the British Empire tightens its grip on Palestine\, Yusuf is caught between his village home and his work in Jerusalem. Amidst an anti-colonial revolt\, and Jewish refugees fleeing persecution from Europe\, all sides converge in a decisive moment for the entire region. ———- Watermelon Pictures is a film production and distribution company rooted in creative resistance. Our mission is to champion unheard voices\, inspire the world to stand up to injustice and imagine our way into a shared\, liberated future.
URL:https://arabishway.com/event/movie-palestine-36/
LOCATION:Magic Lantern Theater [Spokane]\, 25 W Main\, Spokane\, WA\, 99201
CATEGORIES:Movie
ATTACH;FMTTYPE=image/png:https://arabishway.com/wp-content/uploads/2025/11/Screenshot-2025-11-28-at-9.49.32-AM.png
END:VEVENT
BEGIN:VEVENT
DTSTART;TZID=America/Los_Angeles:20251129T163000
DTEND;TZID=America/Los_Angeles:20251129T183000
DTSTAMP:20260421T032804
CREATED:20251129T175926Z
LAST-MODIFIED:20251129T175926Z
UID:10003457-1764433800-1764441000@arabishway.com
SUMMARY:Movie: Ali: Fear Eats The Soul
DESCRIPTION:The wildly prolific German filmmaker Rainer Werner Fassbinder paid homage to his cinematic hero Douglas Sirk with this update of that filmmaker’s 1955 All That Heaven Allows. A lonely widow (Brigitte Mira) meets a much younger Arab worker (El Hedi ben Salem) in a bar during a rainstorm. They fall in love\, to their own surprise—and to the outright shock of their families\, colleagues\, and drinking buddies. In Ali: Fear Eats the Soul\, Fassbinder expertly wields the emotional power of classic Hollywood melodrama to expose the racial tensions underlying contemporary German culture. \n  \n\n\n\n\nSat Nov 29: 4.30pm PDT\, 7.30pm PDT\n\n\nSun Nov 30: 4.30pm PDT\, 7.30pm PDT
URL:https://arabishway.com/event/movie-ali-fear-eats-the-soul/
LOCATION:Northwest Film Forum\, 1515 12th Ave\, 2\, Seattle\, WA\, 98122\, United States
CATEGORIES:Movie
ATTACH;FMTTYPE=image/png:https://arabishway.com/wp-content/uploads/2025/11/Screenshot-2025-11-29-at-9.55.10-AM.png
END:VEVENT
BEGIN:VEVENT
DTSTART;TZID=America/Los_Angeles:20251129T193000
DTEND;TZID=America/Los_Angeles:20251129T210000
DTSTAMP:20260421T032804
CREATED:20251129T180007Z
LAST-MODIFIED:20251129T180050Z
UID:10003458-1764444600-1764450000@arabishway.com
SUMMARY:Movie: Ali: Fear Eats The Soul
DESCRIPTION:The wildly prolific German filmmaker Rainer Werner Fassbinder paid homage to his cinematic hero Douglas Sirk with this update of that filmmaker’s 1955 All That Heaven Allows. A lonely widow (Brigitte Mira) meets a much younger Arab worker (El Hedi ben Salem) in a bar during a rainstorm. They fall in love\, to their own surprise—and to the outright shock of their families\, colleagues\, and drinking buddies. In Ali: Fear Eats the Soul\, Fassbinder expertly wields the emotional power of classic Hollywood melodrama to expose the racial tensions underlying contemporary German culture. \n  \n\n\n\n\nSat Nov 29: 7.30pm PDT\n\n\nSun Nov 30: 4.30pm PDT\, 7.30pm PDT
URL:https://arabishway.com/event/movie-ali-fear-eats-the-soul-b/
LOCATION:Northwest Film Forum\, 1515 12th Ave\, 2\, Seattle\, WA\, 98122\, United States
CATEGORIES:Movie
ATTACH;FMTTYPE=image/png:https://arabishway.com/wp-content/uploads/2025/11/Screenshot-2025-11-29-at-9.55.10-AM.png
END:VEVENT
END:VCALENDAR