BEGIN:VCALENDAR
VERSION:2.0
PRODID:-//ArabishWay - ECPv6.15.20//NONSGML v1.0//EN
CALSCALE:GREGORIAN
METHOD:PUBLISH
X-ORIGINAL-URL:https://arabishway.com
X-WR-CALDESC:Events for ArabishWay
REFRESH-INTERVAL;VALUE=DURATION:PT1H
X-Robots-Tag:noindex
X-PUBLISHED-TTL:PT1H
BEGIN:VTIMEZONE
TZID:America/Los_Angeles
BEGIN:DAYLIGHT
TZOFFSETFROM:-0800
TZOFFSETTO:-0700
TZNAME:PDT
DTSTART:20240310T100000
END:DAYLIGHT
BEGIN:STANDARD
TZOFFSETFROM:-0700
TZOFFSETTO:-0800
TZNAME:PST
DTSTART:20241103T090000
END:STANDARD
BEGIN:DAYLIGHT
TZOFFSETFROM:-0800
TZOFFSETTO:-0700
TZNAME:PDT
DTSTART:20250309T100000
END:DAYLIGHT
BEGIN:STANDARD
TZOFFSETFROM:-0700
TZOFFSETTO:-0800
TZNAME:PST
DTSTART:20251102T090000
END:STANDARD
BEGIN:DAYLIGHT
TZOFFSETFROM:-0800
TZOFFSETTO:-0700
TZNAME:PDT
DTSTART:20260308T100000
END:DAYLIGHT
BEGIN:STANDARD
TZOFFSETFROM:-0700
TZOFFSETTO:-0800
TZNAME:PST
DTSTART:20261101T090000
END:STANDARD
END:VTIMEZONE
BEGIN:VEVENT
DTSTART;TZID=America/Los_Angeles:20251112T173000
DTEND;TZID=America/Los_Angeles:20251112T193000
DTSTAMP:20260421T102451
CREATED:20250709T053357Z
LAST-MODIFIED:20250709T053357Z
UID:10003191-1762968600-1762975800@arabishway.com
SUMMARY:Movie: Speed Sisters
DESCRIPTION:11/12 – Speed Sisters — The first all-women racing team in Palestine.\n\nDiscover the stories that drive us. \nJoin us for a global journey through the world of cars\, racing\, and the people whose lives revolve around them. This documentary film series explores how automobiles represent freedom\, identity\, and resistance—from land speed records in the U.S. to grassroots racing in Havana and the West Bank.
URL:https://arabishway.com/event/movie-speed-sisters/
LOCATION:King County Library System – Renton\, 100 Mill Ave S\, Renton\, WA\, 98057\, United States
CATEGORIES:Movie
ATTACH;FMTTYPE=image/png:https://arabishway.com/wp-content/uploads/2025/07/Screenshot-2025-07-08-at-10.31.52 PM.png
END:VEVENT
END:VCALENDAR