BEGIN:VCALENDAR
VERSION:2.0
PRODID:-//ArabishWay - ECPv6.15.20//NONSGML v1.0//EN
CALSCALE:GREGORIAN
METHOD:PUBLISH
X-WR-CALNAME:ArabishWay
X-ORIGINAL-URL:https://arabishway.com
X-WR-CALDESC:Events for ArabishWay
REFRESH-INTERVAL;VALUE=DURATION:PT1H
X-Robots-Tag:noindex
X-PUBLISHED-TTL:PT1H
BEGIN:VTIMEZONE
TZID:America/Los_Angeles
BEGIN:DAYLIGHT
TZOFFSETFROM:-0800
TZOFFSETTO:-0700
TZNAME:PDT
DTSTART:20240310T100000
END:DAYLIGHT
BEGIN:STANDARD
TZOFFSETFROM:-0700
TZOFFSETTO:-0800
TZNAME:PST
DTSTART:20241103T090000
END:STANDARD
BEGIN:DAYLIGHT
TZOFFSETFROM:-0800
TZOFFSETTO:-0700
TZNAME:PDT
DTSTART:20250309T100000
END:DAYLIGHT
BEGIN:STANDARD
TZOFFSETFROM:-0700
TZOFFSETTO:-0800
TZNAME:PST
DTSTART:20251102T090000
END:STANDARD
BEGIN:DAYLIGHT
TZOFFSETFROM:-0800
TZOFFSETTO:-0700
TZNAME:PDT
DTSTART:20260308T100000
END:DAYLIGHT
BEGIN:STANDARD
TZOFFSETFROM:-0700
TZOFFSETTO:-0800
TZNAME:PST
DTSTART:20261101T090000
END:STANDARD
END:VTIMEZONE
BEGIN:VEVENT
DTSTART;TZID=America/Los_Angeles:20251101T090000
DTEND;TZID=America/Los_Angeles:20251101T110000
DTSTAMP:20260421T030349
CREATED:20251031T184453Z
LAST-MODIFIED:20251031T184518Z
UID:10003393-1761987600-1761994800@arabishway.com
SUMMARY:Virtual Movie Screenings: Every Saturday with Palestine Museum US
DESCRIPTION:Check website: https://www.palestinemuseum.us/events for current showings and for registration links! \nOften the screening ends with a Q&A with the director! \n 
URL:https://arabishway.com/event/virtual-movie-screenings-every-saturday-with-palestine-museum-us-nov-2025/
LOCATION:Virtual
CATEGORIES:Movie
ATTACH;FMTTYPE=image/jpeg:https://arabishway.com/wp-content/uploads/2020/11/palestine-museum.jpg
END:VEVENT
BEGIN:VEVENT
DTSTART;TZID=America/Los_Angeles:20251101T130000
DTEND;TZID=America/Los_Angeles:20251101T163000
DTSTAMP:20260421T030349
CREATED:20250911T133745Z
LAST-MODIFIED:20250911T133840Z
UID:10003298-1762002000-1762014600@arabishway.com
SUMMARY:SAFF Arab Film Club: Israel Palestine on Swedish TV
DESCRIPTION:When his father dies\, Dib\, his younger brother and their mother move away from their hometown Quneitra to Damascus. The mother’s despotic father reluctantly takes them in and tries to force the mother to remarry. Overwhelmed by the magic of the city\, Dib wants to discover everything and is full of dreams. His daily life is shaped by insults and punishments however. Dib grows up against a backdrop of the political upheavals of the 1950s (the end of the military dictatorship in Syria and the nationalization of the Suez Canal\, Nasser’s taking of power in Cairo\, Egyptian and Syrian unification in 1958) and loses his childish illusions in the face of such violence and brutality. The dreams of the city prove to be a nightmare. Mohammad Malas’ partly autobiographical debut film marked the transition to auteur cinema in Syria. \nAlso showing: \n\nSat Nov 01: 5.30pm PDT\n\n\nSun Nov 02: 2.30pm PDT
URL:https://arabishway.com/event/saff-arab-film-club-swedish-tv-5/
LOCATION:Northwest Film Forum\, 1515 12th Ave\, 2\, Seattle\, WA\, 98122\, United States
CATEGORIES:Movie
ATTACH;FMTTYPE=image/png:https://arabishway.com/wp-content/uploads/2025/09/Screenshot-2025-09-11-at-6.30.19-AM.png
END:VEVENT
BEGIN:VEVENT
DTSTART;TZID=America/Los_Angeles:20251101T173000
DTEND;TZID=America/Los_Angeles:20251101T210000
DTSTAMP:20260421T030349
CREATED:20250911T133903Z
LAST-MODIFIED:20250911T133952Z
UID:10003299-1762018200-1762030800@arabishway.com
SUMMARY:SAFF Arab Film Club: Israel Palestine on Swedish TV
DESCRIPTION:When his father dies\, Dib\, his younger brother and their mother move away from their hometown Quneitra to Damascus. The mother’s despotic father reluctantly takes them in and tries to force the mother to remarry. Overwhelmed by the magic of the city\, Dib wants to discover everything and is full of dreams. His daily life is shaped by insults and punishments however. Dib grows up against a backdrop of the political upheavals of the 1950s (the end of the military dictatorship in Syria and the nationalization of the Suez Canal\, Nasser’s taking of power in Cairo\, Egyptian and Syrian unification in 1958) and loses his childish illusions in the face of such violence and brutality. The dreams of the city prove to be a nightmare. Mohammad Malas’ partly autobiographical debut film marked the transition to auteur cinema in Syria. \nAlso showing: \n\nSun Nov 02: 2.30pm PDT
URL:https://arabishway.com/event/saff-arab-film-club-swedish-tv-6/
LOCATION:Northwest Film Forum\, 1515 12th Ave\, 2\, Seattle\, WA\, 98122\, United States
CATEGORIES:Movie
ATTACH;FMTTYPE=image/png:https://arabishway.com/wp-content/uploads/2025/09/Screenshot-2025-09-11-at-6.30.19-AM.png
END:VEVENT
END:VCALENDAR