BEGIN:VCALENDAR
VERSION:2.0
PRODID:-//ArabishWay - ECPv6.15.20//NONSGML v1.0//EN
CALSCALE:GREGORIAN
METHOD:PUBLISH
X-ORIGINAL-URL:https://arabishway.com
X-WR-CALDESC:Events for ArabishWay
REFRESH-INTERVAL;VALUE=DURATION:PT1H
X-Robots-Tag:noindex
X-PUBLISHED-TTL:PT1H
BEGIN:VTIMEZONE
TZID:America/Los_Angeles
BEGIN:DAYLIGHT
TZOFFSETFROM:-0800
TZOFFSETTO:-0700
TZNAME:PDT
DTSTART:20240310T100000
END:DAYLIGHT
BEGIN:STANDARD
TZOFFSETFROM:-0700
TZOFFSETTO:-0800
TZNAME:PST
DTSTART:20241103T090000
END:STANDARD
BEGIN:DAYLIGHT
TZOFFSETFROM:-0800
TZOFFSETTO:-0700
TZNAME:PDT
DTSTART:20250309T100000
END:DAYLIGHT
BEGIN:STANDARD
TZOFFSETFROM:-0700
TZOFFSETTO:-0800
TZNAME:PST
DTSTART:20251102T090000
END:STANDARD
BEGIN:DAYLIGHT
TZOFFSETFROM:-0800
TZOFFSETTO:-0700
TZNAME:PDT
DTSTART:20260308T100000
END:DAYLIGHT
BEGIN:STANDARD
TZOFFSETFROM:-0700
TZOFFSETTO:-0800
TZNAME:PST
DTSTART:20261101T090000
END:STANDARD
END:VTIMEZONE
BEGIN:VEVENT
DTSTART;TZID=America/Los_Angeles:20250620T173000
DTEND;TZID=America/Los_Angeles:20250620T203000
DTSTAMP:20260420T053306
CREATED:20250528T215652Z
LAST-MODIFIED:20250528T223250Z
UID:10003134-1750440600-1750451400@arabishway.com
SUMMARY:Ground Zero
DESCRIPTION:FREE MOVIE SCREENING in OAK HARBOR! \nExperience a night of powerful storytelling and community spirit in support of one Palestinian family. Be in community and watch “From Ground Zero” on Friday\, June 20th (doors open 5:30pm) at First United Methodist Church in Oak Harbor\, WA. \nFree entry and refreshments! RSVP for tickets using the link in bio 🍉
URL:https://arabishway.com/event/ground-zero/
LOCATION:First United Methodist Church (Oak Harbor)\, 1050 SE Ireland St\, Oak Harbor\, WA\, 98277
CATEGORIES:Movie
ATTACH;FMTTYPE=image/png:https://arabishway.com/wp-content/uploads/2025/05/Screenshot-2025-05-28-at-2.53.32 PM.png
END:VEVENT
END:VCALENDAR