BEGIN:VCALENDAR
VERSION:2.0
PRODID:-//ArabishWay - ECPv6.15.20//NONSGML v1.0//EN
CALSCALE:GREGORIAN
METHOD:PUBLISH
X-WR-CALNAME:ArabishWay
X-ORIGINAL-URL:https://arabishway.com
X-WR-CALDESC:Events for ArabishWay
REFRESH-INTERVAL;VALUE=DURATION:PT1H
X-Robots-Tag:noindex
X-PUBLISHED-TTL:PT1H
BEGIN:VTIMEZONE
TZID:America/Los_Angeles
BEGIN:DAYLIGHT
TZOFFSETFROM:-0800
TZOFFSETTO:-0700
TZNAME:PDT
DTSTART:20240310T100000
END:DAYLIGHT
BEGIN:STANDARD
TZOFFSETFROM:-0700
TZOFFSETTO:-0800
TZNAME:PST
DTSTART:20241103T090000
END:STANDARD
BEGIN:DAYLIGHT
TZOFFSETFROM:-0800
TZOFFSETTO:-0700
TZNAME:PDT
DTSTART:20250309T100000
END:DAYLIGHT
BEGIN:STANDARD
TZOFFSETFROM:-0700
TZOFFSETTO:-0800
TZNAME:PST
DTSTART:20251102T090000
END:STANDARD
BEGIN:DAYLIGHT
TZOFFSETFROM:-0800
TZOFFSETTO:-0700
TZNAME:PDT
DTSTART:20260308T100000
END:DAYLIGHT
BEGIN:STANDARD
TZOFFSETFROM:-0700
TZOFFSETTO:-0800
TZNAME:PST
DTSTART:20261101T090000
END:STANDARD
END:VTIMEZONE
BEGIN:VEVENT
DTSTART;TZID=America/Los_Angeles:20250502T160000
DTEND;TZID=America/Los_Angeles:20250502T173000
DTSTAMP:20260420T052907
CREATED:20250430T220704Z
LAST-MODIFIED:20250430T220759Z
UID:10003076-1746201600-1746207000@arabishway.com
SUMMARY:Movie: The Encampments
DESCRIPTION:THE ENCAMPMENTS follows student organizers at some of the world’s most prestigious universities as they take a historic stand against their institutions’ investments in the ongoing genocide in Gaza\, igniting one of the largest student movements in history which continues to have far-reaching effects on US and world policies today. \nFilmed on the ground and in real-time as these events were unfolding\, THE ENCAMPMENTS features detained student activist Mahmoud Khalil and takes viewers inside America’s student uprising with incredible intimacy and urgency. Professors\, whistleblowers from inside Ivy League administrations\, and student activists shed light on a moment that captivated the nation’s attention and continues to make headlines today. \n“What makes THE ENCAMPMENTS artistically triumphant is its sense of contemporary and historical detail\, owed to both footage shot by the filmmakers\, as well as by the protesters themselves. In the process\, co-directors Kei Pritsker and Michael T. Workman craft a work of cinema that’s as rigorously journalistic in its arguments as it is nakedly sentimental.” – IndieWire \n“This is more than a student protest—it’s a generational struggle for justice. Students have always led the charge for justice\, from the sit-ins of the Civil Rights Movement to the campus protests against South African apartheid. The encampments that started at Columbia are part of that legacy\, inspiring millions of people around the world. The film ensures the students in US and Gaza are heard\, their actions are remembered\, and the fight for Palestinian liberation continues.” – Macklemore \n“Khalil remains detained at an ICE facility in Louisiana amid a legal battle to prevent his deportation from the U.S. after the Trump administration ordered his removal… The legal challenge to Khalil might ultimately come down to the Supreme Court\, which would decide how far the secretary of state can determine whether a permanent resident can be removed for speech.” – Axios
URL:https://arabishway.com/event/movie-the-encampments-2/
LOCATION:The Beacon\, 4405 Rainier Ave S\, Seattle\, WA\, 98118\, United States
CATEGORIES:Movie
ATTACH;FMTTYPE=image/png:https://arabishway.com/wp-content/uploads/2025/03/TB_THE_ENCAMPMENTS.png
END:VEVENT
BEGIN:VEVENT
DTSTART;TZID=America/Los_Angeles:20250502T163000
DTEND;TZID=America/Los_Angeles:20250502T183000
DTSTAMP:20260420T052907
CREATED:20250430T181918Z
LAST-MODIFIED:20250430T182518Z
UID:10003036-1746203400-1746210600@arabishway.com
SUMMARY:Movie: No Other Land: SIFF
DESCRIPTION:For half a decade\, Basel Adra\, a Palestinian activist\, films his community of Masafer Yatta being destroyed by Israel’s occupation\, as he builds an unlikely alliance with an Israeli journalist who wants to join his fight. \n\n\n\nDirector:Basel Adra\, Hamdan Ballal\, Yuval Abraham\, Rachel Szor\nCountry:Palestine\, Norway\nRunning Time:95 min.\nProducer:Fabien Greenberg\, Bård Kjøge Rønning\nCinematographers:Rachel Szor\nEditors:Basel Adra\, Hamdan Ballal\, Yuval Abraham\, Rachel Szor\nMusic:Julius Pollux Rothlaender\nLanguage:Arabic\, Hebrew\, English\nUS Distributor:Cintetic Handling \nInternational Sales:Autlook\n\n\n\nTICKETS\nOther showtimes: \n\n\n\nFRIDAY\, MAY 2\, 2025\, SIFF Cinema Uptown \n\n\n\n\n\n\n7:30 PM\n\n\n\n\n\n\n\n\n  \n\n\n\n\n\n\n\n\n\nSATURDAY\, MAY 3\, 2025\, SIFF Cinema Uptown \n\n\n\n\n\n\n1:30 PM4:30 PM7:30 PM\n\n\n\n\n\n\n\n\n  \nSUNDAY\, MAY 4\, 2025\, SIFF Cinema Uptown \n\n\n\n\n\n\n2:00 PM7:30 PM\n\n\n\n\n\n\n\n\n  \nMONDAY\, MAY 5\, 2025\, SIFF Cinema Uptown \n\n\n\n\n\n\n4:30 PM7:30 PM\n\nWEDNESDAY\, MAY 7\, 2025\, SIFF Cinema Uptown\n\n\n\n\n\n\n\n\n\n\n4:30 PM\n\n\n\n\n\n\n\n\n\nTHURSDAY\, MAY 8\, 2025\, SIFF Cinema Uptown \n\n\n\n\n\n\n4:30 PM\n\n\n\n\n\n\n\n\n  \nFRIDAY\, MAY 9\, 2025\, SIFF Cinema Uptown \n\n\n\n\n\n\n4:30 PM7:30 PM\n\n\n\n\n\n\n\n\n  \nSATURDAY\, MAY 10\, 2025\, SIFF Cinema Uptown \n\n\n\n\n\n\n1:30 PM4:30 PM7:30 PM\n\n\n\n\n\n\n\n\n  \nSUNDAY\, MAY 11\, 2025\, SIFF Cinema Uptown \n\n\n\n\n\n\n4:30 PM7:30 PM\n\n\n\n\n\n\n\n\n\n\n\n\n 
URL:https://arabishway.com/event/no-other-land-siff-may/
LOCATION:SIFF Cinema Uptown\, 511 Queen Anne Ave N\,\, Seattle\, WA\, 98109\, United States
CATEGORIES:Movie
ATTACH;FMTTYPE=image/png:https://arabishway.com/wp-content/uploads/2025/01/Screenshot-2025-01-29-at-7.14.56 PM.png
END:VEVENT
BEGIN:VEVENT
DTSTART;TZID=America/Los_Angeles:20250502T170000
DTEND;TZID=America/Los_Angeles:20250502T190000
DTSTAMP:20260420T052907
CREATED:20250426T070128Z
LAST-MODIFIED:20250426T070141Z
UID:10003012-1746205200-1746212400@arabishway.com
SUMMARY:Movie: The Teacher
DESCRIPTION:The title character is Basem El-Saleh (Saleh Bakri)\, a divorced man who teaches in a school on the West Bank where most of his male students have already spent time in Israeli detention centers. Two of those students\, Yacoub and Adam\, are brothers\, with Yacoub a brawny type who doesn’t do well in school and Adam his studious younger brother. They come home one day after school to find that their house is being demolished by the Israelis\, who then present them with a bill and threaten to throw them in jail if they can’t pay…  “The Teacher” is charged\, angry and incredulous about the injustices and indignities visited upon Palestinians there; it’s an effective polemic that views the situation through a variety of characters from a single perspective. Nabulsi struggles to hold it all together at times\, but she hasn’t lost her ability to tell a big story through smaller individual journeys. And while her movie flirts with happier resolutions\, it’s not interested in hanging on to false hopes for long. – The Wrap
URL:https://arabishway.com/event/movie-the-teacher-2/
LOCATION:Cententa Films\, 3800 Finnerty Road University of Victoria\, Victoria\, British Columbia\, V8P 5C2\, Canada
CATEGORIES:Movie
ATTACH;FMTTYPE=image/png:https://arabishway.com/wp-content/uploads/2025/04/Screenshot-2025-03-26-at-2.37.21 PM.png
END:VEVENT
BEGIN:VEVENT
DTSTART;TZID=America/Los_Angeles:20250502T190000
DTEND;TZID=America/Los_Angeles:20250502T210000
DTSTAMP:20260420T052907
CREATED:20250226T205428Z
LAST-MODIFIED:20250226T205428Z
UID:10002880-1746212400-1746219600@arabishway.com
SUMMARY:Movie: Leila and the Wolves at the Beacon
DESCRIPTION:Forty years ago\, this landmark film by Lebanese director Heiny Srour (THE HOUR OF LIBERATION HAS ARRIVED) centred the less visible stories and histories of women’s resistance in Lebanon and Palestine through an audacious feminist rewriting. Now re-emerging in a new restoration\, LEILA AND THE WOLVES revolves around the eponymous Leila (Nabila Zeitouni)\, a London-based Lebanese woman who\, in pondering her future within the limits of the patriarchal imagination\, begins to question the long-hidden roles that women have had in Arab history\, including how they entwine with the Palestinian resistance movement. \nA photography exhibition\, organised by a male friend and chronicling the Palestinian struggle\, intrigues Leila further. When she questions why there are only photographs of men\, he responds casually that women simply weren’t present. Leila’s visceral rejection of this response sets her on a time-travelling journey from the early 1900s to the 1980s\, as well as into her own future – or what it will be like if she merely accepts women’s lack of historical agency. \nLEILA AND THE WOLVES weaves together fictional drama\, memory\, myth and archival footage (from sources ranging from the films of Palestinian director Mai Masri to the archives of UNRWA and the Imperial War Museum) to conjure images of active\, activist and defiant women – a restitution of sorts\, which reverberates around the world. In an interview from 2020\, the filmmaker says: “Nowadays\, LEILA is travelling the world again\, more relevant than ever; my unconscious and the collective unconscious of the women of the Middle East spoke together throughout the extreme conditions of making this film.” \n“Heiny Srour’s LEILA AND THE WOLVES is a film of monumental resolve and ambition\, determined to address the contradictions within the anti-colonial struggle. With a single actress playing multiple characters in different historical moments\, the film dispenses with teleological linearity to emphasize the recurrence of oppression and the consequent need for constant and multifarious opposition. Its restored relevance is not only thematic but methodological: here’s a film that defiantly disregards any moralist binary of good versus evil\, us versus them\, to champion the immense and composite task that is liberation from all shackles\, wherever and whomever we are.” – Celluloid Liberation Front
URL:https://arabishway.com/event/movie-leila-and-the-wolves-at-the-beacon/
LOCATION:The Beacon\, 4405 Rainier Ave S\, Seattle\, WA\, 98118\, United States
CATEGORIES:Movie
ATTACH;FMTTYPE=image/png:https://arabishway.com/wp-content/uploads/2025/02/TB_LEILAANDTHEWOLVES.png
END:VEVENT
BEGIN:VEVENT
DTSTART;TZID=America/Los_Angeles:20250502T191000
DTEND;TZID=America/Los_Angeles:20250502T210000
DTSTAMP:20260420T052907
CREATED:20250426T070228Z
LAST-MODIFIED:20250426T070318Z
UID:10003014-1746213000-1746219600@arabishway.com
SUMMARY:Movie: The Teacher
DESCRIPTION:The title character is Basem El-Saleh (Saleh Bakri)\, a divorced man who teaches in a school on the West Bank where most of his male students have already spent time in Israeli detention centers. Two of those students\, Yacoub and Adam\, are brothers\, with Yacoub a brawny type who doesn’t do well in school and Adam his studious younger brother. They come home one day after school to find that their house is being demolished by the Israelis\, who then present them with a bill and threaten to throw them in jail if they can’t pay…  “The Teacher” is charged\, angry and incredulous about the injustices and indignities visited upon Palestinians there; it’s an effective polemic that views the situation through a variety of characters from a single perspective. Nabulsi struggles to hold it all together at times\, but she hasn’t lost her ability to tell a big story through smaller individual journeys. And while her movie flirts with happier resolutions\, it’s not interested in hanging on to false hopes for long. – The Wrap
URL:https://arabishway.com/event/movie-the-teacher-3/
LOCATION:Cententa Films\, 3800 Finnerty Road University of Victoria\, Victoria\, British Columbia\, V8P 5C2\, Canada
CATEGORIES:Movie
ATTACH;FMTTYPE=image/png:https://arabishway.com/wp-content/uploads/2025/04/Screenshot-2025-03-26-at-2.37.21 PM.png
END:VEVENT
BEGIN:VEVENT
DTSTART;TZID=America/Los_Angeles:20250502T193000
DTEND;TZID=America/Los_Angeles:20250502T213000
DTSTAMP:20260420T052907
CREATED:20250430T182525Z
LAST-MODIFIED:20250430T182602Z
UID:10003037-1746214200-1746221400@arabishway.com
SUMMARY:Movie: No Other Land: SIFF
DESCRIPTION:For half a decade\, Basel Adra\, a Palestinian activist\, films his community of Masafer Yatta being destroyed by Israel’s occupation\, as he builds an unlikely alliance with an Israeli journalist who wants to join his fight. \n\n\n\nDirector:Basel Adra\, Hamdan Ballal\, Yuval Abraham\, Rachel Szor\nCountry:Palestine\, Norway\nRunning Time:95 min.\nProducer:Fabien Greenberg\, Bård Kjøge Rønning\nCinematographers:Rachel Szor\nEditors:Basel Adra\, Hamdan Ballal\, Yuval Abraham\, Rachel Szor\nMusic:Julius Pollux Rothlaender\nLanguage:Arabic\, Hebrew\, English\nUS Distributor:Cintetic Handling \nInternational Sales:Autlook\n\n\n\nTICKETS\nOther showtimes: \n\n\n\n  \n\n\n\n\n\n\n\n\n\nSATURDAY\, MAY 3\, 2025\, SIFF Cinema Uptown \n\n\n\n\n\n\n1:30 PM4:30 PM7:30 PM\n\n\n\n\n\n\n\n\n  \nSUNDAY\, MAY 4\, 2025\, SIFF Cinema Uptown \n\n\n\n\n\n\n2:00 PM7:30 PM\n\n\n\n\n\n\n\n\n  \nMONDAY\, MAY 5\, 2025\, SIFF Cinema Uptown \n\n\n\n\n\n\n4:30 PM7:30 PM\n\nWEDNESDAY\, MAY 7\, 2025\, SIFF Cinema Uptown\n\n\n\n\n\n\n\n\n\n\n4:30 PM\n\n\n\n\n\n\n\n\n\nTHURSDAY\, MAY 8\, 2025\, SIFF Cinema Uptown \n\n\n\n\n\n\n4:30 PM\n\n\n\n\n\n\n\n\n  \nFRIDAY\, MAY 9\, 2025\, SIFF Cinema Uptown \n\n\n\n\n\n\n4:30 PM7:30 PM\n\n\n\n\n\n\n\n\n  \nSATURDAY\, MAY 10\, 2025\, SIFF Cinema Uptown \n\n\n\n\n\n\n1:30 PM4:30 PM7:30 PM\n\n\n\n\n\n\n\n\n  \nSUNDAY\, MAY 11\, 2025\, SIFF Cinema Uptown \n\n\n\n\n\n\n4:30 PM7:30 PM\n\n\n\n\n\n\n\n\n\n\n\n\n 
URL:https://arabishway.com/event/no-other-land-siff-may-2/
LOCATION:SIFF Cinema Uptown\, 511 Queen Anne Ave N\,\, Seattle\, WA\, 98109\, United States
CATEGORIES:Movie
ATTACH;FMTTYPE=image/png:https://arabishway.com/wp-content/uploads/2025/01/Screenshot-2025-01-29-at-7.14.56 PM.png
END:VEVENT
END:VCALENDAR