BEGIN:VCALENDAR
VERSION:2.0
PRODID:-//ArabishWay - ECPv6.15.20//NONSGML v1.0//EN
CALSCALE:GREGORIAN
METHOD:PUBLISH
X-WR-CALNAME:ArabishWay
X-ORIGINAL-URL:https://arabishway.com
X-WR-CALDESC:Events for ArabishWay
REFRESH-INTERVAL;VALUE=DURATION:PT1H
X-Robots-Tag:noindex
X-PUBLISHED-TTL:PT1H
BEGIN:VTIMEZONE
TZID:America/Los_Angeles
BEGIN:DAYLIGHT
TZOFFSETFROM:-0800
TZOFFSETTO:-0700
TZNAME:PDT
DTSTART:20240310T100000
END:DAYLIGHT
BEGIN:STANDARD
TZOFFSETFROM:-0700
TZOFFSETTO:-0800
TZNAME:PST
DTSTART:20241103T090000
END:STANDARD
BEGIN:DAYLIGHT
TZOFFSETFROM:-0800
TZOFFSETTO:-0700
TZNAME:PDT
DTSTART:20250309T100000
END:DAYLIGHT
BEGIN:STANDARD
TZOFFSETFROM:-0700
TZOFFSETTO:-0800
TZNAME:PST
DTSTART:20251102T090000
END:STANDARD
BEGIN:DAYLIGHT
TZOFFSETFROM:-0800
TZOFFSETTO:-0700
TZNAME:PDT
DTSTART:20260308T100000
END:DAYLIGHT
BEGIN:STANDARD
TZOFFSETFROM:-0700
TZOFFSETTO:-0800
TZNAME:PST
DTSTART:20261101T090000
END:STANDARD
END:VTIMEZONE
BEGIN:VEVENT
DTSTART;TZID=America/Los_Angeles:20250404T190000
DTEND;TZID=America/Los_Angeles:20250404T210000
DTSTAMP:20260424T115829
CREATED:20250331T202509Z
LAST-MODIFIED:20250331T202509Z
UID:10002952-1743793200-1743800400@arabishway.com
SUMMARY:Movie: The Encampments
DESCRIPTION:THE ENCAMPMENTS follows student organizers at some of the world’s most prestigious universities as they take a historic stand against their institutions’ investments in the ongoing genocide in Gaza\, igniting one of the largest student movements in history which continues to have far-reaching effects on US and world policies today. \nFilmed on the ground and in real-time as these events were unfolding\, THE ENCAMPMENTS features detained student activist Mahmoud Khalil and takes viewers inside America’s student uprising with incredible intimacy and urgency. Professors\, whistleblowers from inside Ivy League administrations\, and student activists shed light on a moment that captivated the nation’s attention and continues to make headlines today. \n“What makes THE ENCAMPMENTS artistically triumphant is its sense of contemporary and historical detail\, owed to both footage shot by the filmmakers\, as well as by the protesters themselves. In the process\, co-directors Kei Pritsker and Michael T. Workman craft a work of cinema that’s as rigorously journalistic in its arguments as it is nakedly sentimental.” – IndieWire \n“This is more than a student protest—it’s a generational struggle for justice. Students have always led the charge for justice\, from the sit-ins of the Civil Rights Movement to the campus protests against South African apartheid. The encampments that started at Columbia are part of that legacy\, inspiring millions of people around the world. The film ensures the students in US and Gaza are heard\, their actions are remembered\, and the fight for Palestinian liberation continues.” – Macklemore \n“Khalil remains detained at an ICE facility in Louisiana amid a legal battle to prevent his deportation from the U.S. after the Trump administration ordered his removal… The legal challenge to Khalil might ultimately come down to the Supreme Court\, which would decide how far the secretary of state can determine whether a permanent resident can be removed for speech.” – Axios
URL:https://arabishway.com/event/movie-the-encampments/
LOCATION:The Beacon\, 4405 Rainier Ave S\, Seattle\, WA\, 98118\, United States
CATEGORIES:Movie
ATTACH;FMTTYPE=image/png:https://arabishway.com/wp-content/uploads/2025/03/TB_THE_ENCAMPMENTS.png
END:VEVENT
BEGIN:VEVENT
DTSTART;TZID=America/Los_Angeles:20250404T190000
DTEND;TZID=America/Los_Angeles:20250404T210000
DTSTAMP:20260424T115829
CREATED:20250331T203826Z
LAST-MODIFIED:20250331T204347Z
UID:10002957-1743793200-1743800400@arabishway.com
SUMMARY:Movie: No Other Land
DESCRIPTION:Directed by Yuval Abraham\, Basel Adra\, Hamdan Ballal \nThis film made by a Palestinian-Israeli collective shows the destruction of the occupied West Bank’s Masafer Yatta by Israeli soldiers and the alliance which develops between the Palestinian activist Basel and Israeli journalist Yuval.
URL:https://arabishway.com/event/movie-no-other-land-2/
LOCATION:Roxy\, 270 4th Street\, Bremerton\, WA\, 98337
CATEGORIES:Movie
ATTACH;FMTTYPE=image/png:https://arabishway.com/wp-content/uploads/2025/01/Screenshot-2025-01-29-at-7.14.56 PM.png
END:VEVENT
BEGIN:VEVENT
DTSTART;TZID=America/Los_Angeles:20250404T191500
DTEND;TZID=America/Los_Angeles:20250404T211500
DTSTAMP:20260424T115829
CREATED:20250331T221148Z
LAST-MODIFIED:20250331T221231Z
UID:10002992-1743794100-1743801300@arabishway.com
SUMMARY:No Other Land: SIFF
DESCRIPTION:For half a decade\, Basel Adra\, a Palestinian activist\, films his community of Masafer Yatta being destroyed by Israel’s occupation\, as he builds an unlikely alliance with an Israeli journalist who wants to join his fight. \n\n\n\nDirector:Basel Adra\, Hamdan Ballal\, Yuval Abraham\, Rachel Szor\nCountry:Palestine\, Norway\nRunning Time:95 min.\nProducer:Fabien Greenberg\, Bård Kjøge Rønning\nCinematographers:Rachel Szor\nEditors:Basel Adra\, Hamdan Ballal\, Yuval Abraham\, Rachel Szor\nMusic:Julius Pollux Rothlaender\nLanguage:Arabic\, Hebrew\, English\nUS Distributor:Cintetic Handling \nInternational Sales:Autlook\n\nTICKETS\nSelect showtime for pricing and tickets. \n\n\n\n\n\n\n\n\n\n\n\nAlso:\n\n\n\n\n\n\n\n\n\n\n\n\nSATURDAY\, APRIL 5\, 2025 \n\n\n\n\n\n\nSIFF Cinema Uptown \n\n\n4:30 PM\n\n\n\n\n\n\n\n\nSUNDAY\, APRIL 6\, 2025 \n\n\n\n\n\n\nSIFF Cinema Uptown \n\n\n7:00 PM\n\n\n\n\n\n\n\n\nMONDAY\, APRIL 7\, 2025 \n\n\n\n\n\n\nSIFF Cinema Uptown \n\n\n4:15 PM7:30 PM\n\n\n\n\n\n\n\n\nTUESDAY\, APRIL 8\, 2025 \n\n\n\n\n\n\nSIFF Cinema Uptown \n\n\n7:15 PM\n\n\n\n\n\n\n\n\nWEDNESDAY\, APRIL 9\, 2025 \n\n\n\n\n\n\nSIFF Cinema Uptown \n\n\n4:15 PM\n\n\n\n\n\n\n\n\nTHURSDAY\, APRIL 10\, 2025 \n\n\n\n\n\n\nSIFF Cinema Uptown \n\n\n4:15 PM7:00 PM\n\n\n\n\n\n\n 
URL:https://arabishway.com/event/no-other-land-siff-march-april-2/
LOCATION:SIFF Cinema Uptown\, 511 Queen Anne Ave N\,\, Seattle\, WA\, 98109\, United States
CATEGORIES:Movie
ATTACH;FMTTYPE=image/png:https://arabishway.com/wp-content/uploads/2025/01/Screenshot-2025-01-29-at-7.14.56 PM.png
END:VEVENT
END:VCALENDAR