BEGIN:VCALENDAR
VERSION:2.0
PRODID:-//ArabishWay - ECPv6.15.20//NONSGML v1.0//EN
CALSCALE:GREGORIAN
METHOD:PUBLISH
X-ORIGINAL-URL:https://arabishway.com
X-WR-CALDESC:Events for ArabishWay
REFRESH-INTERVAL;VALUE=DURATION:PT1H
X-Robots-Tag:noindex
X-PUBLISHED-TTL:PT1H
BEGIN:VTIMEZONE
TZID:America/Los_Angeles
BEGIN:DAYLIGHT
TZOFFSETFROM:-0800
TZOFFSETTO:-0700
TZNAME:PDT
DTSTART:20240310T100000
END:DAYLIGHT
BEGIN:STANDARD
TZOFFSETFROM:-0700
TZOFFSETTO:-0800
TZNAME:PST
DTSTART:20241103T090000
END:STANDARD
BEGIN:DAYLIGHT
TZOFFSETFROM:-0800
TZOFFSETTO:-0700
TZNAME:PDT
DTSTART:20250309T100000
END:DAYLIGHT
BEGIN:STANDARD
TZOFFSETFROM:-0700
TZOFFSETTO:-0800
TZNAME:PST
DTSTART:20251102T090000
END:STANDARD
BEGIN:DAYLIGHT
TZOFFSETFROM:-0800
TZOFFSETTO:-0700
TZNAME:PDT
DTSTART:20260308T100000
END:DAYLIGHT
BEGIN:STANDARD
TZOFFSETFROM:-0700
TZOFFSETTO:-0800
TZNAME:PST
DTSTART:20261101T090000
END:STANDARD
END:VTIMEZONE
BEGIN:VEVENT
DTSTART;VALUE=DATE:20250314
DTEND;VALUE=DATE:20250320
DTSTAMP:20260424T133514
CREATED:20250315T022428Z
LAST-MODIFIED:20250315T022428Z
UID:10002917-1741910400-1742428799@arabishway.com
SUMMARY:Streaming: Movie: Abou Farid’s War (2021) by Omar Mismar
DESCRIPTION:Archaeology inspector and conservator Abou Farid shares part of his image library documenting the condition of mosaic works in the aftermath of several raids on Ma’arrat Al-Numan Museum in Idlib\, Syria as well as the independent preservation efforts that ensued. The images give way to an aleatory conversation interweaving questions of cultural heritage and territory\, preservation techniques and destruction\, traceability and looting\, and the production and circulation of images in times of war.  \n\nيشـــاركنا مفتـــش الآثـــار ومرممهـــا أبـــو فريـــد جـــز ًءا مـــن مكتبـــة صـــوره الـــي التقطهـــا لتوثيـــق حالـــة العديـــد مـــن الفسيفســـاء عقـــب عـــدة مداهمـــات عـــى متحـــف معـــرة النعمـــان في إدلـــب في ســـوريا،ولتوثيـــقجهـــودالحفـــظالمســتقلةالـيتلـتذلـك.تفســحالصـورالطريـقلمحادثـةمتشـّعبة تتشـــابك مـــع أســـئلة الـــتراث الثقـــافي والأرض، وتقنيــــات الحفــــظ والتدمــــر، وإمكانيــــات التتبــــع \nوالنهـــب، وإنتـــاج الصـــور وتداولهـــا في أوقـــات الحـــرب.
URL:https://arabishway.com/event/streaming-movie-abou-farids-war-2021-by-omar-mismar/
LOCATION:Virtual
CATEGORIES:Movie
ATTACH;FMTTYPE=image/png:https://arabishway.com/wp-content/uploads/2025/03/Screenshot-2025-03-14-at-7.22.39 PM.png
END:VEVENT
END:VCALENDAR