BEGIN:VCALENDAR
VERSION:2.0
PRODID:-//ArabishWay - ECPv6.15.20//NONSGML v1.0//EN
CALSCALE:GREGORIAN
METHOD:PUBLISH
X-ORIGINAL-URL:https://arabishway.com
X-WR-CALDESC:Events for ArabishWay
REFRESH-INTERVAL;VALUE=DURATION:PT1H
X-Robots-Tag:noindex
X-PUBLISHED-TTL:PT1H
BEGIN:VTIMEZONE
TZID:America/Los_Angeles
BEGIN:DAYLIGHT
TZOFFSETFROM:-0800
TZOFFSETTO:-0700
TZNAME:PDT
DTSTART:20240310T100000
END:DAYLIGHT
BEGIN:STANDARD
TZOFFSETFROM:-0700
TZOFFSETTO:-0800
TZNAME:PST
DTSTART:20241103T090000
END:STANDARD
BEGIN:DAYLIGHT
TZOFFSETFROM:-0800
TZOFFSETTO:-0700
TZNAME:PDT
DTSTART:20250309T100000
END:DAYLIGHT
BEGIN:STANDARD
TZOFFSETFROM:-0700
TZOFFSETTO:-0800
TZNAME:PST
DTSTART:20251102T090000
END:STANDARD
BEGIN:DAYLIGHT
TZOFFSETFROM:-0800
TZOFFSETTO:-0700
TZNAME:PDT
DTSTART:20260308T100000
END:DAYLIGHT
BEGIN:STANDARD
TZOFFSETFROM:-0700
TZOFFSETTO:-0800
TZNAME:PST
DTSTART:20261101T090000
END:STANDARD
END:VTIMEZONE
BEGIN:VEVENT
DTSTART;TZID=America/Los_Angeles:20250306T153000
DTEND;TZID=America/Los_Angeles:20250306T173000
DTSTAMP:20260424T120153
CREATED:20250226T210944Z
LAST-MODIFIED:20250226T211022Z
UID:10002884-1741275000-1741282200@arabishway.com
SUMMARY:Movie: No Other Land
DESCRIPTION:No Other Land\n|96 minutes\n\nThis film made by a Palestinian-Israeli collective shows the destruction of the occupied West Bank’s Masafer Yatta by Israeli soldiers and the alliance which develops between the Palestinian activist Basel and Israeli journalist Yuval.\n\n\n\n6:30 PM
URL:https://arabishway.com/event/movie-no-other-land-march-c/
LOCATION:Firehouse Theater\, 11171 NE State Highway 104\, Suite 111\, Kingston\, WA\, 98346
CATEGORIES:Movie
ATTACH;FMTTYPE=image/png:https://arabishway.com/wp-content/uploads/2025/01/Screenshot-2025-01-29-at-7.14.56 PM.png
END:VEVENT
BEGIN:VEVENT
DTSTART;TZID=America/Los_Angeles:20250306T183000
DTEND;TZID=America/Los_Angeles:20250306T200000
DTSTAMP:20260424T120153
CREATED:20250226T211040Z
LAST-MODIFIED:20250226T211159Z
UID:10002885-1741285800-1741291200@arabishway.com
SUMMARY:Movie: No Other Land
DESCRIPTION:No Other Land\n|96 minutes\n\nThis film made by a Palestinian-Israeli collective shows the destruction of the occupied West Bank’s Masafer Yatta by Israeli soldiers and the alliance which develops between the Palestinian activist Basel and Israeli journalist Yuval.\n\n\n\n6:30 PM
URL:https://arabishway.com/event/movie-no-other-land-march-d/
LOCATION:Firehouse Theater\, 11171 NE State Highway 104\, Suite 111\, Kingston\, WA\, 98346
CATEGORIES:Movie
ATTACH;FMTTYPE=image/png:https://arabishway.com/wp-content/uploads/2025/01/Screenshot-2025-01-29-at-7.14.56 PM.png
END:VEVENT
BEGIN:VEVENT
DTSTART;TZID=America/Los_Angeles:20250306T190000
DTEND;TZID=America/Los_Angeles:20250306T210000
DTSTAMP:20260424T120153
CREATED:20250224T160245Z
LAST-MODIFIED:20250226T194711Z
UID:10002871-1741287600-1741294800@arabishway.com
SUMMARY:Movie: Settlements Above the Law
DESCRIPTION:THE EPISCOPAL BISHOP’S COMMITTEE FOR JUSTICE & PEACE IN THE HOLY LAND\n \npresents \nThe Mideast Focus Twelfth Annual Film Series 2025\n \n“Bearing Witness” \nThe next film is Settlements Above the Law: Seizing the West Bank  \nBBC Eye investigates a campaign of violence and harassment to seize the lands of Palestinians in the West Bank \nThis film is freely available on YouTube.\n \nClick here to watch it at your convenience.\n \nJoin our discussion over Zoom on Thursday\, March 6 at 7 p.m. Pacific Time \nSpecial guest speaker: Israeli-American anthropologist and author\, Jeff Halper\n \nCome with questions about the film and  Jeff’s work with the Israeli Committee Against House Demolitions \nClick here to sign up for the Zoom.  \nYou will receive your confirmation and link within 48 hours of the discussion. \nThe Zoom link is for you; do not share it.
URL:https://arabishway.com/event/movie-settlements-above-the-law/
LOCATION:Virtual
CATEGORIES:Movie
ATTACH;FMTTYPE=image/png:https://arabishway.com/wp-content/uploads/2019/01/st-marks-logo-mini.png
END:VEVENT
END:VCALENDAR