BEGIN:VCALENDAR
VERSION:2.0
PRODID:-//ArabishWay - ECPv6.15.20//NONSGML v1.0//EN
CALSCALE:GREGORIAN
METHOD:PUBLISH
X-WR-CALNAME:ArabishWay
X-ORIGINAL-URL:https://arabishway.com
X-WR-CALDESC:Events for ArabishWay
REFRESH-INTERVAL;VALUE=DURATION:PT1H
X-Robots-Tag:noindex
X-PUBLISHED-TTL:PT1H
BEGIN:VTIMEZONE
TZID:America/Los_Angeles
BEGIN:DAYLIGHT
TZOFFSETFROM:-0800
TZOFFSETTO:-0700
TZNAME:PDT
DTSTART:20240310T100000
END:DAYLIGHT
BEGIN:STANDARD
TZOFFSETFROM:-0700
TZOFFSETTO:-0800
TZNAME:PST
DTSTART:20241103T090000
END:STANDARD
BEGIN:DAYLIGHT
TZOFFSETFROM:-0800
TZOFFSETTO:-0700
TZNAME:PDT
DTSTART:20250309T100000
END:DAYLIGHT
BEGIN:STANDARD
TZOFFSETFROM:-0700
TZOFFSETTO:-0800
TZNAME:PST
DTSTART:20251102T090000
END:STANDARD
BEGIN:DAYLIGHT
TZOFFSETFROM:-0800
TZOFFSETTO:-0700
TZNAME:PDT
DTSTART:20260308T100000
END:DAYLIGHT
BEGIN:STANDARD
TZOFFSETFROM:-0700
TZOFFSETTO:-0800
TZNAME:PST
DTSTART:20261101T090000
END:STANDARD
END:VTIMEZONE
BEGIN:VEVENT
DTSTART;TZID=America/Los_Angeles:20250302T100000
DTEND;TZID=America/Los_Angeles:20250302T120000
DTSTAMP:20260424T150956
CREATED:20250226T202229Z
LAST-MODIFIED:20250226T202229Z
UID:10002875-1740909600-1740916800@arabishway.com
SUMMARY:Ismail: Film Screening + Discussion
DESCRIPTION:Register below to join us for an online film screening of “Ismail”\, a Palestinian short film. Following the film will be a discussion with our teachers from the West Bank to hear about the present situation in the region. There will also be an opportunity to learn about upcoming PAB classes and to support the project! COST: *FREE* DATE: March 2 TIME: 1 pm EST / 8pm Palestine ABOUT THE FILM: “Inspired by a day in the life of Palestinian painter Ismail Shammout\, Ismail tells the story of a young man struggling to support his parents after their expulsion to a Refugee camp in 1948”. This is a tender hearted film with minimal depictions of violence. \nABOUT PAB: “Palestinian Arabic Bridge” We are a mutual aid project working to connect those who want to learn Arabic with Palestinians in the West Bank who are offering online Palestinian Arabic lessons\, conversation practice\, and cultural lessons. Every penny goes directly into the teachers hands. All admin and marketing is done through an entirely volunteer basis. \nRight now\, we are looking to raise a small amount of funds so that we can extend PAB’s reach to more prospective students. There will be an opportunity to donate whatever you can or to help us spread the word in other ways. Learn more about PAB through our linktree: https://linktr.ee/palarabicbridge If you have any questions\, feel free to email us at: PAB.Connect.Info@gmail.com ACCESS NEEDS: We will be enabling Automatic Captions during the event. Participants are welcome to have video on or off. Participants will be muted during the screening. If you have any access needs that have not been addressed above\, please send us an email at PAB.Connect.Info@gmail.com We will do our best to accommodate needs as we are able! NEWSLETTER: If you would like to hear about upcoming PAB events and classes\, please join our mailing list! https://docs.google.com/forms/d/e/1FAIpQLSeyV9xppLDNX2EsZjloVfi7mCgcy9LlI4I9pgDuQmNE4wgoVQ/viewform
URL:https://arabishway.com/event/ismail-film-screening-discussion/
LOCATION:Virtual
CATEGORIES:Movie
ATTACH;FMTTYPE=image/png:https://arabishway.com/wp-content/uploads/2025/02/Screenshot-2025-02-26-at-12.21.25 PM.png
END:VEVENT
BEGIN:VEVENT
DTSTART;TZID=America/Los_Angeles:20250302T160000
DTEND;TZID=America/Los_Angeles:20250302T180000
DTSTAMP:20260424T150956
CREATED:20250130T032237Z
LAST-MODIFIED:20250130T032338Z
UID:10002829-1740931200-1740938400@arabishway.com
SUMMARY:No Other Land (in person) - NWFF
DESCRIPTION:Nominated for Best Documentary Feature at the 2025 Academy Awards!  \nBasel Adra\, a young Palestinian activist from Masafer Yatta\, has been fighting his community’s mass expulsion by the Israeli occupation since childhood. Basel documents the gradual erasure of Masafer Yatta\, as soldiers destroy the homes of families – the largest single act of forced transfer ever carried out in the occupied West Bank. He crosses paths with Yuval\, an Israeli journalist who joins his struggle\, and for over half a decade they fight against the expulsion while growing closer. Their complex bond is haunted by the extreme inequality between them: Basel\, living under a brutal military occupation\, and Yuval\, unrestricted and free. This film\, by a Palestinian-Israeli collective of four young activists\, was co-created during the darkest\, most terrifying times in the region\, as an act of creative resistance to Apartheid and a search for a path towards equality and justice. \nSynopsis courtesy of mTuckman Media \nSun Mar 02: 4.00pm PDT
URL:https://arabishway.com/event/no-other-land-in-person-nwff-8/
LOCATION:Northwest Film Forum\, 1515 12th Ave\, 2\, Seattle\, WA\, 98122\, United States
CATEGORIES:Movie
ATTACH;FMTTYPE=image/png:https://arabishway.com/wp-content/uploads/2025/01/Screenshot-2025-01-29-at-7.14.56 PM.png
END:VEVENT
END:VCALENDAR