BEGIN:VCALENDAR
VERSION:2.0
PRODID:-//ArabishWay - ECPv6.15.20//NONSGML v1.0//EN
CALSCALE:GREGORIAN
METHOD:PUBLISH
X-ORIGINAL-URL:https://arabishway.com
X-WR-CALDESC:Events for ArabishWay
REFRESH-INTERVAL;VALUE=DURATION:PT1H
X-Robots-Tag:noindex
X-PUBLISHED-TTL:PT1H
BEGIN:VTIMEZONE
TZID:America/Los_Angeles
BEGIN:DAYLIGHT
TZOFFSETFROM:-0800
TZOFFSETTO:-0700
TZNAME:PDT
DTSTART:20240310T100000
END:DAYLIGHT
BEGIN:STANDARD
TZOFFSETFROM:-0700
TZOFFSETTO:-0800
TZNAME:PST
DTSTART:20241103T090000
END:STANDARD
BEGIN:DAYLIGHT
TZOFFSETFROM:-0800
TZOFFSETTO:-0700
TZNAME:PDT
DTSTART:20250309T100000
END:DAYLIGHT
BEGIN:STANDARD
TZOFFSETFROM:-0700
TZOFFSETTO:-0800
TZNAME:PST
DTSTART:20251102T090000
END:STANDARD
BEGIN:DAYLIGHT
TZOFFSETFROM:-0800
TZOFFSETTO:-0700
TZNAME:PDT
DTSTART:20260308T100000
END:DAYLIGHT
BEGIN:STANDARD
TZOFFSETFROM:-0700
TZOFFSETTO:-0800
TZNAME:PST
DTSTART:20261101T090000
END:STANDARD
END:VTIMEZONE
BEGIN:VEVENT
DTSTART;TZID=America/Los_Angeles:20250222T090000
DTEND;TZID=America/Los_Angeles:20250222T110000
DTSTAMP:20260424T084556
CREATED:20250222T045406Z
LAST-MODIFIED:20250222T045601Z
UID:10002860-1740214800-1740222000@arabishway.com
SUMMARY:Stitching Palestine: Virtual Movie Screenings with Palestine Museum US
DESCRIPTION:Check website: https://www.palestinemuseum.us/events for current showings and for registration links! \nOften the screening ends with a Q&A with the director! \n  \nThis Saturday – Documentary Film – “Stitching Palestine\,”by Carole Mansour. \nSaturday\, 12:00 Noon US EDT\, 19:00 Palestine Time\, 18:00 Europe\nRunning Time 77 minutes\, English with English subtitles as applicable. The film screening will be followed by discussions with the audience. \nThe Story behind “Stitching Palestine:” Twelve Palestinian women sit before us and talk of their life before the Diaspora\, of their memories\, of their lives and of their identity.\nTheir narratives are connected by the enduring thread of the ancient art of embroidery.\nPlease Click here to register for this event. \n 
URL:https://arabishway.com/event/virtual-movie-screenings-every-saturday-with-palestine-museum-us-feb-2025/
LOCATION:Virtual
CATEGORIES:Movie
ATTACH;FMTTYPE=image/jpeg:https://arabishway.com/wp-content/uploads/2020/11/palestine-museum.jpg
END:VEVENT
BEGIN:VEVENT
DTSTART;TZID=America/Los_Angeles:20250222T160000
DTEND;TZID=America/Los_Angeles:20250222T180000
DTSTAMP:20260424T084556
CREATED:20250130T031935Z
LAST-MODIFIED:20250130T032005Z
UID:10002825-1740240000-1740247200@arabishway.com
SUMMARY:No Other Land (in person) - NWFF
DESCRIPTION:Nominated for Best Documentary Feature at the 2025 Academy Awards!  \nBasel Adra\, a young Palestinian activist from Masafer Yatta\, has been fighting his community’s mass expulsion by the Israeli occupation since childhood. Basel documents the gradual erasure of Masafer Yatta\, as soldiers destroy the homes of families – the largest single act of forced transfer ever carried out in the occupied West Bank. He crosses paths with Yuval\, an Israeli journalist who joins his struggle\, and for over half a decade they fight against the expulsion while growing closer. Their complex bond is haunted by the extreme inequality between them: Basel\, living under a brutal military occupation\, and Yuval\, unrestricted and free. This film\, by a Palestinian-Israeli collective of four young activists\, was co-created during the darkest\, most terrifying times in the region\, as an act of creative resistance to Apartheid and a search for a path towards equality and justice. \nSynopsis courtesy of mTuckman Media \nSat Feb 22: 4.00pm PDT\, 7.00pm PDT\nFri Feb 28: 7.00pm PDT\nSat Mar 01: 4.00pm PDT\, 7.00pm PDT\nSun Mar 02: 4.00pm PDT
URL:https://arabishway.com/event/no-other-land-in-person-nwff-4/
LOCATION:Northwest Film Forum\, 1515 12th Ave\, 2\, Seattle\, WA\, 98122\, United States
CATEGORIES:Movie
ATTACH;FMTTYPE=image/png:https://arabishway.com/wp-content/uploads/2025/01/Screenshot-2025-01-29-at-7.14.56 PM.png
END:VEVENT
BEGIN:VEVENT
DTSTART;TZID=America/Los_Angeles:20250222T190000
DTEND;TZID=America/Los_Angeles:20250222T210000
DTSTAMP:20260424T084556
CREATED:20250130T031858Z
LAST-MODIFIED:20250130T031927Z
UID:10002824-1740250800-1740258000@arabishway.com
SUMMARY:No Other Land (in person) - NWFF
DESCRIPTION:Nominated for Best Documentary Feature at the 2025 Academy Awards!  \nBasel Adra\, a young Palestinian activist from Masafer Yatta\, has been fighting his community’s mass expulsion by the Israeli occupation since childhood. Basel documents the gradual erasure of Masafer Yatta\, as soldiers destroy the homes of families – the largest single act of forced transfer ever carried out in the occupied West Bank. He crosses paths with Yuval\, an Israeli journalist who joins his struggle\, and for over half a decade they fight against the expulsion while growing closer. Their complex bond is haunted by the extreme inequality between them: Basel\, living under a brutal military occupation\, and Yuval\, unrestricted and free. This film\, by a Palestinian-Israeli collective of four young activists\, was co-created during the darkest\, most terrifying times in the region\, as an act of creative resistance to Apartheid and a search for a path towards equality and justice. \nSynopsis courtesy of mTuckman Media \n\nSat Feb 22: 4.00pm PDT\, 7.00pm PDT\nFri Feb 28: 7.00pm PDT\nSat Mar 01: 4.00pm PDT\, 7.00pm PDT\nSun Mar 02: 4.00pm PDT
URL:https://arabishway.com/event/no-other-land-in-person-nwff-3/
LOCATION:Northwest Film Forum\, 1515 12th Ave\, 2\, Seattle\, WA\, 98122\, United States
CATEGORIES:Movie
ATTACH;FMTTYPE=image/png:https://arabishway.com/wp-content/uploads/2025/01/Screenshot-2025-01-29-at-7.14.56 PM.png
END:VEVENT
END:VCALENDAR