BEGIN:VCALENDAR
VERSION:2.0
PRODID:-//ArabishWay - ECPv6.15.20//NONSGML v1.0//EN
CALSCALE:GREGORIAN
METHOD:PUBLISH
X-WR-CALNAME:ArabishWay
X-ORIGINAL-URL:https://arabishway.com
X-WR-CALDESC:Events for ArabishWay
REFRESH-INTERVAL;VALUE=DURATION:PT1H
X-Robots-Tag:noindex
X-PUBLISHED-TTL:PT1H
BEGIN:VTIMEZONE
TZID:America/Los_Angeles
BEGIN:DAYLIGHT
TZOFFSETFROM:-0800
TZOFFSETTO:-0700
TZNAME:PDT
DTSTART:20240310T100000
END:DAYLIGHT
BEGIN:STANDARD
TZOFFSETFROM:-0700
TZOFFSETTO:-0800
TZNAME:PST
DTSTART:20241103T090000
END:STANDARD
BEGIN:DAYLIGHT
TZOFFSETFROM:-0800
TZOFFSETTO:-0700
TZNAME:PDT
DTSTART:20250309T100000
END:DAYLIGHT
BEGIN:STANDARD
TZOFFSETFROM:-0700
TZOFFSETTO:-0800
TZNAME:PST
DTSTART:20251102T090000
END:STANDARD
BEGIN:DAYLIGHT
TZOFFSETFROM:-0800
TZOFFSETTO:-0700
TZNAME:PDT
DTSTART:20260308T100000
END:DAYLIGHT
BEGIN:STANDARD
TZOFFSETFROM:-0700
TZOFFSETTO:-0800
TZNAME:PST
DTSTART:20261101T090000
END:STANDARD
END:VTIMEZONE
BEGIN:VEVENT
DTSTART;TZID=America/Los_Angeles:20250201T090000
DTEND;TZID=America/Los_Angeles:20250201T110000
DTSTAMP:20260424T064956
CREATED:20250131T185232Z
LAST-MODIFIED:20250131T185232Z
UID:10002835-1738400400-1738407600@arabishway.com
SUMMARY:The Unfathomable Truth: Palestine and Israel in Context
DESCRIPTION:Please click here to register to view the video. \n\nScreening will start at 12:00 Noon US EST; 18:00 Europe; 19:00 Palestine; 17:00 UK; running time: 52 minutes; English language. The screening will be followed with a discussion with the video producer Mercy Quaye\, founder & CEO of The Narrative Project\, and interviewees Faisal Saleh and Shelly Altman. \nOn October 24\, 2024\, The Narrative Project brought together Faisal Saleh\, Founder of the Palestine Museum US\, and Shelly Altman\, Co-Founder of Jewish Voice for Peace New Haven\, Connecticut\, to discuss the history that predates the October 7\, 2023 attack and the ensuing fifteen months of turmoil. \n.
URL:https://arabishway.com/event/the-unfathomable-truth-palestine-and-israel-in-context/
LOCATION:Virtual
CATEGORIES:Movie
ATTACH;FMTTYPE=image/png:https://arabishway.com/wp-content/uploads/2025/01/Screenshot-2025-01-31-at-10.49.54 AM.png
END:VEVENT
END:VCALENDAR