BEGIN:VCALENDAR
VERSION:2.0
PRODID:-//ArabishWay - ECPv6.15.20//NONSGML v1.0//EN
CALSCALE:GREGORIAN
METHOD:PUBLISH
X-WR-CALNAME:ArabishWay
X-ORIGINAL-URL:https://arabishway.com
X-WR-CALDESC:Events for ArabishWay
REFRESH-INTERVAL;VALUE=DURATION:PT1H
X-Robots-Tag:noindex
X-PUBLISHED-TTL:PT1H
BEGIN:VTIMEZONE
TZID:America/Los_Angeles
BEGIN:DAYLIGHT
TZOFFSETFROM:-0800
TZOFFSETTO:-0700
TZNAME:PDT
DTSTART:20230312T100000
END:DAYLIGHT
BEGIN:STANDARD
TZOFFSETFROM:-0700
TZOFFSETTO:-0800
TZNAME:PST
DTSTART:20231105T090000
END:STANDARD
BEGIN:DAYLIGHT
TZOFFSETFROM:-0800
TZOFFSETTO:-0700
TZNAME:PDT
DTSTART:20240310T100000
END:DAYLIGHT
BEGIN:STANDARD
TZOFFSETFROM:-0700
TZOFFSETTO:-0800
TZNAME:PST
DTSTART:20241103T090000
END:STANDARD
BEGIN:DAYLIGHT
TZOFFSETFROM:-0800
TZOFFSETTO:-0700
TZNAME:PDT
DTSTART:20250309T100000
END:DAYLIGHT
BEGIN:STANDARD
TZOFFSETFROM:-0700
TZOFFSETTO:-0800
TZNAME:PST
DTSTART:20251102T090000
END:STANDARD
END:VTIMEZONE
BEGIN:VEVENT
DTSTART;VALUE=DATE:20240916
DTEND;VALUE=DATE:20240927
DTSTAMP:20260423T150336
CREATED:20240831T230243Z
LAST-MODIFIED:20240831T230243Z
UID:10002633-1726444800-1727395199@arabishway.com
SUMMARY:SUDANESE FILM GROUP\, THEN AND NOW: Part 1
DESCRIPTION:Join us for September’s Arab Film Series online program: SUDANESE FILM GROUP\, THEN AND NOW \nPart 1: Sept 16-26\, 2025 \nPart 2: Nov 11-21\, 2024 \nRSVP: arabfilmseries.org \nFREE / $5 suggested donation \nAvailable Worldwide \n  \nFounded in April 1989 by Ibrahim Shaddad\, Eltayeb Mahdi\, and Suliman Elnour\, just months before Omar Albashir’s military coup\, the Sudanese Film Group (SFG) is a collective of filmmakers with a goal to maintain and develop Sudanese cinema. After returning from their film studies abroad\, the members spread their love of cinema through film productions\, mobile screenings\, and publications. Producing over forty films\, the group aspired for freedom of expression and the amplifying of local narratives. \n  \nThis two-part program includes a selection of the Sudanese Film Group’s experimental films using 35mm and 16mm reels\, which were digitally restored by Arsenal Berlin in 2018\, in an effort to preserve this part of cinematic history. The program also includes a more recent film by Eltayeb Mahdi that documents the Sudanese revolution in 2019. \n 
URL:https://arabishway.com/event/sudanese-film-group-then-and-now-part-1/
LOCATION:Virtual
CATEGORIES:Movie
ATTACH;FMTTYPE=image/png:https://arabishway.com/wp-content/uploads/2024/08/Screenshot-2024-08-31-at-4.00.50 PM.png
END:VEVENT
BEGIN:VEVENT
DTSTART;VALUE=DATE:20240919
DTEND;VALUE=DATE:20240925
DTSTAMP:20260423T150336
CREATED:20240831T225726Z
LAST-MODIFIED:20240831T225742Z
UID:10002632-1726704000-1727222399@arabishway.com
SUMMARY:Screening Online: ON LANDSCAPES\, RUINS AND PATTERNS OF REMEMBERING Curated by: Fawz Kabra
DESCRIPTION:Screening Online: Sept. 19 – 24\, 2024 \nRSVP: artearchive.org \nFREE / $5 suggested donation \nON LANDSCAPES\, RUINS AND PATTERNS OF REMEMBERING  is a program of video works that unfold a politics of image-making\, reviewing and recounting social and cultural histories as they are explored through contemporary frameworks. The program is prompted by a work from the ArteArchive—Toukan’s performance video\, Remind me to Remember to Forget (2006)\, after Mahmoud Darwish’s 1982 prose poem\, “Memory for Forgetfulness.” The artist proposes to reverse the act of writing and the will to remember\, consequently dispersing the written word and suspending it in memory and reimagination. \nRevisiting Toukan’s video eighteen years later\, in a global context that remains anxious with war and impending invasions\, Remind me to Remember to Forget is revisited in conversation with works by Alsharif\, Collins\, Hopinka\, Jacir\, and Namy. Through minimalist experiments and lyrical narratives the works address profound violences of colonial erasure of land and people\, the legacies of exile and dispersion\, and our relationship to objects and images when only image and replica remain. \n  \nIn their distinct structural explorations of cycles and repetitions\, these works deal with the promises and devastating blunders of modernity. They connect to land\, time\, and space in a contemporary world charged with a renewed authoritarian tendency that swings from guise and symbolism to blatant and annihilating power. Between lived experiences and replicated environments\, these works present a receding natural world\, real and imagined sites\, and archives that render the architectures of a modern time swept up in a coup of capitalist developments and techno-autocratic fascist regimes. \n  \nON LANDSCAPES\, RUINS AND PATTERNS OF REMEMBERING is co-presented with e-flux.
URL:https://arabishway.com/event/screening-online-on-landscapes-ruins-and-patterns-of-remembering-curated-by-fawz-kabra/
LOCATION:Virtual
CATEGORIES:Movie
ATTACH;FMTTYPE=image/png:https://arabishway.com/wp-content/uploads/2024/08/Screenshot-2024-08-31-at-3.56.15 PM.png
END:VEVENT
END:VCALENDAR