BEGIN:VCALENDAR
VERSION:2.0
PRODID:-//ArabishWay - ECPv6.15.20//NONSGML v1.0//EN
CALSCALE:GREGORIAN
METHOD:PUBLISH
X-WR-CALNAME:ArabishWay
X-ORIGINAL-URL:https://arabishway.com
X-WR-CALDESC:Events for ArabishWay
REFRESH-INTERVAL;VALUE=DURATION:PT1H
X-Robots-Tag:noindex
X-PUBLISHED-TTL:PT1H
BEGIN:VTIMEZONE
TZID:America/Los_Angeles
BEGIN:DAYLIGHT
TZOFFSETFROM:-0800
TZOFFSETTO:-0700
TZNAME:PDT
DTSTART:20230312T100000
END:DAYLIGHT
BEGIN:STANDARD
TZOFFSETFROM:-0700
TZOFFSETTO:-0800
TZNAME:PST
DTSTART:20231105T090000
END:STANDARD
BEGIN:DAYLIGHT
TZOFFSETFROM:-0800
TZOFFSETTO:-0700
TZNAME:PDT
DTSTART:20240310T100000
END:DAYLIGHT
BEGIN:STANDARD
TZOFFSETFROM:-0700
TZOFFSETTO:-0800
TZNAME:PST
DTSTART:20241103T090000
END:STANDARD
BEGIN:DAYLIGHT
TZOFFSETFROM:-0800
TZOFFSETTO:-0700
TZNAME:PDT
DTSTART:20250309T100000
END:DAYLIGHT
BEGIN:STANDARD
TZOFFSETFROM:-0700
TZOFFSETTO:-0800
TZNAME:PST
DTSTART:20251102T090000
END:STANDARD
END:VTIMEZONE
BEGIN:VEVENT
DTSTART;TZID=America/Los_Angeles:20240815T193000
DTEND;TZID=America/Los_Angeles:20240815T210000
DTSTAMP:20260424T060813
CREATED:20240624T214236Z
LAST-MODIFIED:20240624T214302Z
UID:10002487-1723750200-1723755600@arabishway.com
SUMMARY:Movie: Lyd
DESCRIPTION:Lyd is a feature-length\, speculative documentary that follows the rise and fall of Lyd (alternatively Lod\, as it is now called)\, a 5\,000-year-old metropolis that was a bustling Palestinian town\, until it was taken over by the state of Israel. As the film unfolds\, residents create a tapestry of the Palestinian experience of this city and exemplify the trauma left by the 1948 massacre and expulsion. Vivid animations envision an alternate reality where the same people live free from the trauma of the past and the violence of the present. Using never-before-seen archival footage of Israeli soldiers who carried out the massacre and expulsion\, the personified city explains that these events were so devastating that they fractured reality\, and now there are two Lyds — one occupied and one free. As the film cuts between fantastical and documentary realities\, it ultimately leaves the viewer questioning which future should prevail. \nLyd dares to ask the question: what would the city be like had the Israeli occupation of Lyd never happened? \n\n\n\n\nFri Aug 16: 7.30pm PDT\n\n\nSat Aug 17: 4.30pm PDT\n\n\nSun Aug 18: 4.30pm PDT\, 7.30pm PDT
URL:https://arabishway.com/event/movie-lyd-3/
LOCATION:Northwest Film Forum\, 1515 12th Ave\, 2\, Seattle\, WA\, 98122\, United States
CATEGORIES:Movie
ATTACH;FMTTYPE=image/jpeg:https://arabishway.com/wp-content/uploads/2024/06/films_lyd_poster.jpeg
END:VEVENT
END:VCALENDAR