BEGIN:VCALENDAR
VERSION:2.0
PRODID:-//ArabishWay - ECPv6.15.20//NONSGML v1.0//EN
CALSCALE:GREGORIAN
METHOD:PUBLISH
X-ORIGINAL-URL:https://arabishway.com
X-WR-CALDESC:Events for ArabishWay
REFRESH-INTERVAL;VALUE=DURATION:PT1H
X-Robots-Tag:noindex
X-PUBLISHED-TTL:PT1H
BEGIN:VTIMEZONE
TZID:America/Los_Angeles
BEGIN:DAYLIGHT
TZOFFSETFROM:-0800
TZOFFSETTO:-0700
TZNAME:PDT
DTSTART:20230312T100000
END:DAYLIGHT
BEGIN:STANDARD
TZOFFSETFROM:-0700
TZOFFSETTO:-0800
TZNAME:PST
DTSTART:20231105T090000
END:STANDARD
BEGIN:DAYLIGHT
TZOFFSETFROM:-0800
TZOFFSETTO:-0700
TZNAME:PDT
DTSTART:20240310T100000
END:DAYLIGHT
BEGIN:STANDARD
TZOFFSETFROM:-0700
TZOFFSETTO:-0800
TZNAME:PST
DTSTART:20241103T090000
END:STANDARD
BEGIN:DAYLIGHT
TZOFFSETFROM:-0800
TZOFFSETTO:-0700
TZNAME:PDT
DTSTART:20250309T100000
END:DAYLIGHT
BEGIN:STANDARD
TZOFFSETFROM:-0700
TZOFFSETTO:-0800
TZNAME:PST
DTSTART:20251102T090000
END:STANDARD
END:VTIMEZONE
BEGIN:VEVENT
DTSTART;TZID=America/Los_Angeles:20240706T121500
DTEND;TZID=America/Los_Angeles:20240706T143000
DTSTAMP:20260424T004038
CREATED:20240627T221640Z
LAST-MODIFIED:20240627T221714Z
UID:10002522-1720268100-1720276200@arabishway.com
SUMMARY:SIFF Movie: Green Border
DESCRIPTION:Legendary filmmaker Agnieszka Holland won the Golden Lion at the 2023 Venice Film Festival for this ground-level examination of the refugee crisis at the titular exclusion zone between Belarus and Poland\, seen through the eyes of a Syrian family fleeing their war-torn home.
URL:https://arabishway.com/event/movie-green-border-3/
LOCATION:SIFF Cinema Uptown\, 511 Queen Anne Ave N\,\, Seattle\, WA\, 98109\, United States
CATEGORIES:Movie
ATTACH;FMTTYPE=image/jpeg:https://arabishway.com/wp-content/uploads/2024/06/Green-Border.jpeg
END:VEVENT
BEGIN:VEVENT
DTSTART;TZID=America/Los_Angeles:20240706T153000
DTEND;TZID=America/Los_Angeles:20240706T173000
DTSTAMP:20260424T004038
CREATED:20240627T221728Z
LAST-MODIFIED:20240627T221758Z
UID:10002523-1720279800-1720287000@arabishway.com
SUMMARY:SIFF Movie: Green Border
DESCRIPTION:Legendary filmmaker Agnieszka Holland won the Golden Lion at the 2023 Venice Film Festival for this ground-level examination of the refugee crisis at the titular exclusion zone between Belarus and Poland\, seen through the eyes of a Syrian family fleeing their war-torn home.
URL:https://arabishway.com/event/movie-green-border-4/
LOCATION:SIFF Cinema Uptown\, 511 Queen Anne Ave N\,\, Seattle\, WA\, 98109\, United States
CATEGORIES:Movie
ATTACH;FMTTYPE=image/jpeg:https://arabishway.com/wp-content/uploads/2024/06/Green-Border.jpeg
END:VEVENT
BEGIN:VEVENT
DTSTART;TZID=America/Los_Angeles:20240706T184500
DTEND;TZID=America/Los_Angeles:20240706T203000
DTSTAMP:20260424T004038
CREATED:20240627T221806Z
LAST-MODIFIED:20240627T221841Z
UID:10002524-1720291500-1720297800@arabishway.com
SUMMARY:SIFF Movie: Green Border
DESCRIPTION:Legendary filmmaker Agnieszka Holland won the Golden Lion at the 2023 Venice Film Festival for this ground-level examination of the refugee crisis at the titular exclusion zone between Belarus and Poland\, seen through the eyes of a Syrian family fleeing their war-torn home.
URL:https://arabishway.com/event/movie-green-border-5/
LOCATION:SIFF Cinema Uptown\, 511 Queen Anne Ave N\,\, Seattle\, WA\, 98109\, United States
CATEGORIES:Movie
ATTACH;FMTTYPE=image/jpeg:https://arabishway.com/wp-content/uploads/2024/06/Green-Border.jpeg
END:VEVENT
END:VCALENDAR