BEGIN:VCALENDAR
VERSION:2.0
PRODID:-//ArabishWay - ECPv6.15.20//NONSGML v1.0//EN
CALSCALE:GREGORIAN
METHOD:PUBLISH
X-ORIGINAL-URL:https://arabishway.com
X-WR-CALDESC:Events for ArabishWay
REFRESH-INTERVAL;VALUE=DURATION:PT1H
X-Robots-Tag:noindex
X-PUBLISHED-TTL:PT1H
BEGIN:VTIMEZONE
TZID:America/Los_Angeles
BEGIN:DAYLIGHT
TZOFFSETFROM:-0800
TZOFFSETTO:-0700
TZNAME:PDT
DTSTART:20230312T100000
END:DAYLIGHT
BEGIN:STANDARD
TZOFFSETFROM:-0700
TZOFFSETTO:-0800
TZNAME:PST
DTSTART:20231105T090000
END:STANDARD
BEGIN:DAYLIGHT
TZOFFSETFROM:-0800
TZOFFSETTO:-0700
TZNAME:PDT
DTSTART:20240310T100000
END:DAYLIGHT
BEGIN:STANDARD
TZOFFSETFROM:-0700
TZOFFSETTO:-0800
TZNAME:PST
DTSTART:20241103T090000
END:STANDARD
BEGIN:DAYLIGHT
TZOFFSETFROM:-0800
TZOFFSETTO:-0700
TZNAME:PDT
DTSTART:20250309T100000
END:DAYLIGHT
BEGIN:STANDARD
TZOFFSETFROM:-0700
TZOFFSETTO:-0800
TZNAME:PST
DTSTART:20251102T090000
END:STANDARD
END:VTIMEZONE
BEGIN:VEVENT
DTSTART;VALUE=DATE:20240617
DTEND;VALUE=DATE:20240701
DTSTAMP:20260424T004037
CREATED:20240626T172712Z
LAST-MODIFIED:20240626T172712Z
UID:10002510-1718582400-1719791999@arabishway.com
SUMMARY:Cinema: Celebrate Pride: Arab Love
DESCRIPTION:Arab Love is AFMI’s annual program focused on sharing the stories of the LGBTQ+ Arab community around the world. \nThis year’s selection of short films explores the complicated nature of gender and sexuality in relationships\, and the pressure young queer people experience across the Arab world to act a role that is in inauthentic to their true selves. \nFilms included: \n\nYa Benti by Anissa Allali\nSahbety (My Girl Friend) by Kawthar Younis\nCousins by Karina Dandashi\nConditional Desire by Houcem Slouli\nEitr by Fateema Al-Hamaydeh Miller\n\nAvailable online starting today\, June 17th\, through June 30th. Pay what you can to get access. \nPlease note that this program is only available in the USA. \nPsst: looking for more films to watch? Check out our updated list of Queer Arab Films to watch during Pride month.
URL:https://arabishway.com/event/cinema-celebrate-pride-arab-love/
LOCATION:Virtual
CATEGORIES:Movie
ATTACH;FMTTYPE=image/png:https://arabishway.com/wp-content/uploads/2024/06/Arab-Love.png
END:VEVENT
END:VCALENDAR