BEGIN:VCALENDAR
VERSION:2.0
PRODID:-//ArabishWay - ECPv6.15.20//NONSGML v1.0//EN
CALSCALE:GREGORIAN
METHOD:PUBLISH
X-WR-CALNAME:ArabishWay
X-ORIGINAL-URL:https://arabishway.com
X-WR-CALDESC:Events for ArabishWay
REFRESH-INTERVAL;VALUE=DURATION:PT1H
X-Robots-Tag:noindex
X-PUBLISHED-TTL:PT1H
BEGIN:VTIMEZONE
TZID:America/Los_Angeles
BEGIN:DAYLIGHT
TZOFFSETFROM:-0800
TZOFFSETTO:-0700
TZNAME:PDT
DTSTART:20230312T100000
END:DAYLIGHT
BEGIN:STANDARD
TZOFFSETFROM:-0700
TZOFFSETTO:-0800
TZNAME:PST
DTSTART:20231105T090000
END:STANDARD
BEGIN:DAYLIGHT
TZOFFSETFROM:-0800
TZOFFSETTO:-0700
TZNAME:PDT
DTSTART:20240310T100000
END:DAYLIGHT
BEGIN:STANDARD
TZOFFSETFROM:-0700
TZOFFSETTO:-0800
TZNAME:PST
DTSTART:20241103T090000
END:STANDARD
BEGIN:DAYLIGHT
TZOFFSETFROM:-0800
TZOFFSETTO:-0700
TZNAME:PDT
DTSTART:20250309T100000
END:DAYLIGHT
BEGIN:STANDARD
TZOFFSETFROM:-0700
TZOFFSETTO:-0800
TZNAME:PST
DTSTART:20251102T090000
END:STANDARD
END:VTIMEZONE
BEGIN:VEVENT
DTSTART;VALUE=DATE:20240520
DTEND;VALUE=DATE:20240528
DTSTAMP:20260424T033455
CREATED:20240425T034102Z
LAST-MODIFIED:20240425T034226Z
UID:10002385-1716163200-1716854399@arabishway.com
SUMMARY:SIFF: Dancing on the Edge of a Volcano [Lebanon]
DESCRIPTION:While shooting Costa Brava\, Lebanon (SIFF 2022)\, the film crew’s world stopped when Lebanon’s Port of Beirut suddenly exploded\, killing over 200 people and injuring thousands more. What does it mean to strive for human dignity and make art amid a country’s continuing turmoil? \n 
URL:https://arabishway.com/event/dancing-on-the-edge-streaming/
LOCATION:Virtual
CATEGORIES:Movie
ATTACH;FMTTYPE=image/png:https://arabishway.com/wp-content/uploads/2024/04/Dancing-on-the-Edge-of-a-Volcano-1080-x-1920-px-e1713982359410.png
ORGANIZER;CN="Seattle International Film Festival (SIFF)":MAILTO:info@siff.net
END:VEVENT
BEGIN:VEVENT
DTSTART;VALUE=DATE:20240520
DTEND;VALUE=DATE:20240528
DTSTAMP:20260424T033455
CREATED:20240425T032914Z
LAST-MODIFIED:20240425T032956Z
UID:10002382-1716163200-1716854399@arabishway.com
SUMMARY:SIFF: The Mother of All Lies [Morocco]
DESCRIPTION:How do you reconstruct the past when all traces of that past have been erased? This is the dilemma that confronts filmmaker Asmae El Moudir\, in terms of both her personal history and the history of her country. In terms of her personal history\, her tyrannical grandmother has forbidden the taking of photographs in the family\, seemingly as part of a larger obfuscation of the past. In the absence of photographs\, El Moudir enlists her father\, a successful builder\, to help her construct an elaborate diorama of the street where the family lived during her childhood\, in the Sebata district of Casablanca. She populates the diorama with miniature clay figurines of her family\, friends\, and neighbors. Their real-life counterparts are then invited to revisit their memories of that time and place—in particular the 1981 Casablanca Bread Riots\, protests over the price of bread that were brutally suppressed by the police and military. On El Moudir’s street alone\, a girl her age named Fatima was killed in the street; neighbors Saïd and Abdallah were seized and tortured. These events have been suppressed in El Moudir’s family history\, as well as in the national history. But El Moudir recreates them\, retrieving what might otherwise be lost; bringing family secrets and memories to light\, and achieving some measure of justice\, if only in miniature. \n 
URL:https://arabishway.com/event/siff-the-mother-of-lies-streaming/
LOCATION:Virtual
CATEGORIES:Movie
ATTACH;FMTTYPE=image/png:https://arabishway.com/wp-content/uploads/2024/04/The-Mother-of-All-Lies-1080-x-1080-px-e1714015142831.png
END:VEVENT
BEGIN:VEVENT
DTSTART;TZID=America/Los_Angeles:20240521T163000
DTEND;TZID=America/Los_Angeles:20240521T183000
DTSTAMP:20260424T033455
CREATED:20240410T013944Z
LAST-MODIFIED:20240410T014018Z
UID:10002345-1716309000-1716316200@arabishway.com
SUMMARY:Movie: The Old Oak
DESCRIPTION:The Old Oak is a special place. Not only is it the last pub standing in its small northern town\, but it’s also the only remaining public space where people can meet in a once thriving mining community that has now fallen on hard times after 30 years of decline. Its owner TJ Ballantyne (Dave Turner) hangs on to The Old Oak by his fingertips\, and his predicament is endangered even more when the pub becomes contested territory after the arrival of Syrian refugees who are placed in the village without any notice. In an unlikely friendship\, TJ meets a curious young Syrian photographer named Yara (Ebla Mari). Together can they find a way for the two communities to understand each other? So unfolds a deeply moving drama about their fragilities and hopes.
URL:https://arabishway.com/event/movie-the-old-oak-11/
LOCATION:The Beacon\, 4405 Rainier Ave S\, Seattle\, WA\, 98118\, United States
CATEGORIES:Movie
ATTACH;FMTTYPE=image/png:https://arabishway.com/wp-content/uploads/2024/04/Old-Oak.png
END:VEVENT
END:VCALENDAR