BEGIN:VCALENDAR
VERSION:2.0
PRODID:-//ArabishWay - ECPv6.15.20//NONSGML v1.0//EN
CALSCALE:GREGORIAN
METHOD:PUBLISH
X-ORIGINAL-URL:https://arabishway.com
X-WR-CALDESC:Events for ArabishWay
REFRESH-INTERVAL;VALUE=DURATION:PT1H
X-Robots-Tag:noindex
X-PUBLISHED-TTL:PT1H
BEGIN:VTIMEZONE
TZID:America/Los_Angeles
BEGIN:DAYLIGHT
TZOFFSETFROM:-0800
TZOFFSETTO:-0700
TZNAME:PDT
DTSTART:20230312T100000
END:DAYLIGHT
BEGIN:STANDARD
TZOFFSETFROM:-0700
TZOFFSETTO:-0800
TZNAME:PST
DTSTART:20231105T090000
END:STANDARD
BEGIN:DAYLIGHT
TZOFFSETFROM:-0800
TZOFFSETTO:-0700
TZNAME:PDT
DTSTART:20240310T100000
END:DAYLIGHT
BEGIN:STANDARD
TZOFFSETFROM:-0700
TZOFFSETTO:-0800
TZNAME:PST
DTSTART:20241103T090000
END:STANDARD
BEGIN:DAYLIGHT
TZOFFSETFROM:-0800
TZOFFSETTO:-0700
TZNAME:PDT
DTSTART:20250309T100000
END:DAYLIGHT
BEGIN:STANDARD
TZOFFSETFROM:-0700
TZOFFSETTO:-0800
TZNAME:PST
DTSTART:20251102T090000
END:STANDARD
END:VTIMEZONE
BEGIN:VEVENT
DTSTART;VALUE=DATE:20240515
DTEND;VALUE=DATE:20240520
DTSTAMP:20260424T020015
CREATED:20240323T135950Z
LAST-MODIFIED:20240531T172003Z
UID:10002308-1715731200-1716163199@arabishway.com
SUMMARY:AANM: Arab Film Festival
DESCRIPTION:SAVE THE DATE : AANM’s Arab Film Festival is just around the corner!\nMay 15-19\, 2024 \nAANM proudly hosts the annual Arab Film Festival (AFF) featuring the best of critically acclaimed and award-winning Arab American and Arab world films\, many of which are unlikely to reach traditional American commercial theaters. \nThis year’s festival will include special events like an artist workshop\, a filmmakers mixer and a concert with special guests! Stay tuned for more info…
URL:https://arabishway.com/event/aanm-arab-film-festival-2/
LOCATION:Virtual
CATEGORIES:Movie
ATTACH;FMTTYPE=image/png:https://arabishway.com/wp-content/uploads/2024/03/Arab-Film-Fest-AANM-e1711202316161.png
END:VEVENT
BEGIN:VEVENT
DTSTART;TZID=America/Los_Angeles:20240518T130000
DTEND;TZID=America/Los_Angeles:20240518T150000
DTSTAMP:20260424T020015
CREATED:20240410T013737Z
LAST-MODIFIED:20240410T013822Z
UID:10002343-1716037200-1716044400@arabishway.com
SUMMARY:Movie: The Old Oak
DESCRIPTION:The Old Oak is a special place. Not only is it the last pub standing in its small northern town\, but it’s also the only remaining public space where people can meet in a once thriving mining community that has now fallen on hard times after 30 years of decline. Its owner TJ Ballantyne (Dave Turner) hangs on to The Old Oak by his fingertips\, and his predicament is endangered even more when the pub becomes contested territory after the arrival of Syrian refugees who are placed in the village without any notice. In an unlikely friendship\, TJ meets a curious young Syrian photographer named Yara (Ebla Mari). Together can they find a way for the two communities to understand each other? So unfolds a deeply moving drama about their fragilities and hopes.
URL:https://arabishway.com/event/movie-the-old-oak-9/
LOCATION:The Beacon\, 4405 Rainier Ave S\, Seattle\, WA\, 98118\, United States
CATEGORIES:Movie
ATTACH;FMTTYPE=image/png:https://arabishway.com/wp-content/uploads/2024/04/Old-Oak.png
END:VEVENT
BEGIN:VEVENT
DTSTART;TZID=America/Los_Angeles:20240518T173000
DTEND;TZID=America/Los_Angeles:20240518T193000
DTSTAMP:20260424T020015
CREATED:20240425T032443Z
LAST-MODIFIED:20240425T032530Z
UID:10002380-1716053400-1716060600@arabishway.com
SUMMARY:SIFF: Three Promises [Palestine]
DESCRIPTION:In the early 2000s\, when the Israeli army was retaliating against the Second Intifada in the West Bank in Palestine\, Suha filmed the experience from the hillside town of Beit Jala\, where she lived with her family. Two decades later\, her son has edited that footage and interwoven it with present-day conversations with his mother about what that period was like. The result provides a remarkable insight into daily life during wartime—the uncertainty\, the upheaval\, the terror—which families in Gaza are experiencing today. Suha and her husband try to gauge the distance of the attacks in order to calculate the degree of threat. Is it time to go down to the basement\, or is it still okay to remain upstairs? Will the children be safer against the wall or in the corner? At the moments of greatest danger\, Suha promises God that\, if they survive\, they will leave—they are fortunate enough to be able to do so. But leaving feels almost as impossible as staying\, a choice between emotional anguish (not to mention the logistical ordeal) and physical jeopardy. In this way\, the film is also an exploration of the topic of forced migration\, another aspect of the Palestinian experience that is still with us in the present. \n  \n 
URL:https://arabishway.com/event/three-promises-2/
LOCATION:SIFF Film Center\, 305 Harrison St\, Seattle\, 98109
CATEGORIES:Movie
ATTACH;FMTTYPE=image/png:https://arabishway.com/wp-content/uploads/2024/04/Arabic-Cinema-1080x1080-1.png
ORGANIZER;CN="Seattle International Film Festival (SIFF)":MAILTO:info@siff.net
END:VEVENT
END:VCALENDAR