BEGIN:VCALENDAR
VERSION:2.0
PRODID:-//ArabishWay - ECPv6.15.20//NONSGML v1.0//EN
CALSCALE:GREGORIAN
METHOD:PUBLISH
X-WR-CALNAME:ArabishWay
X-ORIGINAL-URL:https://arabishway.com
X-WR-CALDESC:Events for ArabishWay
REFRESH-INTERVAL;VALUE=DURATION:PT1H
X-Robots-Tag:noindex
X-PUBLISHED-TTL:PT1H
BEGIN:VTIMEZONE
TZID:America/Los_Angeles
BEGIN:DAYLIGHT
TZOFFSETFROM:-0800
TZOFFSETTO:-0700
TZNAME:PDT
DTSTART:20230312T100000
END:DAYLIGHT
BEGIN:STANDARD
TZOFFSETFROM:-0700
TZOFFSETTO:-0800
TZNAME:PST
DTSTART:20231105T090000
END:STANDARD
BEGIN:DAYLIGHT
TZOFFSETFROM:-0800
TZOFFSETTO:-0700
TZNAME:PDT
DTSTART:20240310T100000
END:DAYLIGHT
BEGIN:STANDARD
TZOFFSETFROM:-0700
TZOFFSETTO:-0800
TZNAME:PST
DTSTART:20241103T090000
END:STANDARD
BEGIN:DAYLIGHT
TZOFFSETFROM:-0800
TZOFFSETTO:-0700
TZNAME:PDT
DTSTART:20250309T100000
END:DAYLIGHT
BEGIN:STANDARD
TZOFFSETFROM:-0700
TZOFFSETTO:-0800
TZNAME:PST
DTSTART:20251102T090000
END:STANDARD
END:VTIMEZONE
BEGIN:VEVENT
DTSTART;TZID=America/Los_Angeles:20240514T133000
DTEND;TZID=America/Los_Angeles:20240514T153000
DTSTAMP:20260424T033439
CREATED:20240424T172924Z
LAST-MODIFIED:20240425T031446Z
UID:10002372-1715693400-1715700600@arabishway.com
SUMMARY:SIFF: The Burdened (Yemen)
DESCRIPTION:Films from Yemen are rare\, in part because of the country’s long-running civil war\, now in its tenth year. Indeed\, the impact of the war on the country and its citizens—there’s no running water; electricity is erratic; warring factions struggle for control—is one of the burdens faced by middle-class couple Isra’a and Ahmed. Ahmed works for Aden Television\, but as a result of the country’s economic crisis\, his salary has been suspended for several months. Meanwhile\, he’s taken a second job as a taxi driver\, but it isn’t enough to keep them and their three children in their comfortable apartment. Isra’a\, who has also lost her job\, sells her jewelry to make ends meet. This is the context in which Isra’a realizes that she is pregnant. Keenly aware that they cannot afford a fourth child\, she is also worried about whether abortion is permitted under Islam. Religious and public opinion on the issue vary\, which means that Isra’a’s personal misgivings are only the beginning. Clear-eyed\, understated\, and compelling\, The Burdened tells a story that is at once specific to Yemen’s particular context\, and relatable in any country where religion and politics threaten people’s ability to access the healthcare they need\, and take care of themselves and their families. \n 
URL:https://arabishway.com/event/siff-the-burdened-yemen-2/
LOCATION:SIFF Egyptian\, 805 E Pine St\, Seattle\, WA\, 98122
CATEGORIES:Movie
ATTACH;FMTTYPE=image/png:https://arabishway.com/wp-content/uploads/2024/04/The-Burdened-1080-x-1920-px-e1713980172592.png
END:VEVENT
BEGIN:VEVENT
DTSTART;TZID=America/Los_Angeles:20240514T133000
DTEND;TZID=America/Los_Angeles:20240514T153000
DTSTAMP:20260424T033439
CREATED:20240425T033548Z
LAST-MODIFIED:20240430T215754Z
UID:10002384-1715693400-1715700600@arabishway.com
SUMMARY:SIFF: Voy! Voy! Voy! [Egypt]
DESCRIPTION:How far would you go to change your life? In Egypt’s official Oscar® submission\, Hassan is desperate to leave his home country. With few options left\, he pretends to be blind so he can join a disabled soccer team headed to Poland. Inspired by an unbelievable true story. \n 
URL:https://arabishway.com/event/siff-voy-voy-voy-2/
LOCATION:SIFF Cinema Uptown\, 511 Queen Anne Ave N\,\, Seattle\, WA\, 98109\, United States
CATEGORIES:Movie
ATTACH;FMTTYPE=image/png:https://arabishway.com/wp-content/uploads/2024/04/Voy-Voy-Voy-1080-x-1920-px-e1714016053545.png
END:VEVENT
BEGIN:VEVENT
DTSTART;TZID=America/Los_Angeles:20240514T193000
DTEND;TZID=America/Los_Angeles:20240514T213000
DTSTAMP:20260424T033439
CREATED:20240410T013230Z
LAST-MODIFIED:20240410T013325Z
UID:10002339-1715715000-1715722200@arabishway.com
SUMMARY:Movie: The Old Oak
DESCRIPTION:The Old Oak is a special place. Not only is it the last pub standing in its small northern town\, but it’s also the only remaining public space where people can meet in a once thriving mining community that has now fallen on hard times after 30 years of decline. Its owner TJ Ballantyne (Dave Turner) hangs on to The Old Oak by his fingertips\, and his predicament is endangered even more when the pub becomes contested territory after the arrival of Syrian refugees who are placed in the village without any notice. In an unlikely friendship\, TJ meets a curious young Syrian photographer named Yara (Ebla Mari). Together can they find a way for the two communities to understand each other? So unfolds a deeply moving drama about their fragilities and hopes.
URL:https://arabishway.com/event/movie-the-old-oak-5/
LOCATION:The Beacon\, 4405 Rainier Ave S\, Seattle\, WA\, 98118\, United States
CATEGORIES:Movie
ATTACH;FMTTYPE=image/png:https://arabishway.com/wp-content/uploads/2024/04/Old-Oak.png
END:VEVENT
BEGIN:VEVENT
DTSTART;TZID=America/Los_Angeles:20240514T210000
DTEND;TZID=America/Los_Angeles:20240514T230000
DTSTAMP:20260424T033439
CREATED:20240425T031528Z
LAST-MODIFIED:20240425T032050Z
UID:10002378-1715720400-1715727600@arabishway.com
SUMMARY:SIFF: The Mother of All Lies (Morocco)
DESCRIPTION:How do you reconstruct the past when all traces of that past have been erased? This is the dilemma that confronts filmmaker Asmae El Moudir\, in terms of both her personal history and the history of her country. In terms of her personal history\, her tyrannical grandmother has forbidden the taking of photographs in the family\, seemingly as part of a larger obfuscation of the past. In the absence of photographs\, El Moudir enlists her father\, a successful builder\, to help her construct an elaborate diorama of the street where the family lived during her childhood\, in the Sebata district of Casablanca. She populates the diorama with miniature clay figurines of her family\, friends\, and neighbors. Their real-life counterparts are then invited to revisit their memories of that time and place—in particular the 1981 Casablanca Bread Riots\, protests over the price of bread that were brutally suppressed by the police and military. On El Moudir’s street alone\, a girl her age named Fatima was killed in the street; neighbors Saïd and Abdallah were seized and tortured. These events have been suppressed in El Moudir’s family history\, as well as in the national history. But El Moudir recreates them\, retrieving what might otherwise be lost; bringing family secrets and memories to light\, and achieving some measure of justice\, if only in miniature. \n 
URL:https://arabishway.com/event/siff-the-mother-of-lies/
LOCATION:AMC Pacific Place\, 600 Pine St suite 400\, Seattle\, WA\, 98101\, United States
CATEGORIES:Movie
ATTACH;FMTTYPE=image/png:https://arabishway.com/wp-content/uploads/2024/04/The-Mother-of-All-Lies-1080-x-1080-px-e1714015142831.png
END:VEVENT
END:VCALENDAR