BEGIN:VCALENDAR
VERSION:2.0
PRODID:-//ArabishWay - ECPv6.15.20//NONSGML v1.0//EN
CALSCALE:GREGORIAN
METHOD:PUBLISH
X-ORIGINAL-URL:https://arabishway.com
X-WR-CALDESC:Events for ArabishWay
REFRESH-INTERVAL;VALUE=DURATION:PT1H
X-Robots-Tag:noindex
X-PUBLISHED-TTL:PT1H
BEGIN:VTIMEZONE
TZID:America/Los_Angeles
BEGIN:DAYLIGHT
TZOFFSETFROM:-0800
TZOFFSETTO:-0700
TZNAME:PDT
DTSTART:20230312T100000
END:DAYLIGHT
BEGIN:STANDARD
TZOFFSETFROM:-0700
TZOFFSETTO:-0800
TZNAME:PST
DTSTART:20231105T090000
END:STANDARD
BEGIN:DAYLIGHT
TZOFFSETFROM:-0800
TZOFFSETTO:-0700
TZNAME:PDT
DTSTART:20240310T100000
END:DAYLIGHT
BEGIN:STANDARD
TZOFFSETFROM:-0700
TZOFFSETTO:-0800
TZNAME:PST
DTSTART:20241103T090000
END:STANDARD
BEGIN:DAYLIGHT
TZOFFSETFROM:-0800
TZOFFSETTO:-0700
TZNAME:PDT
DTSTART:20250309T100000
END:DAYLIGHT
BEGIN:STANDARD
TZOFFSETFROM:-0700
TZOFFSETTO:-0800
TZNAME:PST
DTSTART:20251102T090000
END:STANDARD
END:VTIMEZONE
BEGIN:VEVENT
DTSTART;TZID=America/Los_Angeles:20240511T133000
DTEND;TZID=America/Los_Angeles:20240511T153000
DTSTAMP:20260424T020013
CREATED:20240425T040350Z
LAST-MODIFIED:20240425T044705Z
UID:10002386-1715434200-1715441400@arabishway.com
SUMMARY:SIFF: The Ride Ahead
DESCRIPTION:Samuel Habib is an adventurous\, cool\, 20-year-old disabled guy who says things like\, “Taking risks makes me feel proud\, powerful\, confident\, bold.” He doesn’t want much for his adult life\, just to “move into my own place\, get married\, and maybe have kids.” The Ride Ahead documents three years of Samuel’s search for how he can achieve things that feel so daunting for disabled folks; security\, independence\, and girlfriends. With the help of his father\, filmmaker Daniel Habib\, Sam outfits his chair with two video cameras\, enabling the audience to see Samuel’s actual point-of-view and how people interact with him. Samuel tells his own story\, in his own voice\, with the assistance of lovely animation by Xilia Faye and Ben Luce. The question of how to live a great life as a disabled badass propels Samuel to interview leading disability activists and advocates Judy Heumann\, Bob Williams\, Keith Jones\, Ali Stroker\, Maysoon Zayid\, Andrew Peterson\, and Lydia X.Y. Brown. \n 
URL:https://arabishway.com/event/siff-the-ride-ahead/
LOCATION:SIFF Cinema Uptown\, 511 Queen Anne Ave N\,\, Seattle\, WA\, 98109\, United States
CATEGORIES:Movie
ATTACH;FMTTYPE=image/jpeg:https://arabishway.com/wp-content/uploads/2024/04/RideAhead.jpg
ORGANIZER;CN="Seattle International Film Festival (SIFF)":MAILTO:info@siff.net
END:VEVENT
BEGIN:VEVENT
DTSTART;TZID=America/Los_Angeles:20240511T190000
DTEND;TZID=America/Los_Angeles:20240511T210000
DTSTAMP:20260424T020013
CREATED:20240410T012912Z
LAST-MODIFIED:20240410T012954Z
UID:10002336-1715454000-1715461200@arabishway.com
SUMMARY:Movie: The Old Oak
DESCRIPTION:The Old Oak is a special place. Not only is it the last pub standing in its small northern town\, but it’s also the only remaining public space where people can meet in a once thriving mining community that has now fallen on hard times after 30 years of decline. Its owner TJ Ballantyne (Dave Turner) hangs on to The Old Oak by his fingertips\, and his predicament is endangered even more when the pub becomes contested territory after the arrival of Syrian refugees who are placed in the village without any notice. In an unlikely friendship\, TJ meets a curious young Syrian photographer named Yara (Ebla Mari). Together can they find a way for the two communities to understand each other? So unfolds a deeply moving drama about their fragilities and hopes.
URL:https://arabishway.com/event/movie-the-old-oak-2/
LOCATION:The Beacon\, 4405 Rainier Ave S\, Seattle\, WA\, 98118\, United States
CATEGORIES:Movie
ATTACH;FMTTYPE=image/png:https://arabishway.com/wp-content/uploads/2024/04/Old-Oak.png
END:VEVENT
BEGIN:VEVENT
DTSTART;TZID=America/Los_Angeles:20240511T193000
DTEND;TZID=America/Los_Angeles:20240511T213000
DTSTAMP:20260424T020013
CREATED:20240425T044723Z
LAST-MODIFIED:20240425T050441Z
UID:10002387-1715455800-1715463000@arabishway.com
SUMMARY:SIFF: Stress Positions
DESCRIPTION:Alt comic John Early (“Search Party”)\, Amy Zimmer (Problemista)\, writer/director Theda Hammel (“My Trip to Spain”)\, and newcomer Qaher Harhash star is this frantic\, coarse\, and bitterly funny ensemble comedy set at a pandemic-era Brooklyn brownstone.
URL:https://arabishway.com/event/siff-stress-positions/
LOCATION:SIFF Cinema Uptown\, 511 Queen Anne Ave N\,\, Seattle\, WA\, 98109\, United States
CATEGORIES:Movie
ATTACH;FMTTYPE=image/png:https://arabishway.com/wp-content/uploads/2024/04/Screenshot-2024-04-24-at-9.52.08-PM-e1714020995526.png
ORGANIZER;CN="Seattle International Film Festival (SIFF)":MAILTO:info@siff.net
END:VEVENT
BEGIN:VEVENT
DTSTART;TZID=America/Los_Angeles:20240511T211500
DTEND;TZID=America/Los_Angeles:20240511T231500
DTSTAMP:20260424T020013
CREATED:20240425T033046Z
LAST-MODIFIED:20240430T214558Z
UID:10002383-1715462100-1715469300@arabishway.com
SUMMARY:SIFF: Voy! Voy! Voy! [Egypt]
DESCRIPTION:How far would you go to change your life? In Egypt’s official Oscar® submission\, Hassan is desperate to leave his home country. With few options left\, he pretends to be blind so he can join a disabled soccer team headed to Poland. Inspired by an unbelievable true story.
URL:https://arabishway.com/event/siff-voy-voy-voy/
LOCATION:AMC Pacific Place\, 600 Pine St suite 400\, Seattle\, WA\, 98101\, United States
CATEGORIES:Movie
ATTACH;FMTTYPE=image/png:https://arabishway.com/wp-content/uploads/2024/04/Voy-Voy-Voy-1080-x-1920-px-e1714016053545.png
END:VEVENT
END:VCALENDAR