BEGIN:VCALENDAR
VERSION:2.0
PRODID:-//ArabishWay - ECPv6.15.20//NONSGML v1.0//EN
CALSCALE:GREGORIAN
METHOD:PUBLISH
X-ORIGINAL-URL:https://arabishway.com
X-WR-CALDESC:Events for ArabishWay
REFRESH-INTERVAL;VALUE=DURATION:PT1H
X-Robots-Tag:noindex
X-PUBLISHED-TTL:PT1H
BEGIN:VTIMEZONE
TZID:America/Los_Angeles
BEGIN:DAYLIGHT
TZOFFSETFROM:-0800
TZOFFSETTO:-0700
TZNAME:PDT
DTSTART:20230312T100000
END:DAYLIGHT
BEGIN:STANDARD
TZOFFSETFROM:-0700
TZOFFSETTO:-0800
TZNAME:PST
DTSTART:20231105T090000
END:STANDARD
BEGIN:DAYLIGHT
TZOFFSETFROM:-0800
TZOFFSETTO:-0700
TZNAME:PDT
DTSTART:20240310T100000
END:DAYLIGHT
BEGIN:STANDARD
TZOFFSETFROM:-0700
TZOFFSETTO:-0800
TZNAME:PST
DTSTART:20241103T090000
END:STANDARD
BEGIN:DAYLIGHT
TZOFFSETFROM:-0800
TZOFFSETTO:-0700
TZNAME:PDT
DTSTART:20250309T100000
END:DAYLIGHT
BEGIN:STANDARD
TZOFFSETFROM:-0700
TZOFFSETTO:-0800
TZNAME:PST
DTSTART:20251102T090000
END:STANDARD
END:VTIMEZONE
BEGIN:VEVENT
DTSTART;TZID=America/Los_Angeles:20240510T130000
DTEND;TZID=America/Los_Angeles:20240510T150000
DTSTAMP:20260424T015929
CREATED:20240425T030247Z
LAST-MODIFIED:20240425T031135Z
UID:10002376-1715346000-1715353200@arabishway.com
SUMMARY:SIFF: Hajjan [Saudi Arabia]
DESCRIPTION:In the Saudi Arabian desert\, teenage Matar and his camel Hofira are inseparable. But when his older brother dies\, Matar’s only chance of saving Hofira is to become a “hajjan\,” or jockey\, and join the winner-takes-all world of Bedouin camel racing. \n 
URL:https://arabishway.com/event/hajjan/
LOCATION:SIFF Cinema Uptown\, 511 Queen Anne Ave N\,\, Seattle\, WA\, 98109\, United States
CATEGORIES:Movie
ATTACH;FMTTYPE=image/png:https://arabishway.com/wp-content/uploads/2024/04/Hajjan-1080-x-1080-px-e1713982306951.png
ORGANIZER;CN="Seattle International Film Festival (SIFF)":MAILTO:info@siff.net
END:VEVENT
BEGIN:VEVENT
DTSTART;TZID=America/Los_Angeles:20240510T160000
DTEND;TZID=America/Los_Angeles:20240510T180000
DTSTAMP:20260424T015929
CREATED:20240424T174738Z
LAST-MODIFIED:20240425T034359Z
UID:10002374-1715356800-1715364000@arabishway.com
SUMMARY:SIFF: Dancing on the Edge of a Volcano [Lebanon]
DESCRIPTION:While shooting Costa Brava\, Lebanon (SIFF 2022)\, the film crew’s world stopped when Lebanon’s Port of Beirut suddenly exploded\, killing over 200 people and injuring thousands more. What does it mean to strive for human dignity and make art amid a country’s continuing turmoil? \n 
URL:https://arabishway.com/event/dancing-on-the-edge/
LOCATION:SIFF Cinema Uptown\, 511 Queen Anne Ave N\,\, Seattle\, WA\, 98109\, United States
CATEGORIES:Movie
ATTACH;FMTTYPE=image/png:https://arabishway.com/wp-content/uploads/2024/04/Dancing-on-the-Edge-of-a-Volcano-1080-x-1920-px-e1713982359410.png
ORGANIZER;CN="Seattle International Film Festival (SIFF)":MAILTO:info@siff.net
END:VEVENT
BEGIN:VEVENT
DTSTART;TZID=America/Los_Angeles:20240510T190000
DTEND;TZID=America/Los_Angeles:20240510T210000
DTSTAMP:20260424T015929
CREATED:20240410T012841Z
LAST-MODIFIED:20240410T012905Z
UID:10002335-1715367600-1715374800@arabishway.com
SUMMARY:Movie: The Old Oak
DESCRIPTION:The Old Oak is a special place. Not only is it the last pub standing in its small northern town\, but it’s also the only remaining public space where people can meet in a once thriving mining community that has now fallen on hard times after 30 years of decline. Its owner TJ Ballantyne (Dave Turner) hangs on to The Old Oak by his fingertips\, and his predicament is endangered even more when the pub becomes contested territory after the arrival of Syrian refugees who are placed in the village without any notice. In an unlikely friendship\, TJ meets a curious young Syrian photographer named Yara (Ebla Mari). Together can they find a way for the two communities to understand each other? So unfolds a deeply moving drama about their fragilities and hopes.
URL:https://arabishway.com/event/movie-the-old-oak/
LOCATION:The Beacon\, 4405 Rainier Ave S\, Seattle\, WA\, 98118\, United States
CATEGORIES:Movie
ATTACH;FMTTYPE=image/png:https://arabishway.com/wp-content/uploads/2024/04/Old-Oak.png
END:VEVENT
END:VCALENDAR